BEGIN:VCALENDAR
VERSION:2.0
PRODID:-//Patricia Parente Reiki - ECPv6.15.20//NONSGML v1.0//EN
CALSCALE:GREGORIAN
METHOD:PUBLISH
X-WR-CALNAME:Patricia Parente Reiki
X-ORIGINAL-URL:https://patriciaparentereiki.com
X-WR-CALDESC:Events for Patricia Parente Reiki
REFRESH-INTERVAL;VALUE=DURATION:PT1H
X-Robots-Tag:noindex
X-PUBLISHED-TTL:PT1H
BEGIN:VTIMEZONE
TZID:UTC
BEGIN:STANDARD
TZOFFSETFROM:+0000
TZOFFSETTO:+0000
TZNAME:UTC
DTSTART:20240101T000000
END:STANDARD
END:VTIMEZONE
BEGIN:VEVENT
DTSTART;TZID=UTC:20250702T190000
DTEND;TZID=UTC:20250702T200000
DTSTAMP:20260423T211629
CREATED:20250612T221517Z
LAST-MODIFIED:20250612T221517Z
UID:5746-1751482800-1751486400@patriciaparentereiki.com
SUMMARY:Community Chat
DESCRIPTION:Community Chat – Meditation – Workshop \nSo much more than a “chat”!  An opportunity to meet with others via an online (Zoom) meeting room. Join in to say a quick hello or stay the hour. Pat will share the latest guidance received.   Healing energies and/or meditations are provided based on what would be helpful to the group/humanity. \nAll on the PPR Mailing List will receive an email invitation\, which includes the link to the meeting.  If you would like to be added to the mailing list\, contact Pat at reachus@patriciaparentereiki.com Hope to see you online!
URL:https://patriciaparentereiki.com/event/community-chat-9/
CATEGORIES:Events - Special
END:VEVENT
BEGIN:VEVENT
DTSTART;TZID=UTC:20250716T190000
DTEND;TZID=UTC:20250716T200000
DTSTAMP:20260423T211629
CREATED:20250612T221551Z
LAST-MODIFIED:20250612T221551Z
UID:5748-1752692400-1752696000@patriciaparentereiki.com
SUMMARY:Community Chat
DESCRIPTION:Community Chat – Meditation – Workshop \nSo much more than a “chat”!  An opportunity to meet with others via an online (Zoom) meeting room. Join in to say a quick hello or stay the hour. Pat will share the latest guidance received.   Healing energies and/or meditations are provided based on what would be helpful to the group/humanity. \nAll on the PPR Mailing List will receive an email invitation\, which includes the link to the meeting.  If you would like to be added to the mailing list\, contact Pat at reachus@patriciaparentereiki.com Hope to see you online!
URL:https://patriciaparentereiki.com/event/community-chat-10/
CATEGORIES:Events - Special
END:VEVENT
BEGIN:VEVENT
DTSTART;TZID=UTC:20250730T190000
DTEND;TZID=UTC:20250730T200000
DTSTAMP:20260423T211629
CREATED:20250612T221623Z
LAST-MODIFIED:20250612T221629Z
UID:5750-1753902000-1753905600@patriciaparentereiki.com
SUMMARY:Community Chat
DESCRIPTION:Community Chat – Meditation – Workshop \nSo much more than a “chat”!  An opportunity to meet with others via an online (Zoom) meeting room. Join in to say a quick hello or stay the hour. Pat will share the latest guidance received.   Healing energies and/or meditations are provided based on what would be helpful to the group/humanity. \nAll on the PPR Mailing List will receive an email invitation\, which includes the link to the meeting.  If you would like to be added to the mailing list\, contact Pat at reachus@patriciaparentereiki.com Hope to see you online!
URL:https://patriciaparentereiki.com/event/community-chat-11/
CATEGORIES:Events - Special
END:VEVENT
END:VCALENDAR