BEGIN:VCALENDAR
VERSION:2.0
PRODID:-//Patricia Parente Reiki - ECPv6.15.20//NONSGML v1.0//EN
CALSCALE:GREGORIAN
METHOD:PUBLISH
X-ORIGINAL-URL:https://patriciaparentereiki.com
X-WR-CALDESC:Events for Patricia Parente Reiki
REFRESH-INTERVAL;VALUE=DURATION:PT1H
X-Robots-Tag:noindex
X-PUBLISHED-TTL:PT1H
BEGIN:VTIMEZONE
TZID:UTC
BEGIN:STANDARD
TZOFFSETFROM:+0000
TZOFFSETTO:+0000
TZNAME:UTC
DTSTART:20240101T000000
END:STANDARD
END:VTIMEZONE
BEGIN:VEVENT
DTSTART;TZID=UTC:20250910T190000
DTEND;TZID=UTC:20250910T200000
DTSTAMP:20260424T073543
CREATED:20250820T193956Z
LAST-MODIFIED:20250820T193956Z
UID:5784-1757530800-1757534400@patriciaparentereiki.com
SUMMARY:Community Chat
DESCRIPTION:Community Chat – Meditation – Workshop \nSo much more than a “chat”!  An opportunity to meet with others via an online (Zoom) meeting room. Join in to say a quick hello or stay the hour. Pat will share the latest guidance received.   Healing energies and/or meditations are provided based on what would be helpful to the group/humanity. \nAll on the PPR Mailing List will receive an email invitation\, which includes the link to the meeting.  If you would like to be added to the mailing list\, contact Pat at reachus@patriciaparentereiki.com Hope to see you online!
URL:https://patriciaparentereiki.com/event/community-chat-15/
CATEGORIES:Events - Special
END:VEVENT
BEGIN:VEVENT
DTSTART;TZID=UTC:20250924T190000
DTEND;TZID=UTC:20250924T200000
DTSTAMP:20260424T073543
CREATED:20250820T193912Z
LAST-MODIFIED:20250820T193912Z
UID:5782-1758740400-1758744000@patriciaparentereiki.com
SUMMARY:Community Chat
DESCRIPTION:Community Chat – Meditation – Workshop \nSo much more than a “chat”!  An opportunity to meet with others via an online (Zoom) meeting room. Join in to say a quick hello or stay the hour. Pat will share the latest guidance received.   Healing energies and/or meditations are provided based on what would be helpful to the group/humanity. \nAll on the PPR Mailing List will receive an email invitation\, which includes the link to the meeting.  If you would like to be added to the mailing list\, contact Pat at reachus@patriciaparentereiki.com Hope to see you online!
URL:https://patriciaparentereiki.com/event/community-chat-14/
CATEGORIES:Events - Special
END:VEVENT
BEGIN:VEVENT
DTSTART;TZID=UTC:20251015T190000
DTEND;TZID=UTC:20251015T200000
DTSTAMP:20260424T073543
CREATED:20250825T150355Z
LAST-MODIFIED:20251005T134816Z
UID:5789-1760554800-1760558400@patriciaparentereiki.com
SUMMARY:Community Chat
DESCRIPTION:Community Chat – Meditation – Workshop \nSo much more than a “chat”!  An opportunity to meet with others via an online (Zoom) meeting room. Join in to say a quick hello or stay the hour. Pat will share the latest guidance received.   Healing energies and/or meditations are provided based on what would be helpful to the group/humanity. \nAll on the PPR Mailing List will receive an email invitation\, which includes the link to the meeting.  If you would like to be added to the mailing list\, contact Pat at reachus@patriciaparentereiki.com Hope to see you online!
URL:https://patriciaparentereiki.com/event/community-chat-16/
CATEGORIES:Events - Special
END:VEVENT
BEGIN:VEVENT
DTSTART;TZID=UTC:20251029T190000
DTEND;TZID=UTC:20251029T200000
DTSTAMP:20260424T073543
CREATED:20250825T150437Z
LAST-MODIFIED:20251005T134855Z
UID:5791-1761764400-1761768000@patriciaparentereiki.com
SUMMARY:Community Chat
DESCRIPTION:Community Chat – Meditation – Workshop \nSo much more than a “chat”!  An opportunity to meet with others via an online (Zoom) meeting room. Join in to say a quick hello or stay the hour. Pat will share the latest guidance received.   Healing energies and/or meditations are provided based on what would be helpful to the group/humanity. \nAll on the PPR Mailing List will receive an email invitation\, which includes the link to the meeting.  If you would like to be added to the mailing list\, contact Pat at reachus@patriciaparentereiki.com Hope to see you online!
URL:https://patriciaparentereiki.com/event/community-chat-17/
CATEGORIES:Events - Special
END:VEVENT
BEGIN:VEVENT
DTSTART;TZID=UTC:20251112T190000
DTEND;TZID=UTC:20251112T200000
DTSTAMP:20260424T073543
CREATED:20251020T164003Z
LAST-MODIFIED:20251020T164003Z
UID:5808-1762974000-1762977600@patriciaparentereiki.com
SUMMARY:Community Chat
DESCRIPTION:Community Chat – Meditation – Workshop \nSo much more than a “chat”!  An opportunity to meet with others via an online (Zoom) meeting room. Join in to say a quick hello or stay the hour. Pat will share the latest guidance received.   Healing energies and/or meditations are provided based on what would be helpful to the group/humanity. \nAll on the PPR Mailing List will receive an email invitation\, which includes the link to the meeting.  If you would like to be added to the mailing list\, contact Pat at reachus@patriciaparentereiki.com Hope to see you online!
URL:https://patriciaparentereiki.com/event/community-chat-18/
CATEGORIES:Events - Special
END:VEVENT
BEGIN:VEVENT
DTSTART;TZID=UTC:20251115T120000
DTEND;TZID=UTC:20251115T160000
DTSTAMP:20260424T073543
CREATED:20251020T152619Z
LAST-MODIFIED:20251026T211831Z
UID:5803-1763208000-1763222400@patriciaparentereiki.com
SUMMARY:Psychic Fair at Metaphysical Center of New Jersey
DESCRIPTION:Join us at MCNJ’s Psychic Fair!\nPatricia\, Maryam and Lori will provide two unique “readings” – The Flame of Love Reading (healing energy and guidance from Angels and Ascended Masters) and the Flower of Love Reading (healing energy and guidance from Blessed Mother Mary).  Following is what we bring to your experience:\nCombined Bio: Our healing work is dedicated to spiritual empowerment and alignment. In this service\, we assist others in finding well-being and purpose by healing the separation from the Divine Self and collective. We channel high-frequency energy and\, most importantly\, guide others to harness that same power for their own heart-centered transformation.\nMaster Certifications / Offerings in Common: Violet Flame Energy of the Heart®\, Reiki\, Magnified Healing®\, Crystal Healing\, Additional Energy Healing and Specialized Modalities \nIn addition\, the beautiful card decks will be available for sale to provide you with daily inspirational messages.  They also make great gifts! \nFlame of Love ReadingSM\nExperience this transformative and healing energy\, along with Divine guidance from the Angels and Ascended Masters of Violet Flame Energy of the Heart® \n  \n  \nFlower of Love ReadingSM\nExperience the comforting\, healing energy\, and Divine guidance provided by Blessed Mother Mary. \n  \n  \nLocation: The Unitarian Society of Ridgewood\, 113 Cottage Place\, Ridgewood\, NJ 07450\nTime: 12:00 PM – 4:00 PM\nDate: Saturday\, November 15\, 2025\nMore details to follow!
URL:https://patriciaparentereiki.com/event/psychic-fair-at-metaphysical-center-of-new-jersey/
CATEGORIES:Events - Special
END:VEVENT
BEGIN:VEVENT
DTSTART;TZID=UTC:20251125T190000
DTEND;TZID=UTC:20251125T200000
DTSTAMP:20260424T073543
CREATED:20251020T164044Z
LAST-MODIFIED:20251020T164044Z
UID:5810-1764097200-1764100800@patriciaparentereiki.com
SUMMARY:Community Chat - Special Night
DESCRIPTION:Community Chat – Meditation – Workshop \nSo much more than a “chat”!  An opportunity to meet with others via an online (Zoom) meeting room. Join in to say a quick hello or stay the hour. Pat will share the latest guidance received.   Healing energies and/or meditations are provided based on what would be helpful to the group/humanity. \nAll on the PPR Mailing List will receive an email invitation\, which includes the link to the meeting.  If you would like to be added to the mailing list\, contact Pat at reachus@patriciaparentereiki.com Hope to see you online!
URL:https://patriciaparentereiki.com/event/community-chat-special-night/
CATEGORIES:Events - Special
END:VEVENT
BEGIN:VEVENT
DTSTART;TZID=UTC:20251210T190000
DTEND;TZID=UTC:20251210T200000
DTSTAMP:20260424T073543
CREATED:20251020T164124Z
LAST-MODIFIED:20251020T164124Z
UID:5812-1765393200-1765396800@patriciaparentereiki.com
SUMMARY:Community Chat
DESCRIPTION:Community Chat – Meditation – Workshop \nSo much more than a “chat”!  An opportunity to meet with others via an online (Zoom) meeting room. Join in to say a quick hello or stay the hour. Pat will share the latest guidance received.   Healing energies and/or meditations are provided based on what would be helpful to the group/humanity. \nAll on the PPR Mailing List will receive an email invitation\, which includes the link to the meeting.  If you would like to be added to the mailing list\, contact Pat at reachus@patriciaparentereiki.com Hope to see you online!
URL:https://patriciaparentereiki.com/event/community-chat-19/
CATEGORIES:Events - Special
END:VEVENT
BEGIN:VEVENT
DTSTART;TZID=UTC:20251223T190000
DTEND;TZID=UTC:20251223T200000
DTSTAMP:20260424T073543
CREATED:20251020T164209Z
LAST-MODIFIED:20251020T164209Z
UID:5814-1766516400-1766520000@patriciaparentereiki.com
SUMMARY:Community Chat - Special Night
DESCRIPTION:Community Chat – Meditation – Workshop \nSo much more than a “chat”!  An opportunity to meet with others via an online (Zoom) meeting room. Join in to say a quick hello or stay the hour. Pat will share the latest guidance received.   Healing energies and/or meditations are provided based on what would be helpful to the group/humanity. \nAll on the PPR Mailing List will receive an email invitation\, which includes the link to the meeting.  If you would like to be added to the mailing list\, contact Pat at reachus@patriciaparentereiki.com Hope to see you online!
URL:https://patriciaparentereiki.com/event/community-chat-special-night-2/
CATEGORIES:Events - Special
END:VEVENT
BEGIN:VEVENT
DTSTART;TZID=UTC:20260107T190000
DTEND;TZID=UTC:20260107T200000
DTSTAMP:20260424T073543
CREATED:20251215T210306Z
LAST-MODIFIED:20251215T210631Z
UID:5842-1767812400-1767816000@patriciaparentereiki.com
SUMMARY:Community Chat
DESCRIPTION:Community Chat – Meditation – Workshop \nSo much more than a “chat”!  An opportunity to meet with others via an online (Zoom) meeting room. Join in to say a quick hello or stay the hour. Pat will share the latest guidance received.   Healing energies and/or meditations are provided based on what would be helpful to the group/humanity. \nAll on the PPR Mailing List will receive an email invitation\, which includes the link to the meeting.  If you would like to be added to the mailing list\, contact Pat at reachus@patriciaparentereiki.com Hope to see you online!
URL:https://patriciaparentereiki.com/event/community-chat-20/
CATEGORIES:Events - Special
END:VEVENT
BEGIN:VEVENT
DTSTART;TZID=UTC:20260121T190000
DTEND;TZID=UTC:20260121T200000
DTSTAMP:20260424T073543
CREATED:20251215T210417Z
LAST-MODIFIED:20251215T210417Z
UID:5844-1769022000-1769025600@patriciaparentereiki.com
SUMMARY:Community Chat
DESCRIPTION:Community Chat – Meditation – Workshop \nSo much more than a “chat”!  An opportunity to meet with others via an online (Zoom) meeting room. Join in to say a quick hello or stay the hour. Pat will share the latest guidance received.   Healing energies and/or meditations are provided based on what would be helpful to the group/humanity. \nAll on the PPR Mailing List will receive an email invitation\, which includes the link to the meeting.  If you would like to be added to the mailing list\, contact Pat at reachus@patriciaparentereiki.com Hope to see you online!
URL:https://patriciaparentereiki.com/event/community-chat-21/
CATEGORIES:Events - Special
END:VEVENT
BEGIN:VEVENT
DTSTART;TZID=UTC:20260204T190000
DTEND;TZID=UTC:20260204T200000
DTSTAMP:20260424T073543
CREATED:20251215T210745Z
LAST-MODIFIED:20251215T210942Z
UID:5846-1770231600-1770235200@patriciaparentereiki.com
SUMMARY:Community Chat
DESCRIPTION:Community Chat – Meditation – Workshop \nSo much more than a “chat”!  An opportunity to meet with others via an online (Zoom) meeting room. Join in to say a quick hello or stay the hour. Pat will share the latest guidance received.   Healing energies and/or meditations are provided based on what would be helpful to the group/humanity. \nAll on the PPR Mailing List will receive an email invitation\, which includes the link to the meeting.  If you would like to be added to the mailing list\, contact Pat at reachus@patriciaparentereiki.com Hope to see you online!
URL:https://patriciaparentereiki.com/event/community-chat-22/
CATEGORIES:Events - Special
END:VEVENT
BEGIN:VEVENT
DTSTART;TZID=UTC:20260218T190000
DTEND;TZID=UTC:20260218T200000
DTSTAMP:20260424T073543
CREATED:20251215T210914Z
LAST-MODIFIED:20251215T210914Z
UID:5848-1771441200-1771444800@patriciaparentereiki.com
SUMMARY:Community Chat
DESCRIPTION:Community Chat – Meditation – Workshop \nSo much more than a “chat”!  An opportunity to meet with others via an online (Zoom) meeting room. Join in to say a quick hello or stay the hour. Pat will share the latest guidance received.   Healing energies and/or meditations are provided based on what would be helpful to the group/humanity. \nAll on the PPR Mailing List will receive an email invitation\, which includes the link to the meeting.  If you would like to be added to the mailing list\, contact Pat at reachus@patriciaparentereiki.com Hope to see you online!
URL:https://patriciaparentereiki.com/event/community-chat-23/
CATEGORIES:Events - Special
END:VEVENT
BEGIN:VEVENT
DTSTART;TZID=UTC:20260304T190000
DTEND;TZID=UTC:20260304T200000
DTSTAMP:20260424T073543
CREATED:20260215T173756Z
LAST-MODIFIED:20260215T173756Z
UID:5903-1772650800-1772654400@patriciaparentereiki.com
SUMMARY:Community Chat
DESCRIPTION:Community Chat – Meditation – Workshop \nSo much more than a “chat”!  An opportunity to meet with others via an online (Zoom) meeting room. Join in to say a quick hello or stay the hour. Pat will share the latest guidance received.   Healing energies and/or meditations are provided based on what would be helpful to the group/humanity. \nAll on the PPR Mailing List will receive an email invitation\, which includes the link to the meeting.  If you would like to be added to the mailing list\, contact Pat at reachus@patriciaparentereiki.com Hope to see you online!
URL:https://patriciaparentereiki.com/event/community-chat-24/
CATEGORIES:Events - Special
END:VEVENT
BEGIN:VEVENT
DTSTART;TZID=UTC:20260318T190000
DTEND;TZID=UTC:20260318T200000
DTSTAMP:20260424T073543
CREATED:20260215T173831Z
LAST-MODIFIED:20260215T173831Z
UID:5905-1773860400-1773864000@patriciaparentereiki.com
SUMMARY:Community Chat
DESCRIPTION:Community Chat – Meditation – Workshop \nSo much more than a “chat”!  An opportunity to meet with others via an online (Zoom) meeting room. Join in to say a quick hello or stay the hour. Pat will share the latest guidance received.   Healing energies and/or meditations are provided based on what would be helpful to the group/humanity. \nAll on the PPR Mailing List will receive an email invitation\, which includes the link to the meeting.  If you would like to be added to the mailing list\, contact Pat at reachus@patriciaparentereiki.com Hope to see you online!
URL:https://patriciaparentereiki.com/event/community-chat-25/
CATEGORIES:Events - Special
END:VEVENT
BEGIN:VEVENT
DTSTART;TZID=UTC:20260401T190000
DTEND;TZID=UTC:20260401T200000
DTSTAMP:20260424T073543
CREATED:20260215T173917Z
LAST-MODIFIED:20260215T173917Z
UID:5907-1775070000-1775073600@patriciaparentereiki.com
SUMMARY:Community Chat
DESCRIPTION:Community Chat – Meditation – Workshop \nSo much more than a “chat”!  An opportunity to meet with others via an online (Zoom) meeting room. Join in to say a quick hello or stay the hour. Pat will share the latest guidance received.   Healing energies and/or meditations are provided based on what would be helpful to the group/humanity. \nAll on the PPR Mailing List will receive an email invitation\, which includes the link to the meeting.  If you would like to be added to the mailing list\, contact Pat at reachus@patriciaparentereiki.com Hope to see you online!
URL:https://patriciaparentereiki.com/event/community-chat-26/
CATEGORIES:Events - Special
END:VEVENT
BEGIN:VEVENT
DTSTART;TZID=UTC:20260415T190000
DTEND;TZID=UTC:20260415T200000
DTSTAMP:20260424T073543
CREATED:20260215T173952Z
LAST-MODIFIED:20260215T173952Z
UID:5909-1776279600-1776283200@patriciaparentereiki.com
SUMMARY:Community Chat
DESCRIPTION:Community Chat – Meditation – Workshop \nSo much more than a “chat”!  An opportunity to meet with others via an online (Zoom) meeting room. Join in to say a quick hello or stay the hour. Pat will share the latest guidance received.   Healing energies and/or meditations are provided based on what would be helpful to the group/humanity. \nAll on the PPR Mailing List will receive an email invitation\, which includes the link to the meeting.  If you would like to be added to the mailing list\, contact Pat at reachus@patriciaparentereiki.com Hope to see you online!
URL:https://patriciaparentereiki.com/event/community-chat-27/
CATEGORIES:Events - Special
END:VEVENT
BEGIN:VEVENT
DTSTART;TZID=UTC:20260429T190000
DTEND;TZID=UTC:20260429T200000
DTSTAMP:20260424T073543
CREATED:20260215T174027Z
LAST-MODIFIED:20260215T174027Z
UID:5911-1777489200-1777492800@patriciaparentereiki.com
SUMMARY:Community Chat
DESCRIPTION:Community Chat – Meditation – Workshop \nSo much more than a “chat”!  An opportunity to meet with others via an online (Zoom) meeting room. Join in to say a quick hello or stay the hour. Pat will share the latest guidance received.   Healing energies and/or meditations are provided based on what would be helpful to the group/humanity. \nAll on the PPR Mailing List will receive an email invitation\, which includes the link to the meeting.  If you would like to be added to the mailing list\, contact Pat at reachus@patriciaparentereiki.com Hope to see you online!
URL:https://patriciaparentereiki.com/event/community-chat-28/
CATEGORIES:Events - Special
END:VEVENT
BEGIN:VEVENT
DTSTART;TZID=UTC:20260513T190000
DTEND;TZID=UTC:20260513T200000
DTSTAMP:20260424T073543
CREATED:20260215T174141Z
LAST-MODIFIED:20260215T174141Z
UID:5913-1778698800-1778702400@patriciaparentereiki.com
SUMMARY:Community Chat
DESCRIPTION:Community Chat – Meditation – Workshop \nSo much more than a “chat”!  An opportunity to meet with others via an online (Zoom) meeting room. Join in to say a quick hello or stay the hour. Pat will share the latest guidance received.   Healing energies and/or meditations are provided based on what would be helpful to the group/humanity.  Tonight we join the World Peace Meditation @ 7:30 PM \nAll on the PPR Mailing List will receive an email invitation\, which includes the link to the meeting.  If you would like to be added to the mailing list\, contact Pat at reachus@patriciaparentereiki.com Hope to see you online!
URL:https://patriciaparentereiki.com/event/community-chat-29/
CATEGORIES:Events - Special
END:VEVENT
BEGIN:VEVENT
DTSTART;TZID=UTC:20260527T190000
DTEND;TZID=UTC:20260527T200000
DTSTAMP:20260424T073543
CREATED:20260215T174218Z
LAST-MODIFIED:20260215T174218Z
UID:5915-1779908400-1779912000@patriciaparentereiki.com
SUMMARY:Community Chat
DESCRIPTION:Community Chat – Meditation – Workshop \nSo much more than a “chat”!  An opportunity to meet with others via an online (Zoom) meeting room. Join in to say a quick hello or stay the hour. Pat will share the latest guidance received.   Healing energies and/or meditations are provided based on what would be helpful to the group/humanity. \nAll on the PPR Mailing List will receive an email invitation\, which includes the link to the meeting.  If you would like to be added to the mailing list\, contact Pat at reachus@patriciaparentereiki.com Hope to see you online!
URL:https://patriciaparentereiki.com/event/community-chat-30/
CATEGORIES:Events - Special
END:VEVENT
BEGIN:VEVENT
DTSTART;TZID=UTC:20260613T100000
DTEND;TZID=UTC:20260613T150000
DTSTAMP:20260424T073543
CREATED:20260329T202921Z
LAST-MODIFIED:20260406T171743Z
UID:5931-1781344800-1781362800@patriciaparentereiki.com
SUMMARY:It's All Just Love A Day of Healing
DESCRIPTION:  \nJoin us in Metuchen @ Clicks located at 10 Pearl Street 10:00 AM – 3:00 PM for a variety of healing / relaxation opportunities\, and some shopping!\nWalk-ins are welcome; scheduling is recommended. \nReceive a FREE Rose Quartz crystal just for stopping by! \n  \nEnjoy one or more of the following:\nSessions: 15 or 30 minutes; Violet Flame Energy of the Heart® or Reiki\nReadings: 15 or 30 minutes; Flame of Love Reading or Flower of Love Reading\n15 minute Sessions/Readings $40.00\n30 Minute Sessions/Readings $80.00 \nBrowse items for sale:\nFlame of Love and Flower of Love Inspirational Card Decks (Event Special $40.00 plus tax)\nHand Crafted Crystal Jewelry (priced as marked)\nAssorted Crystals (priced as marked) \nAdditional information regarding the June 13th event can be found on our other website’s Event Calendar.  It’s All Just Love A Day of Healing \nMark your calendar!  Our next Day of Healing at this location is Saturday\, July 25th! \nQuestions?  Want to schedule*?  Contact Patricia @ 908-331-1847 or reachus@patriciaparentereiki.com \n* Payment is required at the time of scheduling to secure your spot.  If you are unable to attend on the day of the event\, you will have the opportunity to reschedule with the practitioner at a day/time convenient to your schedules.
URL:https://patriciaparentereiki.com/event/its-all-just-love-a-day-of-healing-2/
CATEGORIES:Events - Special
END:VEVENT
BEGIN:VEVENT
DTSTART;TZID=UTC:20260725T100000
DTEND;TZID=UTC:20260725T150000
DTSTAMP:20260424T073543
CREATED:20260403T174358Z
LAST-MODIFIED:20260403T181044Z
UID:5940-1784973600-1784991600@patriciaparentereiki.com
SUMMARY:It's All Just Love A Day of Healing
DESCRIPTION:  \nJoin us in Metuchen @ Clicks located at 10 Pearl Street 10:00 AM – 3:00 PM for a variety of healing / relaxation opportunities\, and some shopping!\nWalk-ins are welcome; scheduling is recommended. \nReceive a FREE Rose Quartz crystal just for stopping by! \n  \nEnjoy one or more of the following:\nSessions: 15 or 30 minutes; Violet Flame Energy of the Heart® or Reiki\nReadings: 15 or 30 minutes; Flame of Love Reading or Flower of Love Reading\n15 minute Sessions/Readings $40.00\n30 Minute Sessions/Readings $80.00 \nBrowse items for sale:\nFlame of Love and Flower of Love Inspirational Card Decks (Event Special $40.00 plus tax)\nHand Crafted Crystal Jewelry (priced as marked)\nAssorted Crystals (priced as marked) \nAdditional information can be found on our other website’s Event Calendar.  It’s All Just Love A Day of Healing \nQuestions?  Want to schedule*?  Contact Patricia @ 908-331-1847 or reachus@patriciaparentereiki.com \n* Payment is required at the time of scheduling to secure your spot.  If you are unable to attend on the day of the event\, you will have the opportunity to reschedule with the practitioner at a day/time convenient to your schedules.
URL:https://patriciaparentereiki.com/event/its-all-just-love-a-day-of-healing-3/
CATEGORIES:Events - Special
END:VEVENT
END:VCALENDAR