BEGIN:VCALENDAR
VERSION:2.0
PRODID:-//Patricia Parente Reiki - ECPv6.15.20//NONSGML v1.0//EN
CALSCALE:GREGORIAN
METHOD:PUBLISH
X-ORIGINAL-URL:https://patriciaparentereiki.com
X-WR-CALDESC:Events for Patricia Parente Reiki
REFRESH-INTERVAL;VALUE=DURATION:PT1H
X-Robots-Tag:noindex
X-PUBLISHED-TTL:PT1H
BEGIN:VTIMEZONE
TZID:UTC
BEGIN:STANDARD
TZOFFSETFROM:+0000
TZOFFSETTO:+0000
TZNAME:UTC
DTSTART:20230101T000000
END:STANDARD
END:VTIMEZONE
BEGIN:VEVENT
DTSTART;TZID=UTC:20240303T150000
DTEND;TZID=UTC:20240303T160000
DTSTAMP:20260425T160313
CREATED:20240109T011141Z
LAST-MODIFIED:20240120T173719Z
UID:5231-1709478000-1709481600@patriciaparentereiki.com
SUMMARY:Sound Immersion with Stacy Newfeld
DESCRIPTION:  \nExperience the alchemy!  This is an in-person event in Somerset. \n  \n  \nTo Register: Contact Pat reachus@patriciaparentereiki.com\nExchange: $35.00 per person
URL:https://patriciaparentereiki.com/event/sound-immersion-with-stacy-newfeld/
CATEGORIES:Events - Visiting Presenter
END:VEVENT
END:VCALENDAR