BEGIN:VCALENDAR
VERSION:2.0
PRODID:-//Patricia Parente Reiki - ECPv6.15.20//NONSGML v1.0//EN
CALSCALE:GREGORIAN
METHOD:PUBLISH
X-ORIGINAL-URL:https://patriciaparentereiki.com
X-WR-CALDESC:Events for Patricia Parente Reiki
REFRESH-INTERVAL;VALUE=DURATION:PT1H
X-Robots-Tag:noindex
X-PUBLISHED-TTL:PT1H
BEGIN:VTIMEZONE
TZID:UTC
BEGIN:STANDARD
TZOFFSETFROM:+0000
TZOFFSETTO:+0000
TZNAME:UTC
DTSTART:20230101T000000
END:STANDARD
END:VTIMEZONE
BEGIN:VEVENT
DTSTART;TZID=UTC:20240602T150000
DTEND;TZID=UTC:20240602T160000
DTSTAMP:20260425T001429
CREATED:20240502T230010Z
LAST-MODIFIED:20240523T221959Z
UID:5472-1717340400-1717344000@patriciaparentereiki.com
SUMMARY:Sound Immersion with Stacy Newfeld
DESCRIPTION:Experience the Alchemy\, the Healing\, the Love! This is an in-person event in Somerset. \n  \nTo Register: Contact Pat reachus@patriciaparentereiki.com\nExchange: $35.00
URL:https://patriciaparentereiki.com/event/sound-immersion-with-stacy-newfeld-2/
CATEGORIES:Events - Visiting Presenter
END:VEVENT
BEGIN:VEVENT
DTSTART;TZID=UTC:20240630T090000
DTEND;TZID=UTC:20240630T170000
DTSTAMP:20260425T001429
CREATED:20240502T230329Z
LAST-MODIFIED:20240502T230329Z
UID:5474-1719738000-1719766800@patriciaparentereiki.com
SUMMARY:Day of Heart and Soul Healing
DESCRIPTION:Join Patricia and Donna for a Day of Heart and Soul Healing!  To participate\, you will schedule a 45-minute session with both – first a session with Patricia\, then a reading with Donna.  You will have a choice of session types: Reiki\, Violet Flame Energy of the Heart® or Crystal Healing\, followed by a choice of readings: General Card Reading\, Numerology Reading or Relationship (card or photo) Reading.\nSession/Readings are by scheduled appointment and offered in-person or virtual.  There are only 6 slots available\, with the first appointment starting at 9:00 AM and the last ending at 5:00 PM.  Contact Pat for specific times available. \nTo Register: Contact Pat 908-331-1847 or email reachus@patriciaparentereiki.com\nExchange: $110.00 total
URL:https://patriciaparentereiki.com/event/day-of-heart-and-soul-healing/
CATEGORIES:Events - Visiting Presenter
END:VEVENT
END:VCALENDAR