BEGIN:VCALENDAR
VERSION:2.0
PRODID:-//Patricia Parente Reiki - ECPv6.15.20//NONSGML v1.0//EN
CALSCALE:GREGORIAN
METHOD:PUBLISH
X-ORIGINAL-URL:https://patriciaparentereiki.com
X-WR-CALDESC:Events for Patricia Parente Reiki
REFRESH-INTERVAL;VALUE=DURATION:PT1H
X-Robots-Tag:noindex
X-PUBLISHED-TTL:PT1H
BEGIN:VTIMEZONE
TZID:UTC
BEGIN:STANDARD
TZOFFSETFROM:+0000
TZOFFSETTO:+0000
TZNAME:UTC
DTSTART:20240101T000000
END:STANDARD
END:VTIMEZONE
BEGIN:VEVENT
DTSTART;TZID=UTC:20250413T150000
DTEND;TZID=UTC:20250413T160000
DTSTAMP:20260422T115210
CREATED:20241102T193341Z
LAST-MODIFIED:20250401T002538Z
UID:5610-1744556400-1744560000@patriciaparentereiki.com
SUMMARY:Sound Immersion with Stacy Newfeld
DESCRIPTION:Alchemy Crystal Sound Immersion!  Tentative Date! \nJoin us for this in-person event in Somerset.  Stacy will welcome you to rest & revive your hearts & spirits! \nMinimum of 5 participants to hold the event.\nExchange: $35.00\nTo Register: Contact Pat 908-331-1847 or reachus@patriciaparentereiki.com
URL:https://patriciaparentereiki.com/event/sound-immersion-with-stacy-newfeld-3/
CATEGORIES:Events - Visiting Presenter
END:VEVENT
END:VCALENDAR