BEGIN:VCALENDAR
VERSION:2.0
PRODID:-//Patricia Parente Reiki - ECPv6.15.20//NONSGML v1.0//EN
CALSCALE:GREGORIAN
METHOD:PUBLISH
X-ORIGINAL-URL:https://patriciaparentereiki.com
X-WR-CALDESC:Events for Patricia Parente Reiki
REFRESH-INTERVAL;VALUE=DURATION:PT1H
X-Robots-Tag:noindex
X-PUBLISHED-TTL:PT1H
BEGIN:VTIMEZONE
TZID:UTC
BEGIN:STANDARD
TZOFFSETFROM:+0000
TZOFFSETTO:+0000
TZNAME:UTC
DTSTART:20250101T000000
END:STANDARD
END:VTIMEZONE
BEGIN:VEVENT
DTSTART;TZID=UTC:20260308T130000
DTEND;TZID=UTC:20260308T150000
DTSTAMP:20260421T085405
CREATED:20260117T205131Z
LAST-MODIFIED:20260130T214804Z
UID:5884-1772974800-1772982000@patriciaparentereiki.com
SUMMARY:Highly Sensitive Person Workshop - Reclaim Peace During Challenging Times
DESCRIPTION:HSP: Highly Sensitive Person Support \nHOW TO FIND PEACE DURING CHALLENGING TIMES \nWorkshop by Donna Russo \nWelcome to the new year 2026. And with this new year\, the world appears to be on even more of a roller coaster personally\, publicly and globally. If you’re highly sensitive\, you feel ALL of this even more profoundly. Faith tells us there will be light at the end of the tunnel. Join us in creating a supportive group with like-minded souls in a compassionate space. \nThere are steps you can take to help navigate the journey right now\, as the world goes through its awakening. This 2-hour workshop aims to give you tools\, support and guidance you can begin to use the same day. Hand-outs with additional information will be supplied\, so you have even more tools to take home. \nTopics we will cover: \n\nStrategies to staying calm when life feels uncertain\nThe benefit of a “Worry-Window”\nProtecting your energy\nUsing discernment — and trusting your gut\nToxic thoughts and personal filters\nReleasing old\, allowing NEW\nCollective Consciousness: the big picture\n\n** Time allowing\, asking 1 question of Spirit \nAttendance: In-person in Somerset NJ or via Zoom \nDate: March 8\, 2026 @ 1:00 – 3:00 PM EST \nExchange: $45.00 per person \nTo Register: Call 908-331-1847 or email reachus@patriciaparentereiki.com to RSVP your spot! \n 
URL:https://patriciaparentereiki.com/event/highly-sensitive-person-workshop-reclaim-peace-during-challenging-times/
CATEGORIES:Events - Visiting Presenter
END:VEVENT
END:VCALENDAR