BEGIN:VCALENDAR
VERSION:2.0
PRODID:-//Patricia Parente Reiki - ECPv6.15.20//NONSGML v1.0//EN
CALSCALE:GREGORIAN
METHOD:PUBLISH
X-WR-CALNAME:Patricia Parente Reiki
X-ORIGINAL-URL:https://patriciaparentereiki.com
X-WR-CALDESC:Events for Patricia Parente Reiki
REFRESH-INTERVAL;VALUE=DURATION:PT1H
X-Robots-Tag:noindex
X-PUBLISHED-TTL:PT1H
BEGIN:VTIMEZONE
TZID:UTC
BEGIN:STANDARD
TZOFFSETFROM:+0000
TZOFFSETTO:+0000
TZNAME:UTC
DTSTART:20170101T000000
END:STANDARD
END:VTIMEZONE
BEGIN:VEVENT
DTSTART;TZID=UTC:20190531T190000
DTEND;TZID=UTC:20190531T201500
DTSTAMP:20260423T163205
CREATED:20190318T122131Z
LAST-MODIFIED:20190408T000659Z
UID:2935-1559329200-1559333700@patriciaparentereiki.com
SUMMARY:Intro to Essential Wellness Workshop with Stacy Newfeld
DESCRIPTION:INTRO TO ESSENTIAL WELLNESS with Stacy Newfeld  \nAre you ready to discover self- directed health?\nJoin us as we unpack all the goodness about dōTERRA Essential Oils.\nEnvision a life where finding solutions is simple.\nWith a reference guide & a box of  dōTERRA CPTG essential oils at your fingertips\, you are prepared to address 80 percent of your health priorities.\nUsing dōTERRA’s powerful products\, you & your family will experience new levels of  well being. \nStacy is a yoga teacher & sound healer currently travelling the country as a lead educator & wellness advocate with dōTERRA.  Her passion is teaching others how natural solutions are tools to take back our health & reduce the toxic load on Mama Earth. Her mission in 2019 is to provide over 2222 homes with a simple solution for wellness.   \n  \nTo learn more visit www.mydoterra.com/stacynewfeld \nTo register or for more information: \nContact Pat at 908-331-1847 or email reachus@patriciaparentereiki.com\nExchange: Just your presence!
URL:https://patriciaparentereiki.com/event/doterra-essential-oils-workshop-with-stacy-newfeld/
CATEGORIES:Events - Visiting Presenter
END:VEVENT
BEGIN:VEVENT
DTSTART;TZID=UTC:20190323T130000
DTEND;TZID=UTC:20190323T170000
DTSTAMP:20260423T163205
CREATED:20181214T023049Z
LAST-MODIFIED:20190214T024835Z
UID:2822-1553346000-1553360400@patriciaparentereiki.com
SUMMARY:HSP Workshop - Relationships!  3rd in a Series
DESCRIPTION:Donna Russo will be back for Part 3 in a series of workshops for Highly Sensitive Persons!  This workshop… Relationships! \nIf you desire a deep understanding of yourself in love and relationships\, whether with a romantic partner or family member\, this workshop is just for you. \nBeing an HSP\, or empath\, can have some unique challenges in relationships. These same traits can also foster true connection and safe expression\, within the right relationship for you. With a better understanding of how you are wired to love\nand what you need to blossom\, your current or future relationship can become healthy and thrive. It does take two for a relationship-and that relationship starts with YOU. \nWORKSHOP HIGHLIGHTS:\n• Know your relationship needs • Whose emotions are these?\n• Toxic Relationships & Self Love • Bedroom stories\n• Tools and tips from research and from Spirit!
URL:https://patriciaparentereiki.com/event/hsp-workshop-relationships-3rd-in-a-series/
CATEGORIES:Events - Visiting Presenter
END:VEVENT
BEGIN:VEVENT
DTSTART;TZID=UTC:20190126T100000
DTEND;TZID=UTC:20190126T170000
DTSTAMP:20260423T163205
CREATED:20181209T030234Z
LAST-MODIFIED:20190124T022331Z
UID:2763-1548496800-1548522000@patriciaparentereiki.com
SUMMARY:Magnified Healing Celebration Workshop - Ceremony
DESCRIPTION:Magnified Healing Celebration Workshop & Ceremony \nExperience the divine energies of Magnified Healing!  This is a two-part one-day workshop for Magnified Healing Initiates.  Part 1 (for Phase I level practitioners) consists of the theory Workshop (5+ hours of teaching); Part 2 is the Ceremony (1+ hours) that is facilitated by the Workshop Graduates. \nThe Workshop participants will receive the official Manual at the beginning of the Workshop and a Certificate at the end of the Ceremony. \nPrerequisite to attend Workshop: Phase 1 Magnified Healing Initiates\nPrerequisite to attend Ceremony: None; this is open to the public\nWorkshop Length: 5+ hours (starting at 10:00 AM)\nCeremony Length: 1+ hours (starting at 4:00PM)\nExchange: Workshop Exchange: $150.00\nRegistration: Required; contact Pat 908-331-1847 or email to reachus@patriciaparentereiki.com
URL:https://patriciaparentereiki.com/event/magnified-healing-celebration-workshop/
CATEGORIES:Events - Visiting Presenter,Magnified Healing
END:VEVENT
BEGIN:VEVENT
DTSTART;TZID=UTC:20190106T103000
DTEND;TZID=UTC:20190106T170000
DTSTAMP:20260423T163205
CREATED:20181211T015455Z
LAST-MODIFIED:20181211T015455Z
UID:2765-1546770600-1546794000@patriciaparentereiki.com
SUMMARY:Soul Drawings with Donna Russo
DESCRIPTION:Experience a Soul Drawing Reading with Donna! \nDonna Russo is a professional illustrator and intuitive who has been called to combine her gifts to be of guidance and healing to others. Starting with your birth date and a question for your Soul\, we journey to your higher self. She then “talks” to your Soul (and possibly your Guide/Angel) and gets messages for you. She combines the messages with a custom drawing of the vision she is shown\, containing your Soul’s energy vibration.  Illustrations are done on 11×14 Bristol art board in professional colored pencil. A session takes approximately 1 hour. Each drawing is original and uniquely yours\, containing your Soul’s energy. \nExchange: $95.00 per reading.\nContact Pat to schedule your appointment!\nCall 908-331-1847 or email patriciaparentereiki@gmail.com 
URL:https://patriciaparentereiki.com/event/soul-drawings-with-donna-russo-2/
CATEGORIES:Events - Visiting Presenter
END:VEVENT
BEGIN:VEVENT
DTSTART;TZID=UTC:20181216T150000
DTEND;TZID=UTC:20181216T160000
DTSTAMP:20260423T163205
CREATED:20181028T011940Z
LAST-MODIFIED:20181211T021726Z
UID:2653-1544972400-1544976000@patriciaparentereiki.com
SUMMARY:Sound Bath!
DESCRIPTION:We are welcoming Stacy Anuttara Newfeld to provide a meditative improvisational journey that allows the mind and body to easily experience deep states of rest and release. The harmonic vibrations affect every part of the participants’ being. Harmony and healing reaches all levels: physical\, emotional\, and spiritual! \nParticipants are asked to arrive between 2:30-2:45.  Bring a yoga mat and pillow; seating is also available. \nExchange: $22.00
URL:https://patriciaparentereiki.com/event/sound-bath/
CATEGORIES:Events - Visiting Presenter
END:VEVENT
BEGIN:VEVENT
DTSTART;TZID=UTC:20180825T100000
DTEND;TZID=UTC:20180825T170000
DTSTAMP:20260423T163205
CREATED:20180209T014148Z
LAST-MODIFIED:20180803T005922Z
UID:2215-1535191200-1535216400@patriciaparentereiki.com
SUMMARY:Soul Drawings with Donna Russo
DESCRIPTION:Donna is a professional illustrator and intuitive who has been called to combine her gifts to be of guidance and healing to others. Starting with your birth date and a question for your Soul\, we journey to your higher self. She then “talks” to\nyour Soul (and possibly your Guide/Angel) and gets a “message” for you. She combines this message with a custom drawing of the vision she is shown\, containing your Soul’s energy vibration. Illustrations are done on 11×14 bristol art\nboard in professional colored pencil. A session takes approximately 1 hour. Each drawing is original and uniquely yours\, containing your Soul’s energy. \nPat will also be on hand to address brief questions before or after your reading.\nReadings begin 10:00am. Only 6 slots available. \nExchange: $95.00 per reading
URL:https://patriciaparentereiki.com/event/soul-drawings-with-donna-russo/
CATEGORIES:Events - Visiting Presenter
END:VEVENT
BEGIN:VEVENT
DTSTART;TZID=UTC:20180731T090000
DTEND;TZID=UTC:20180731T170000
DTSTAMP:20260423T163205
CREATED:20180603T233543Z
LAST-MODIFIED:20180603T233543Z
UID:2350-1533027600-1533056400@patriciaparentereiki.com
SUMMARY:Healing Sessions with Mika Nelson
DESCRIPTION:Deep Personal Healing Sessions\nMonday\, July 30 and Tuesday\, July 31 \nIllness starts on an emotional level. As Emotional Beings we are here to learn about ourselves and about LOVE. The most important thing in healing sessions is to release repressed energy blockages stored at cellular levels and open up energy centers to heal imbalances in the physical\, emotional\, mental and spiritual bodies.  After release\, Mika works on the Energetic Body to create balance and finishes with a Maintenance plan the client can use to further work on themselves.  Included in the 90 minute session is time on the John of God Crystal Bed.  Healing Sessions are by appointment. \nAbout Mika:\nMika Nelson is recognized worldwide for his excellence in teaching on crystals\, energy healing and Magnified Healing. Called “a teacher’s teacher and a healer’s healer” by many\, Mika is a trained Crystal Keeper and Guardian\, a Traditional Reiki and Karuna Reiki Master\, Master Teacher of Magnified Healing and a Clinical Hypnotherapist. Mika’s teaching ministry includes structured classes in crystal and gemstone therapy under The Academy for Healing Arts\, and he has extensive experience with Marcel Vogel techniques. Mika has also lectured on crystals and healing at the United Nations in NYC. In addition to teaching\, Mika is a personal certified guide for Sacred John of God Tours to Brazil.\nMore information about Mika can be found at: Academy for Healing Arts
URL:https://patriciaparentereiki.com/event/healing-sessions-with-mika-nelson-2/
CATEGORIES:Events - Visiting Presenter
END:VEVENT
BEGIN:VEVENT
DTSTART;TZID=UTC:20180730T090000
DTEND;TZID=UTC:20180730T170000
DTSTAMP:20260423T163205
CREATED:20180603T233442Z
LAST-MODIFIED:20180603T233442Z
UID:2348-1532941200-1532970000@patriciaparentereiki.com
SUMMARY:Healing Sessions with Mika Nelson
DESCRIPTION:Deep Personal Healing Sessions\nMonday\, July 30 and Tuesday\, July 31 \nIllness starts on an emotional level. As Emotional Beings we are here to learn about ourselves and about LOVE. The most important thing in healing sessions is to release repressed energy blockages stored at cellular levels and open up energy centers to heal imbalances in the physical\, emotional\, mental and spiritual bodies.  After release\, Mika works on the Energetic Body to create balance and finishes with a Maintenance plan the client can use to further work on themselves.  Included in the 90 minute session is time on the John of God Crystal Bed.  Healing Sessions are by appointment. \nAbout Mika:\nMika Nelson is recognized worldwide for his excellence in teaching on crystals\, energy healing and Magnified Healing. Called “a teacher’s teacher and a healer’s healer” by many\, Mika is a trained Crystal Keeper and Guardian\, a Traditional Reiki and Karuna Reiki Master\, Master Teacher of Magnified Healing and a Clinical Hypnotherapist. Mika’s teaching ministry includes structured classes in crystal and gemstone therapy under The Academy for Healing Arts\, and he has extensive experience with Marcel Vogel techniques. Mika has also lectured on crystals and healing at the United Nations in NYC. In addition to teaching\, Mika is a personal certified guide for Sacred John of God Tours to Brazil.\nMore information about Mika can be found at: Academy for Healing Arts
URL:https://patriciaparentereiki.com/event/healing-sessions-with-mika-nelson/
CATEGORIES:Events - Visiting Presenter
END:VEVENT
BEGIN:VEVENT
DTSTART;TZID=UTC:20180729T100000
DTEND;TZID=UTC:20180729T170000
DTSTAMP:20260423T163205
CREATED:20180209T014654Z
LAST-MODIFIED:20180713T002528Z
UID:2219-1532858400-1532883600@patriciaparentereiki.com
SUMMARY:Magnified Healing Certification Class with Mika Nelson
DESCRIPTION:Come learn a fantastic Fifth Dimensional tool for self healing\, healing others\, and healing our world. \nAre you on your path of Ascension? Are you willing to prepare yourself\, others and the Earth in ushering in the higher vibrations of pure Love\, Light and Freedom? If so then Magnified Healing is you. \nThe Magnified Healing teachings are a great opportunity to learn a healing modality that was introduced to the Earth in 1983. Previously\, this healing method was used only in the higher dimensions by the Ascended Masters to assist themselves\, the Masters on Earth\, and Mankind under a special Divine Dispensation. In 1992\, under the direct intervention and inspiration of Lady Master Kwan Yin\, Magnified Healing was brought forth into its expanded form for the advancement of Humanity and the Earth. \nMagnifed Healing establishes a constant flow of energy from the Heart to the Source\, the All That Is\, the Infinite Mind\, down to the Diamond at the Center of the Earth. The link spirals and brings a deep state of grace pulsing forth from the Hierarchy\, layingt the very foundation for the Ascension Process. \nKwan Yin is an Ascended Lady Master and member of the Great White Brotherhood of this planet\, known to many as the Goddess of Mercy\, Compassion and Forgiveness. She is also known as Cannon (in Korea and Vietnam). Quan Yin\, and Tara (in Tibet and India). She is a member of the Karmic Board\, which functions much like the “Supreme Court” for the inner Government of this planet. In 1986\, she was asked to anchor the Divine Feminine Aspect of the Buddha. Her flower and electronic pattern are the five-petal Lotus\, the divine pattern of the I AM PRESENCE \nMERCY MEANS THERE IS MORE ASSISTANCE GIVEN THROUGH LOVE THAN MERIT EARNED. \n\nMEDITATION FOR EMPOWERMENT: Acknowledgement of the Three-Fold Flame and Higher Self\nPREPARATION: Alignment of Spiritual Centers\, Clearing of the Light Channel\, Unification of Chakras into One\, Increase the Energy in the Hands\nHEAL OTHERS AND YOURSELF: Sensitize\, Awaken\, Rewire and Connect the Nervous System\, Scan/Heal the Body and Stimulate Calcium on the Spine Absent Healing\, Healing of the Earth\, Healing of Karma Preparation for Ascension\nHealing through Divine Right Use of Will with an Instantaneous Healing\n\n\n\nMagnified Healing Notes: \nInvestment: $295 (cash\, check accepted). \nIncludes Manuel\, practice CD\, Flower Essences\, Certification as Master Teacher of Magnified Healing of the God Most High of the Universe
URL:https://patriciaparentereiki.com/event/magnified-healing-certification-class-with-mika-nelson-2/
CATEGORIES:Events - Visiting Presenter
END:VEVENT
BEGIN:VEVENT
DTSTART;TZID=UTC:20180728T100000
DTEND;TZID=UTC:20180728T170000
DTSTAMP:20260423T163205
CREATED:20180209T014538Z
LAST-MODIFIED:20180713T002445Z
UID:2217-1532772000-1532797200@patriciaparentereiki.com
SUMMARY:Magnified Healing Certification Class with Mika Nelson
DESCRIPTION:Come learn a fantastic Fifth Dimensional tool for self healing\, healing others\, and healing our world. \nAre you on your path of Ascension? Are you willing to prepare yourself\, others and the Earth in ushering in the higher vibrations of pure Love\, Light and Freedom? If so then Magnified Healing is you. \nThe Magnified Healing teachings are a great opportunity to learn a healing modality that was introduced to the Earth in 1983. Previously\, this healing method was used only in the higher dimensions by the Ascended Masters to assist themselves\, the Masters on Earth\, and Mankind under a special Divine Dispensation. In 1992\, under the direct intervention and inspiration of Lady Master Kwan Yin\, Magnified Healing was brought forth into its expanded form for the advancement of Humanity and the Earth. \nMagnifed Healing establishes a constant flow of energy from the Heart to the Source\, the All That Is\, the Infinite Mind\, down to the Diamond at the Center of the Earth. The link spirals and brings a deep state of grace pulsing forth from the Hierarchy\, layingt the very foundation for the Ascension Process. \nKwan Yin is an Ascended Lady Master and member of the Great White Brotherhood of this planet\, known to many as the Goddess of Mercy\, Compassion and Forgiveness. She is also known as Cannon (in Korea and Vietnam). Quan Yin\, and Tara (in Tibet and India). She is a member of the Karmic Board\, which functions much like the “Supreme Court” for the inner Government of this planet. In 1986\, she was asked to anchor the Divine Feminine Aspect of the Buddha. Her flower and electronic pattern are the five-petal Lotus\, the divine pattern of the I AM PRESENCE \nMERCY MEANS THERE IS MORE ASSISTANCE GIVEN THROUGH LOVE THAN MERIT EARNED. \n\nMEDITATION FOR EMPOWERMENT: Acknowledgement of the Three-Fold Flame and Higher Self\nPREPARATION: Alignment of Spiritual Centers\, Clearing of the Light Channel\, Unification of Chakras into One\, Increase the Energy in the Hands\nHEAL OTHERS AND YOURSELF: Sensitize\, Awaken\, Rewire and Connect the Nervous System\, Scan/Heal the Body and Stimulate Calcium on the Spine Absent Healing\, Healing of the Earth\, Healing of Karma Preparation for Ascension\nHealing through Divine Right Use of Will with an Instantaneous Healing\n\n\n\nMagnified Healing Notes: \nInvestment: $295 (cash\, check accepted). \nIncludes Manuel\, practice CD\, Flower Essences\, Certification as Master Teacher of Magnified Healing of the God Most High of the Universe
URL:https://patriciaparentereiki.com/event/magnified-healing-certification-class-with-mika-nelson/
CATEGORIES:Events - Visiting Presenter
END:VEVENT
BEGIN:VEVENT
DTSTART;TZID=UTC:20180622T190000
DTEND;TZID=UTC:20180622T200000
DTSTAMP:20260423T163205
CREATED:20180601T001341Z
LAST-MODIFIED:20180601T001442Z
UID:2343-1529694000-1529697600@patriciaparentereiki.com
SUMMARY:Sound Bath with Stacy Newfeld
DESCRIPTION:A Sound Bath is a meditative improvisational journey that allows the mind and body to easily experience deep states of rest and release. The harmonic vibrations affect every part of the participants’ being. Harmony and healing reaches all levels: physical\, emotional\, and spiritual. \n“It was the most mindful experience I have ever experienced. I was much more aware of the beautiful sounds around me and gave me a chance to be fully present.”  D.C.\n“The sound bath was a calming experience\, focusing on breathing and listening.” L.F. \nRegister soon to secure your spot! \nTo Register: email or call Pat; reachus@patriciaparentereiki.com or 908-331-1847 \nExchange: $22.00\nAttendees are asked to arrive between 6:30 – 6:45 PM.  Please bring a comfortable pillow and blanket or yoga mat.  Seating is also available.
URL:https://patriciaparentereiki.com/event/sound-bath-with-stacy-newfeld-2/
CATEGORIES:Events - Visiting Presenter
END:VEVENT
BEGIN:VEVENT
DTSTART;TZID=UTC:20180318T160000
DTEND;TZID=UTC:20180318T173000
DTSTAMP:20260423T163205
CREATED:20180219T221643Z
LAST-MODIFIED:20180220T004650Z
UID:2259-1521388800-1521394200@patriciaparentereiki.com
SUMMARY:Sound Bath with Stacy Newfeld
DESCRIPTION:A Sound Bath is a meditative improvisational journey that allows the mind and body to easily experience deep states of rest and release. The harmonic vibrations affect every part of the participants’ being. Harmony and healing reaches all levels: physical\, emotional\, and spiritual. \n  \n  \n“It was the most mindful experience I have ever experienced. I was much more aware of  the beautiful sounds around me and gave me a chance to be fully present.”  D.C.\n“The sound bath was a calming experience\, focusing on breathing and listening.” L.F.\nRegister soon to secure your spot! \nTo Register: email or call Pat; reachus@patriciaparentereiki.com or 908-331-1847 \nExchange: $22.00\nAttendees are asked to please bring a comfortable pillow and blanket or yoga mat.  Seating is also available.
URL:https://patriciaparentereiki.com/event/sound-bath-with-stacy-newfeld/
CATEGORIES:Events - Visiting Presenter
END:VEVENT
END:VCALENDAR