BEGIN:VCALENDAR
VERSION:2.0
PRODID:-//Patricia Parente Reiki - ECPv6.15.20//NONSGML v1.0//EN
CALSCALE:GREGORIAN
METHOD:PUBLISH
X-WR-CALNAME:Patricia Parente Reiki
X-ORIGINAL-URL:https://patriciaparentereiki.com
X-WR-CALDESC:Events for Patricia Parente Reiki
REFRESH-INTERVAL;VALUE=DURATION:PT1H
X-Robots-Tag:noindex
X-PUBLISHED-TTL:PT1H
BEGIN:VTIMEZONE
TZID:UTC
BEGIN:STANDARD
TZOFFSETFROM:+0000
TZOFFSETTO:+0000
TZNAME:UTC
DTSTART:20210101T000000
END:STANDARD
END:VTIMEZONE
BEGIN:VEVENT
DTSTART;TZID=UTC:20220911T090000
DTEND;TZID=UTC:20220911T100000
DTSTAMP:20260424T072216
CREATED:20220822T161556Z
LAST-MODIFIED:20220822T161556Z
UID:4758-1662886800-1662890400@patriciaparentereiki.com
SUMMARY:Sunday Healing Circle
DESCRIPTION:Gift yourself some time to relax and center yourself while sharing the experience with other participants! \nIt is not necessary to be a Practitioner or to have previously received energy work to attend this Circle. You will enjoy a Guided Meditation and experience soothing Energy. \nExchange: $20.00 live attendance via Zoom\nExchange: $10.00 recorded video access\nTo Attend: No need to “register”\, just forward payment prior to the Circle via check or PayPal.  Are you on the PPR Mailing List?  If so\, you will receive a monthly email with Zoom meeting link for the remote Circle.  Otherwise\, notify Pat of your interest; you will receive a link to the Zoom online for the Circle.  To access the recorded video and watch at a time convenient to you\, contact Pat for details.   If questions\, contact Pat at 908-331-1847 or reachus@patriciaparentereiki.com
URL:https://patriciaparentereiki.com/event/sunday-healing-circle-4/
CATEGORIES:Healing Circle
END:VEVENT
BEGIN:VEVENT
DTSTART;TZID=UTC:20220915T190000
DTEND;TZID=UTC:20220915T200000
DTSTAMP:20260424T072216
CREATED:20220822T161721Z
LAST-MODIFIED:20220822T161721Z
UID:4760-1663268400-1663272000@patriciaparentereiki.com
SUMMARY:Thursday Healing Circle
DESCRIPTION:Gift yourself some time to relax and center yourself while sharing the experience with other participants! \nIt is not necessary to be a Practitioner or to have previously received energy work to attend this Circle. You will enjoy a Guided Meditation and experience soothing Energy. \nExchange: $20.00 live attendance via Zoom\nExchange: $10.00 recorded video access\nTo Attend: No need to “register”\, just forward payment prior to the Circle via check or PayPal.  Are you on the PPR Mailing List?  If so\, you will receive a monthly email with Zoom meeting link for the remote Circle.  Otherwise\, notify Pat of your interest; you will receive a link to the Zoom online for the Circle.  To access the recorded video and watch at a time convenient to you\, contact Pat for details.   If questions\, contact Pat at 908-331-1847 or reachus@patriciaparentereiki.com
URL:https://patriciaparentereiki.com/event/thursday-healing-circle-4/
CATEGORIES:Healing Circle
END:VEVENT
END:VCALENDAR