BEGIN:VCALENDAR
VERSION:2.0
PRODID:-//Patricia Parente Reiki - ECPv6.15.20//NONSGML v1.0//EN
CALSCALE:GREGORIAN
METHOD:PUBLISH
X-ORIGINAL-URL:https://patriciaparentereiki.com
X-WR-CALDESC:Events for Patricia Parente Reiki
REFRESH-INTERVAL;VALUE=DURATION:PT1H
X-Robots-Tag:noindex
X-PUBLISHED-TTL:PT1H
BEGIN:VTIMEZONE
TZID:UTC
BEGIN:STANDARD
TZOFFSETFROM:+0000
TZOFFSETTO:+0000
TZNAME:UTC
DTSTART:20220101T000000
END:STANDARD
END:VTIMEZONE
BEGIN:VEVENT
DTSTART;TZID=UTC:20230312T090000
DTEND;TZID=UTC:20230312T100000
DTSTAMP:20260423T215903
CREATED:20230117T233027Z
LAST-MODIFIED:20230117T233027Z
UID:4923-1678611600-1678615200@patriciaparentereiki.com
SUMMARY:Morning Healing Circle
DESCRIPTION:Gift yourself some time to relax and center yourself while sharing the experience with other participants! \nIt is not necessary to be a Practitioner or to have previously received energy work to attend this Circle. You will enjoy a Guided Meditation and experience soothing Energy. \nExchange: $20.00 live attendance via Zoom\nExchange: $10.00 recorded video access\nTo Attend: No need to “register”\, just forward payment prior to the Circle via check or PayPal.  Are you on the PPR Mailing List?  If so\, you will receive a monthly email with Zoom meeting link for the remote Circle.  Otherwise\, notify Pat of your interest; you will receive a link to the Zoom online for the Circle.  To access the recorded video and watch at a time convenient to you\, contact Pat for details.   If questions\, contact Pat at 908-331-1847 or reachus@patriciaparentereiki.com \n 
URL:https://patriciaparentereiki.com/event/morning-healing-circle-2/
CATEGORIES:Healing Circle
END:VEVENT
BEGIN:VEVENT
DTSTART;TZID=UTC:20230312T190000
DTEND;TZID=UTC:20230312T200000
DTSTAMP:20260423T215903
CREATED:20230117T233106Z
LAST-MODIFIED:20230117T233106Z
UID:4925-1678647600-1678651200@patriciaparentereiki.com
SUMMARY:Evening Healing Circle
DESCRIPTION:Gift yourself some time to relax and center yourself while sharing the experience with other participants! \nIt is not necessary to be a Practitioner or to have previously received energy work to attend this Circle. You will enjoy a Guided Meditation and experience soothing Energy. \nExchange: $20.00 live attendance via Zoom\nExchange: $10.00 recorded video access\nTo Attend: No need to “register”\, just forward payment prior to the Circle via check or PayPal.  Are you on the PPR Mailing List?  If so\, you will receive a monthly email with Zoom meeting link for the remote Circle.  Otherwise\, notify Pat of your interest; you will receive a link to the Zoom online for the Circle.  To access the recorded video and watch at a time convenient to you\, contact Pat for details.   If questions\, contact Pat at 908-331-1847 or reachus@patriciaparentereiki.com \n 
URL:https://patriciaparentereiki.com/event/evening-healing-circle-2/
CATEGORIES:Healing Circle
END:VEVENT
END:VCALENDAR