BEGIN:VCALENDAR
VERSION:2.0
PRODID:-//Patricia Parente Reiki - ECPv6.15.20//NONSGML v1.0//EN
CALSCALE:GREGORIAN
METHOD:PUBLISH
X-ORIGINAL-URL:https://patriciaparentereiki.com
X-WR-CALDESC:Events for Patricia Parente Reiki
REFRESH-INTERVAL;VALUE=DURATION:PT1H
X-Robots-Tag:noindex
X-PUBLISHED-TTL:PT1H
BEGIN:VTIMEZONE
TZID:UTC
BEGIN:STANDARD
TZOFFSETFROM:+0000
TZOFFSETTO:+0000
TZNAME:UTC
DTSTART:20230101T000000
END:STANDARD
END:VTIMEZONE
BEGIN:VEVENT
DTSTART;TZID=UTC:20240107T090000
DTEND;TZID=UTC:20240107T100000
DTSTAMP:20260423T061157
CREATED:20231205T225526Z
LAST-MODIFIED:20231205T225526Z
UID:5206-1704618000-1704621600@patriciaparentereiki.com
SUMMARY:Morning Healing Circle
DESCRIPTION:Healing Circle \nGift yourself some time to relax and center yourself while sharing the experience with other participants! \nIt is not necessary to be a Practitioner or to have previously received energy work to attend this Circle. You will enjoy a Guided Meditation and experience soothing Energy. \nNote that live attendance often includes guidance received for the participants during the meditation. \nExchange: $20.00 live attendance via Zoom\n\nTo Attend: No need to “register”.  If attending in person\, bring exchange that day.  If attending remotely\, forward payment prior to the Circle via check or PayPal. \nAre you on the PPR Mailing List?  If so\, you will receive a monthly email with Zoom meeting link for remote Attendance.  Otherwise\, notify Pat of your interest in attending. \nTo access a recorded video of the Circle and watch at a time convenient to you\, visit the PPR YouTube Channel – Healing Circle Playlist section.  https://www.youtube.com/channel/UCsCjPnK0v4Q-ghx0xs4RAAg
URL:https://patriciaparentereiki.com/event/morning-healing-circle-8/
CATEGORIES:Healing Circle
END:VEVENT
END:VCALENDAR