BEGIN:VCALENDAR
VERSION:2.0
PRODID:-//Patricia Parente Reiki - ECPv6.15.20//NONSGML v1.0//EN
CALSCALE:GREGORIAN
METHOD:PUBLISH
X-WR-CALNAME:Patricia Parente Reiki
X-ORIGINAL-URL:https://patriciaparentereiki.com
X-WR-CALDESC:Events for Patricia Parente Reiki
REFRESH-INTERVAL;VALUE=DURATION:PT1H
X-Robots-Tag:noindex
X-PUBLISHED-TTL:PT1H
BEGIN:VTIMEZONE
TZID:UTC
BEGIN:STANDARD
TZOFFSETFROM:+0000
TZOFFSETTO:+0000
TZNAME:UTC
DTSTART:20230101T000000
END:STANDARD
END:VTIMEZONE
BEGIN:VEVENT
DTSTART;TZID=UTC:20241117T093000
DTEND;TZID=UTC:20241117T103000
DTSTAMP:20260422T095356
CREATED:20240927T233241Z
LAST-MODIFIED:20240927T233300Z
UID:5580-1731835800-1731839400@patriciaparentereiki.com
SUMMARY:Morning Healing Circle
DESCRIPTION:Healing Circle – Now on Sunday Morning \nGift yourself some time to relax and center yourself while sharing the experience with other participants! \nIt is not necessary to be a Practitioner or to have previously received energy work to attend this Circle. You will enjoy a Guided Meditation and experience soothing Energy. \nNote that live attendance often includes guidance received for the participants during the meditation. \nExchange: $20.00 live attendance via Zoom\n\nTo Attend: If on the PPR Mailing List\, there is no need to “register”.  For remote attendance\, forward payment prior to the Circle via check or send via PayPal. \nNot on the PPR Mailing List?  Notify Pat of your interest in attending. \nTo access a recorded video of the Circle and watch at a time convenient to you\, visit the PPR YouTube Channel – Healing Circle Playlist section.  https://www.youtube.com/channel/UCsCjPnK0v4Q-ghx0xs4RAAg
URL:https://patriciaparentereiki.com/event/morning-healing-circle-11/
CATEGORIES:Healing Circle
END:VEVENT
END:VCALENDAR