BEGIN:VCALENDAR
VERSION:2.0
PRODID:-//Patricia Parente Reiki - ECPv6.15.20//NONSGML v1.0//EN
CALSCALE:GREGORIAN
METHOD:PUBLISH
X-WR-CALNAME:Patricia Parente Reiki
X-ORIGINAL-URL:https://patriciaparentereiki.com
X-WR-CALDESC:Events for Patricia Parente Reiki
REFRESH-INTERVAL;VALUE=DURATION:PT1H
X-Robots-Tag:noindex
X-PUBLISHED-TTL:PT1H
BEGIN:VTIMEZONE
TZID:UTC
BEGIN:STANDARD
TZOFFSETFROM:+0000
TZOFFSETTO:+0000
TZNAME:UTC
DTSTART:20230101T000000
END:STANDARD
END:VTIMEZONE
BEGIN:VEVENT
DTSTART;TZID=UTC:20241215T093000
DTEND;TZID=UTC:20241215T103000
DTSTAMP:20260422T095326
CREATED:20240927T233452Z
LAST-MODIFIED:20241213T011857Z
UID:5582-1734255000-1734258600@patriciaparentereiki.com
SUMMARY:Healing Circle Moves to YouTube Live
DESCRIPTION:Healing Circle – Moving to YouTube Live December 16th \nGift yourself some time to relax and center yourself. \nIt is not necessary to be a Practitioner or to have previously received energy work to attend this Circle. You will enjoy a Guided Meditation and experience soothing Energy. \n\n\nTo Attend: Simply go to the Patricia Parente Reiki YouTube channel at 7:00 PM EST on Monday\, December 16th. \nTo access a recorded video of the Circle and watch at a time convenient to you\, visit the PPR YouTube Channel – Healing Circle Playlist section.  https://www.youtube.com/channel/UCsCjPnK0v4Q-ghx0xs4RAAg
URL:https://patriciaparentereiki.com/event/morning-healing-circle-12/
CATEGORIES:Healing Circle
END:VEVENT
END:VCALENDAR