BEGIN:VCALENDAR
VERSION:2.0
PRODID:-//Patricia Parente Reiki - ECPv6.15.20//NONSGML v1.0//EN
CALSCALE:GREGORIAN
METHOD:PUBLISH
X-WR-CALNAME:Patricia Parente Reiki
X-ORIGINAL-URL:https://patriciaparentereiki.com
X-WR-CALDESC:Events for Patricia Parente Reiki
REFRESH-INTERVAL;VALUE=DURATION:PT1H
X-Robots-Tag:noindex
X-PUBLISHED-TTL:PT1H
BEGIN:VTIMEZONE
TZID:UTC
BEGIN:STANDARD
TZOFFSETFROM:+0000
TZOFFSETTO:+0000
TZNAME:UTC
DTSTART:20240101T000000
END:STANDARD
END:VTIMEZONE
BEGIN:VEVENT
DTSTART;TZID=UTC:20250914T093000
DTEND;TZID=UTC:20250914T103000
DTSTAMP:20260422T221254
CREATED:20250820T193538Z
LAST-MODIFIED:20250820T193538Z
UID:5780-1757842200-1757845800@patriciaparentereiki.com
SUMMARY:Healing Circle
DESCRIPTION:Healing Circle – Now on Sunday Morning \nGift yourself some time to relax and center yourself while sharing the experience with other participants! \nIt is not necessary to be a Practitioner or to have previously received energy work to attend this Circle. You will enjoy a Guided Meditation and experience soothing Energy. \nExchange: Free live attendance via Zoom or watch on our YouTube channel.\n\nTo Attend on Zoom: If on the PPR Mailing List\, there is no need to “register”.  You will receive an email with the Zoom link. \nNot on the PPR Mailing List?  Notify Pat of your interest in attending. \nTo access a recorded video of the Circle and watch at a time convenient to you\, visit the PPR YouTube Channel – Healing Circle Playlist section.  https://www.youtube.com/channel/UCsCjPnK0v4Q-ghx0xs4RAAg
URL:https://patriciaparentereiki.com/event/healing-circle-78/
CATEGORIES:Healing Circle
END:VEVENT
BEGIN:VEVENT
DTSTART;TZID=UTC:20251012T093000
DTEND;TZID=UTC:20251012T103000
DTSTAMP:20260422T221254
CREATED:20250825T150145Z
LAST-MODIFIED:20250825T150145Z
UID:5787-1760261400-1760265000@patriciaparentereiki.com
SUMMARY:Healing Circle
DESCRIPTION:Healing Circle – Now on Sunday Morning \nGift yourself some time to relax and center yourself while sharing the experience with other participants!  It is not necessary to be a Practitioner or to have previously received energy work to attend this Circle. You will enjoy a Guided Meditation and experience soothing Energy. \nExchange: Free live attendance via Zoom or watch on our YouTube channel. \nTo Attend on Zoom: If on the PPR Mailing List\, there is no need to “register”.  You will receive an email with the Zoom link. Not on the PPR Mailing List?  Notify Pat of your interest in attending. \nTo access a recorded video of the Circle and watch at a time convenient to you\, visit the PPR YouTube Channel – Healing Circle Playlist section.  https://www.youtube.com/channel/UCsCjPnK0v4Q-ghx0xs4RAAg
URL:https://patriciaparentereiki.com/event/healing-circle-79/
CATEGORIES:Healing Circle
END:VEVENT
BEGIN:VEVENT
DTSTART;TZID=UTC:20251109T093000
DTEND;TZID=UTC:20251109T103000
DTSTAMP:20260422T221254
CREATED:20251020T164809Z
LAST-MODIFIED:20251020T164809Z
UID:5818-1762680600-1762684200@patriciaparentereiki.com
SUMMARY:Healing Circle
DESCRIPTION:Healing Circle – Now on Sunday Morning \nGift yourself some time to relax and center yourself while sharing the experience with other participants!\nIt is not necessary to be a Practitioner or to have previously received energy work to attend this Circle. You will enjoy a Guided Meditation and experience soothing Energy. \nExchange: Free live attendance via Zoom or watch on our YouTube channel.\n\nTo Attend on Zoom: If on the PPR Mailing List\, there is no need to “register”.  You will receive an email with the Zoom link.\nNot on the PPR Mailing List?  Notify Pat of your interest in attending. \nTo access a recorded video of the Circle and watch at a time convenient to you\, visit the PPR YouTube Channel – Healing Circle Playlist section.  https://www.youtube.com/channel/UCsCjPnK0v4Q-ghx0xs4RAAg
URL:https://patriciaparentereiki.com/event/healing-circle-81/
CATEGORIES:Healing Circle
END:VEVENT
BEGIN:VEVENT
DTSTART;TZID=UTC:20251214T093000
DTEND;TZID=UTC:20251214T103000
DTSTAMP:20260422T221254
CREATED:20251020T164658Z
LAST-MODIFIED:20251020T164658Z
UID:5816-1765704600-1765708200@patriciaparentereiki.com
SUMMARY:Healing Circle
DESCRIPTION:Healing Circle – Now on Sunday Morning \nGift yourself some time to relax and center yourself while sharing the experience with other participants!\nIt is not necessary to be a Practitioner or to have previously received energy work to attend this Circle. You will enjoy a Guided Meditation and experience soothing Energy. \nExchange: Free live attendance via Zoom or watch on our YouTube channel.\n\nTo Attend on Zoom: If on the PPR Mailing List\, there is no need to “register”.  You will receive an email with the Zoom link.\nNot on the PPR Mailing List?  Notify Pat of your interest in attending. \nTo access a recorded video of the Circle and watch at a time convenient to you\, visit the PPR YouTube Channel – Healing Circle Playlist section.  https://www.youtube.com/channel/UCsCjPnK0v4Q-ghx0xs4RAAg
URL:https://patriciaparentereiki.com/event/healing-circle-80/
CATEGORIES:Healing Circle
END:VEVENT
BEGIN:VEVENT
DTSTART;TZID=UTC:20260111T093000
DTEND;TZID=UTC:20260111T103000
DTSTAMP:20260422T221254
CREATED:20251215T211221Z
LAST-MODIFIED:20251215T211221Z
UID:5850-1768123800-1768127400@patriciaparentereiki.com
SUMMARY:Healing Circle
DESCRIPTION:Healing Circle – Now on Sunday Morning \nGift yourself some time to relax and center yourself while sharing the experience with other participants!\nIt is not necessary to be a Practitioner or to have previously received energy work to attend this Circle. You will enjoy a Guided Meditation and experience soothing Energy. \nExchange: Free live attendance via Zoom or watch on our YouTube channel.\nTo Attend on Zoom: If on the PPR Mailing List\, there is no need to “register”.  You will receive an email with the Zoom link. \nNot on the PPR Mailing List?  Notify Pat of your interest in attending. \nTo access a recorded video of the Circle and watch at a time convenient to you\, visit the PPR YouTube Channel – Healing Circle Playlist section.  https://www.youtube.com/channel/UCsCjPnK0v4Q-ghx0xs4RAAg
URL:https://patriciaparentereiki.com/event/healing-circle-82/
CATEGORIES:Healing Circle
END:VEVENT
BEGIN:VEVENT
DTSTART;TZID=UTC:20260208T093000
DTEND;TZID=UTC:20260208T103000
DTSTAMP:20260422T221254
CREATED:20251215T211428Z
LAST-MODIFIED:20251215T211428Z
UID:5852-1770543000-1770546600@patriciaparentereiki.com
SUMMARY:Healing Circle
DESCRIPTION:Healing Circle – Now on Sunday Morning \nGift yourself some time to relax and center yourself while sharing the experience with other participants!\nIt is not necessary to be a Practitioner or to have previously received energy work to attend this Circle. You will enjoy a Guided Meditation and experience soothing Energy. \nExchange: Free live attendance via Zoom or watch on our YouTube channel.\nTo Attend on Zoom: If on the PPR Mailing List\, there is no need to “register”.  You will receive an email with the Zoom link. \nNot on the PPR Mailing List?  Notify Pat of your interest in attending. \nTo access a recorded video of the Circle and watch at a time convenient to you\, visit the PPR YouTube Channel – Healing Circle Playlist section.  https://www.youtube.com/channel/UCsCjPnK0v4Q-ghx0xs4RAAg
URL:https://patriciaparentereiki.com/event/healing-circle-83/
CATEGORIES:Healing Circle
END:VEVENT
BEGIN:VEVENT
DTSTART;TZID=UTC:20260315T093000
DTEND;TZID=UTC:20260315T100000
DTSTAMP:20260422T221254
CREATED:20260215T173046Z
LAST-MODIFIED:20260215T173046Z
UID:5897-1773567000-1773568800@patriciaparentereiki.com
SUMMARY:Healing Circle
DESCRIPTION:Gift yourself some time to relax and center yourself while sharing the experience with other participants! \nIt is not necessary to be a Practitioner or to have previously received energy work to attend this Circle. You will enjoy a Guided Meditation and experience soothing Energy. \nExchange: Free live attendance via Zoom or watch on our YouTube channel.\n\nTo Attend on Zoom: If on the PPR Mailing List\, there is no need to “register”.  You will receive an email with the Zoom link. \nNot on the PPR Mailing List?  Notify Pat of your interest in attending. \nTo access a recorded video of the Circle and watch at a time convenient to you\, visit the PPR YouTube Channel – Healing Circle Playlist section.  https://www.youtube.com/channel/UCsCjPnK0v4Q-ghx0xs4RAAg
URL:https://patriciaparentereiki.com/event/healing-circle-84/
CATEGORIES:Healing Circle
END:VEVENT
BEGIN:VEVENT
DTSTART;TZID=UTC:20260419T093000
DTEND;TZID=UTC:20260419T100000
DTSTAMP:20260422T221254
CREATED:20260215T173144Z
LAST-MODIFIED:20260215T173144Z
UID:5899-1776591000-1776592800@patriciaparentereiki.com
SUMMARY:Healing Circle
DESCRIPTION:Gift yourself some time to relax and center yourself while sharing the experience with other participants! \nIt is not necessary to be a Practitioner or to have previously received energy work to attend this Circle. You will enjoy a Guided Meditation and experience soothing Energy. \nExchange: Free live attendance via Zoom or watch on our YouTube channel.\n\nTo Attend on Zoom: If on the PPR Mailing List\, there is no need to “register”.  You will receive an email with the Zoom link. \nNot on the PPR Mailing List?  Notify Pat of your interest in attending. \nTo access a recorded video of the Circle and watch at a time convenient to you\, visit the PPR YouTube Channel – Healing Circle Playlist section.  https://www.youtube.com/channel/UCsCjPnK0v4Q-ghx0xs4RAAg
URL:https://patriciaparentereiki.com/event/healing-circle-85/
CATEGORIES:Healing Circle
END:VEVENT
BEGIN:VEVENT
DTSTART;TZID=UTC:20260517T093000
DTEND;TZID=UTC:20260517T100000
DTSTAMP:20260422T221254
CREATED:20260215T173226Z
LAST-MODIFIED:20260215T173226Z
UID:5901-1779010200-1779012000@patriciaparentereiki.com
SUMMARY:Healing Circle
DESCRIPTION:Gift yourself some time to relax and center yourself while sharing the experience with other participants! \nIt is not necessary to be a Practitioner or to have previously received energy work to attend this Circle. You will enjoy a Guided Meditation and experience soothing Energy. \nExchange: Free live attendance via Zoom or watch on our YouTube channel.\n\nTo Attend on Zoom: If on the PPR Mailing List\, there is no need to “register”.  You will receive an email with the Zoom link. \nNot on the PPR Mailing List?  Notify Pat of your interest in attending. \nTo access a recorded video of the Circle and watch at a time convenient to you\, visit the PPR YouTube Channel – Healing Circle Playlist section.  https://www.youtube.com/channel/UCsCjPnK0v4Q-ghx0xs4RAAg
URL:https://patriciaparentereiki.com/event/healing-circle-86/
CATEGORIES:Healing Circle
END:VEVENT
BEGIN:VEVENT
DTSTART;TZID=UTC:20260607T093000
DTEND;TZID=UTC:20260607T100000
DTSTAMP:20260422T221254
CREATED:20260411T180613Z
LAST-MODIFIED:20260411T180613Z
UID:5947-1780824600-1780826400@patriciaparentereiki.com
SUMMARY:Healing Circle
DESCRIPTION:Healing Circle – Now on Sunday Morning \nGift yourself some time to relax and center yourself while sharing the experience with other participants!\nIt is not necessary to be a Practitioner or to have previously received energy work to attend a Circle. You will enjoy a Guided Meditation and experience soothing Energy. \nExchange: Free live attendance via Zoom or watch on our YouTube channel.\n\nTo Attend on Zoom: If on the PPR Mailing List\, there is no need to “register”.  You will receive an email with the Zoom link. \nNot on the PPR Mailing List?  Notify Pat of your interest in attending. \nTo access a recorded video of the Circle and watch at a time convenient to you\, visit the PPR YouTube Channel – Healing Circle Playlist section.  https://www.youtube.com/channel/UCsCjPnK0v4Q-ghx0xs4RAAg
URL:https://patriciaparentereiki.com/event/healing-circle-87/
CATEGORIES:Healing Circle
END:VEVENT
BEGIN:VEVENT
DTSTART;TZID=UTC:20260712T093000
DTEND;TZID=UTC:20260712T100000
DTSTAMP:20260422T221254
CREATED:20260411T180700Z
LAST-MODIFIED:20260411T180700Z
UID:5949-1783848600-1783850400@patriciaparentereiki.com
SUMMARY:Healing Circle
DESCRIPTION:Healing Circle – Now on Sunday Morning \nGift yourself some time to relax and center yourself while sharing the experience with other participants!\nIt is not necessary to be a Practitioner or to have previously received energy work to attend this Circle. You will enjoy a Guided Meditation and experience soothing Energy. \nExchange: Free live attendance via Zoom or watch on our YouTube channel.\n\nTo Attend on Zoom: If on the PPR Mailing List\, there is no need to “register”.  You will receive an email with the Zoom link. \nNot on the PPR Mailing List?  Notify Pat of your interest in attending. \nTo access a recorded video of the Circle and watch at a time convenient to you\, visit the PPR YouTube Channel – Healing Circle Playlist section.  https://www.youtube.com/channel/UCsCjPnK0v4Q-ghx0xs4RAAg
URL:https://patriciaparentereiki.com/event/healing-circle-88/
CATEGORIES:Healing Circle
END:VEVENT
END:VCALENDAR