BEGIN:VCALENDAR
VERSION:2.0
PRODID:-//Patricia Parente Reiki - ECPv6.15.20//NONSGML v1.0//EN
CALSCALE:GREGORIAN
METHOD:PUBLISH
X-WR-CALNAME:Patricia Parente Reiki
X-ORIGINAL-URL:https://patriciaparentereiki.com
X-WR-CALDESC:Events for Patricia Parente Reiki
REFRESH-INTERVAL;VALUE=DURATION:PT1H
X-Robots-Tag:noindex
X-PUBLISHED-TTL:PT1H
BEGIN:VTIMEZONE
TZID:UTC
BEGIN:STANDARD
TZOFFSETFROM:+0000
TZOFFSETTO:+0000
TZNAME:UTC
DTSTART:20170101T000000
END:STANDARD
END:VTIMEZONE
BEGIN:VEVENT
DTSTART;TZID=UTC:20180109T190000
DTEND;TZID=UTC:20180109T193000
DTSTAMP:20260422T020647
CREATED:20180106T163400Z
LAST-MODIFIED:20180109T023446Z
UID:1900-1515524400-1515526200@patriciaparentereiki.com
SUMMARY:Evening Meditation
DESCRIPTION:Bring your meditation practice to life and enjoy the convenience of guided meditation from home!  Once registered\, you will receive connection information through Zoom Meetings.
URL:https://patriciaparentereiki.com/event/evening-meditation/
CATEGORIES:Evening Meditations,Meditations
END:VEVENT
END:VCALENDAR