BEGIN:VCALENDAR
VERSION:2.0
PRODID:-//Patricia Parente Reiki - ECPv6.15.20//NONSGML v1.0//EN
CALSCALE:GREGORIAN
METHOD:PUBLISH
X-WR-CALNAME:Patricia Parente Reiki
X-ORIGINAL-URL:https://patriciaparentereiki.com
X-WR-CALDESC:Events for Patricia Parente Reiki
REFRESH-INTERVAL;VALUE=DURATION:PT1H
X-Robots-Tag:noindex
X-PUBLISHED-TTL:PT1H
BEGIN:VTIMEZONE
TZID:UTC
BEGIN:STANDARD
TZOFFSETFROM:+0000
TZOFFSETTO:+0000
TZNAME:UTC
DTSTART:20190101T000000
END:STANDARD
END:VTIMEZONE
BEGIN:VEVENT
DTSTART;TZID=UTC:20201110T210000
DTEND;TZID=UTC:20201110T220000
DTSTAMP:20260420T092459
CREATED:20200820T140632Z
LAST-MODIFIED:20200820T140632Z
UID:3487-1605042000-1605045600@patriciaparentereiki.com
SUMMARY:Practitioner Online Chat
DESCRIPTION:An opportunity for Practitioners to chat with each other via an online (Zoom) meeting room. Join in to say a quick hello or stay the hour. Pat will share the latest guidance received\, as do participants.   Healing energies may be provided based on what would be helpful to the group/environment/universe. \nYou will receive an email invitation\, which includes the link to the meeting.  If you would like to be added to the Practitioner mailing list\, contact Pat at reachus@patriciaparentereiki.com Hope to see you online!
URL:https://patriciaparentereiki.com/event/practitioner-online-chat-15/
CATEGORIES:Practitioner Event
END:VEVENT
BEGIN:VEVENT
DTSTART;TZID=UTC:20201028T210000
DTEND;TZID=UTC:20201028T220000
DTSTAMP:20260420T092459
CREATED:20200820T140404Z
LAST-MODIFIED:20200820T141607Z
UID:3484-1603918800-1603922400@patriciaparentereiki.com
SUMMARY:Practitioner Online Chat
DESCRIPTION:An opportunity for Practitioners to chat with each other via an online (Zoom) meeting room. Join in to say a quick hello or stay the hour. Pat will share the latest guidance received\, as do participants.   Healing energies may be provided based on what would be helpful to the group/environment/universe. \nYou will receive an email invitation\, which includes the link to the meeting.  If you would like to be added to the Practitioner mailing list\, contact Pat at reachus@patriciaparentereiki.com Hope to see you online!
URL:https://patriciaparentereiki.com/event/practitioner-online-chat-14/
CATEGORIES:Practitioner Event
END:VEVENT
BEGIN:VEVENT
DTSTART;TZID=UTC:20201014T210000
DTEND;TZID=UTC:20201014T220000
DTSTAMP:20260420T092459
CREATED:20200820T140302Z
LAST-MODIFIED:20200820T140302Z
UID:3482-1602709200-1602712800@patriciaparentereiki.com
SUMMARY:Practitioner Online Chat
DESCRIPTION:An opportunity for Practitioners to chat with each other via an online (Zoom) meeting room. Join in to say a quick hello or stay the hour. Pat will share the latest guidance received\, as do participants.   Healing energies may be provided based on what would be helpful to the group/environment/universe. \nYou will receive an email invitation\, which includes the link to the meeting.  If you are not on the Practitioner mailing list\, contact Pat at reachus@patriciaparentereiki.com Hope to see you online!
URL:https://patriciaparentereiki.com/event/practitioner-online-chat-13/
CATEGORIES:Practitioner Event
END:VEVENT
BEGIN:VEVENT
DTSTART;TZID=UTC:20200930T210000
DTEND;TZID=UTC:20200930T220000
DTSTAMP:20260420T092459
CREATED:20200820T140150Z
LAST-MODIFIED:20200820T140150Z
UID:3480-1601499600-1601503200@patriciaparentereiki.com
SUMMARY:Practitioner Online Chat
DESCRIPTION:An opportunity for Practitioners to chat with each other via an online (Zoom) meeting room. Join in to say a quick hello or stay the hour. Pat will share the latest guidance received\, as do participants.   Healing energies may be provided based on what would be helpful to the group/environment/universe. \nYou will receive an email invitation\, which includes the link to the meeting.  If you are not on the Practitioner mailing list\, contact Pat at reachus@patriciaparentereiki.com Hope to see you online!
URL:https://patriciaparentereiki.com/event/practitioner-online-chat-12/
CATEGORIES:Practitioner Event
END:VEVENT
BEGIN:VEVENT
DTSTART;TZID=UTC:20200909T210000
DTEND;TZID=UTC:20200909T220000
DTSTAMP:20260420T092459
CREATED:20200820T140036Z
LAST-MODIFIED:20200820T140036Z
UID:3478-1599685200-1599688800@patriciaparentereiki.com
SUMMARY:Practitioner Online Chat
DESCRIPTION:An opportunity for Practitioners to chat with each other via an online (Zoom) meeting room. Join in to say a quick hello or stay the hour. Pat will share the latest guidance received\, as do participants.   Healing energies may be provided based on what would be helpful to the group/environment/universe. \nYou will receive an email invitation\, which includes the link to the meeting.  If you would like to be added to the Practitioner mailing list\, contact Pat at reachus@patriciaparentereiki.com Hope to see you online!
URL:https://patriciaparentereiki.com/event/practitioner-online-chat-11/
CATEGORIES:Practitioner Event
END:VEVENT
BEGIN:VEVENT
DTSTART;TZID=UTC:20200805T210000
DTEND;TZID=UTC:20200805T220000
DTSTAMP:20260420T092459
CREATED:20200322T001511Z
LAST-MODIFIED:20200322T001511Z
UID:3329-1596661200-1596664800@patriciaparentereiki.com
SUMMARY:Practitioner Online Chat
DESCRIPTION:An opportunity for Practitioners to chat with each other via an online (Zoom) meeting room. Join in to say a quick hello or stay the hour. Pat will lead a brief guided meditation based on what would be helpful to the group/environment/universe. \nYou will receive an email invitation\, which includes the link to the meeting. Hope to “see” you online!
URL:https://patriciaparentereiki.com/event/practitioner-online-chat-10/
CATEGORIES:Practitioner Event
END:VEVENT
BEGIN:VEVENT
DTSTART;TZID=UTC:20200722T210000
DTEND;TZID=UTC:20200722T220000
DTSTAMP:20260420T092459
CREATED:20200321T234752Z
LAST-MODIFIED:20200321T234752Z
UID:3313-1595451600-1595455200@patriciaparentereiki.com
SUMMARY:Practitioner Online Chat
DESCRIPTION:An opportunity for Practitioners to chat with each other via an online (Zoom) meeting room. Join in to say a quick hello or stay the hour. Pat will lead a brief guided meditation based on what would be helpful to the group/environment/universe. \nYou will receive an email invitation\, which includes the link to the meeting. Hope to “see” you online!
URL:https://patriciaparentereiki.com/event/practitioner-online-chat-6/
CATEGORIES:Practitioner Event
END:VEVENT
BEGIN:VEVENT
DTSTART;TZID=UTC:20200708T210000
DTEND;TZID=UTC:20200708T220000
DTSTAMP:20260420T092459
CREATED:20200322T001308Z
LAST-MODIFIED:20200322T001308Z
UID:3327-1594242000-1594245600@patriciaparentereiki.com
SUMMARY:Practitioner Online Chat
DESCRIPTION:An opportunity for Practitioners to chat with each other via an online (Zoom) meeting room. Join in to say a quick hello or stay the hour. Pat will lead a brief guided meditation based on what would be helpful to the group/environment/universe. \nYou will receive an email invitation\, which includes the link to the meeting. Hope to “see” you online!
URL:https://patriciaparentereiki.com/event/practitioner-online-chat-9/
CATEGORIES:Practitioner Event
END:VEVENT
BEGIN:VEVENT
DTSTART;TZID=UTC:20200624T210000
DTEND;TZID=UTC:20200624T220000
DTSTAMP:20260420T092459
CREATED:20200320T211308Z
LAST-MODIFIED:20200320T211308Z
UID:3307-1593032400-1593036000@patriciaparentereiki.com
SUMMARY:Practitioner Online Chat
DESCRIPTION:An opportunity for Practitioners to chat with each other via an online (Zoom) meeting room. Join in to say a quick hello or stay the hour. Pat will lead a brief guided meditation based on what would be helpful to the group/environment/universe. \nYou will receive an email invitation\, which includes the link to the meeting. Hope to “see” you online!
URL:https://patriciaparentereiki.com/event/practitioner-online-chat-5/
CATEGORIES:Practitioner Event
END:VEVENT
BEGIN:VEVENT
DTSTART;TZID=UTC:20200610T210000
DTEND;TZID=UTC:20200610T220000
DTSTAMP:20260420T092459
CREATED:20200322T001107Z
LAST-MODIFIED:20200322T001107Z
UID:3325-1591822800-1591826400@patriciaparentereiki.com
SUMMARY:Practitioner Online Chat
DESCRIPTION:An opportunity for Practitioners to chat with each other via an online (Zoom) meeting room. Join in to say a quick hello or stay the hour. Pat will lead a brief guided meditation based on what would be helpful to the group/environment/universe. \nYou will receive an email invitation\, which includes the link to the meeting. Hope to “see” you online!
URL:https://patriciaparentereiki.com/event/practitioner-online-chat-8/
CATEGORIES:Practitioner Event
END:VEVENT
BEGIN:VEVENT
DTSTART;TZID=UTC:20200527T210000
DTEND;TZID=UTC:20200527T220000
DTSTAMP:20260420T092459
CREATED:20200320T201850Z
LAST-MODIFIED:20200320T201850Z
UID:3305-1590613200-1590616800@patriciaparentereiki.com
SUMMARY:Practitioner Online Chat
DESCRIPTION:An opportunity for Practitioners to chat with each other via an online (Zoom) meeting room. Join in to say a quick hello or stay the hour. Pat will lead a brief guided meditation based on what would be helpful to the group/environment/universe. \nYou will receive an email invitation\, which includes the link to the meeting. Hope to “see” you online!
URL:https://patriciaparentereiki.com/event/practitioner-online-chat-4/
CATEGORIES:Practitioner Event
END:VEVENT
BEGIN:VEVENT
DTSTART;TZID=UTC:20200513T210000
DTEND;TZID=UTC:20200513T220000
DTSTAMP:20260420T092459
CREATED:20200320T201751Z
LAST-MODIFIED:20200320T201751Z
UID:3303-1589403600-1589407200@patriciaparentereiki.com
SUMMARY:Practitioner Online Chat
DESCRIPTION:An opportunity for Practitioners to chat with each other via an online (Zoom) meeting room. Join in to say a quick hello or stay the hour. Pat will lead a brief guided meditation based on what would be helpful to the group/environment/universe. \nYou will receive an email invitation\, which includes the link to the meeting. Hope to “see” you online!
URL:https://patriciaparentereiki.com/event/practitioner-online-chat-3/
CATEGORIES:Practitioner Event
END:VEVENT
BEGIN:VEVENT
DTSTART;TZID=UTC:20200429T210000
DTEND;TZID=UTC:20200429T220000
DTSTAMP:20260420T092459
CREATED:20200320T201546Z
LAST-MODIFIED:20200320T201546Z
UID:3301-1588194000-1588197600@patriciaparentereiki.com
SUMMARY:Practitioner Online Chat
DESCRIPTION:An opportunity for Practitioners to chat with each other via an online (Zoom) meeting room. Join in to say a quick hello or stay the hour. Pat will lead a brief guided meditation based on what would be helpful to the group/environment/universe. \nYou will receive an email invitation\, which includes the link to the meeting. Hope to “see” you online!
URL:https://patriciaparentereiki.com/event/practitioner-online-chat-2/
CATEGORIES:Practitioner Event
END:VEVENT
BEGIN:VEVENT
DTSTART;TZID=UTC:20200415T210000
DTEND;TZID=UTC:20200415T220000
DTSTAMP:20260420T092459
CREATED:20200320T201420Z
LAST-MODIFIED:20200320T201420Z
UID:3299-1586984400-1586988000@patriciaparentereiki.com
SUMMARY:Practitioner Online Chat
DESCRIPTION:An opportunity for Practitioners to chat with each other via an online (Zoom) meeting room. Join in to say a quick hello or stay the hour. Pat will lead a brief guided meditation based on what would be helpful to the group/environment/universe. \nYou will receive an email invitation\, which includes the link to the meeting. Hope to “see” you online!
URL:https://patriciaparentereiki.com/event/practitioner-online-chat/
CATEGORIES:Practitioner Event
END:VEVENT
BEGIN:VEVENT
DTSTART;TZID=UTC:20200331T210000
DTEND;TZID=UTC:20200331T220000
DTSTAMP:20260420T092459
CREATED:20200106T210751Z
LAST-MODIFIED:20200106T210751Z
UID:3203-1585688400-1585692000@patriciaparentereiki.com
SUMMARY:Practitioner Monthly Chat and Meditation
DESCRIPTION:An opportunity for Practitioners to chat with each other via an online (Zoom) meeting room. Join in to say a quick hello or stay the hour. Pat will lead a brief guided meditation based on what would be helpful to the group/environment/universe. \nYou will receive an email invitation\, which includes the link to the meeting. Hope to “see” you online!
URL:https://patriciaparentereiki.com/event/practitioner-monthly-chat-and-meditation-3/
CATEGORIES:Practitioner Event
END:VEVENT
BEGIN:VEVENT
DTSTART;TZID=UTC:20200315T190000
DTEND;TZID=UTC:20200315T200000
DTSTAMP:20260420T092459
CREATED:20200312T203442Z
LAST-MODIFIED:20200312T203442Z
UID:3286-1584298800-1584302400@patriciaparentereiki.com
SUMMARY:Special Practitioner Online Meeting
DESCRIPTION:Special meeting offered to discuss ICRT and IARP\nrecommendations and related topics!\nPractitioner Online Chat\nSunday\, March 15 @ 7:00 PM – 8:00 PM   \nAs we are all aware\, specific health precautions are being recommended for everyone\, and practitioner membership associations are beginning to provide their recommendations for teachers and practitioners.  My intention is to share these recommendations\, share with you my approach for the near future regarding events\, classes\, circles and sessions\, and respond to any questions you may have as to how to proceed in the short term.  I feel this could be a helpful discussion and provide much food for thought. \nYou have received an email invitation\, which includes the link to the meeting. Hope to “see” you online for this important discussion!
URL:https://patriciaparentereiki.com/event/special-practitioner-online-meeting/
CATEGORIES:Practitioner Event
END:VEVENT
BEGIN:VEVENT
DTSTART;TZID=UTC:20200226T210000
DTEND;TZID=UTC:20200226T220000
DTSTAMP:20260420T092459
CREATED:20200106T210619Z
LAST-MODIFIED:20200106T210619Z
UID:3201-1582750800-1582754400@patriciaparentereiki.com
SUMMARY:Practitioner Monthly Chat and Meditation
DESCRIPTION:An opportunity for Practitioners to chat with each other via an online (Zoom) meeting room. Join in to say a quick hello or stay the hour. Pat will lead a brief guided meditation based on what would be helpful to the group/environment/universe. \nYou will receive an email invitation\, which includes the link to the meeting. Hope to “see” you online!
URL:https://patriciaparentereiki.com/event/practitioner-monthly-chat-and-meditation-2/
CATEGORIES:Practitioner Event
END:VEVENT
BEGIN:VEVENT
DTSTART;TZID=UTC:20200128T210000
DTEND;TZID=UTC:20200128T220000
DTSTAMP:20260420T092459
CREATED:20200106T210321Z
LAST-MODIFIED:20200106T210432Z
UID:3199-1580245200-1580248800@patriciaparentereiki.com
SUMMARY:Practitioner Monthly Chat and Meditation
DESCRIPTION:An opportunity for Practitioners to chat with each other via an online (Zoom) meeting room.  Join in to say a quick hello or stay the hour.  Pat will lead a brief guided meditation based on what would be helpful to the group/environment/universe. \nYou will receive an email invitation\, which includes the link to the meeting.  Hope to “see” you online!
URL:https://patriciaparentereiki.com/event/practitioner-monthly-chat-and-meditation/
CATEGORIES:Practitioner Event
END:VEVENT
END:VCALENDAR