BEGIN:VCALENDAR
VERSION:2.0
PRODID:-//Patricia Parente Reiki - ECPv6.15.20//NONSGML v1.0//EN
CALSCALE:GREGORIAN
METHOD:PUBLISH
X-WR-CALNAME:Patricia Parente Reiki
X-ORIGINAL-URL:https://patriciaparentereiki.com
X-WR-CALDESC:Events for Patricia Parente Reiki
REFRESH-INTERVAL;VALUE=DURATION:PT1H
X-Robots-Tag:noindex
X-PUBLISHED-TTL:PT1H
BEGIN:VTIMEZONE
TZID:UTC
BEGIN:STANDARD
TZOFFSETFROM:+0000
TZOFFSETTO:+0000
TZNAME:UTC
DTSTART:20170101T000000
END:STANDARD
END:VTIMEZONE
BEGIN:VEVENT
DTSTART;TZID=UTC:20200423T173000
DTEND;TZID=UTC:20200423T183000
DTSTAMP:20260420T090612
CREATED:20191121T020615Z
LAST-MODIFIED:20200320T191509Z
UID:3172-1587663000-1587666600@patriciaparentereiki.com
SUMMARY:Remote Healing Circle
DESCRIPTION:Healing Circle \nGift yourself some time to relax and center yourself while sharing the experience with other participants! \nIt is not necessary to be a Practitioner or to have previously received energy work to attend this Circle. You will enjoy a Guided Meditation and experience soothing Energy. \nExchange:  $20.00\nTo Register: Notify Pat of your interest; you will receive a link to the Zoom online for the Circle.  If questions\, contact Pat at 908-331-1847 or reachus@patriciaparentereiki.com
URL:https://patriciaparentereiki.com/event/healing-circle-33/
CATEGORIES:Reiki Circles
END:VEVENT
BEGIN:VEVENT
DTSTART;TZID=UTC:20200420T090000
DTEND;TZID=UTC:20200420T100000
DTSTAMP:20260420T090612
CREATED:20191121T020443Z
LAST-MODIFIED:20200410T160132Z
UID:3170-1587373200-1587376800@patriciaparentereiki.com
SUMMARY:Remote Healing Circle
DESCRIPTION:Healing Circle Note time change! \nGift yourself some time to relax and center yourself while sharing the experience with other participants! \nIt is not necessary to be a Practitioner or to have previously received energy work to attend this Circle. You will enjoy a Guided Meditation and experience soothing Energy. \nExchange:  $20.00\nTo Register: Notify Pat of your interest; you will receive a link to the Zoom online for the Circle.  If questions\, contact Pat at 908-331-1847 or reachus@patriciaparentereiki.com
URL:https://patriciaparentereiki.com/event/healing-circle-32/
CATEGORIES:Reiki Circles
END:VEVENT
BEGIN:VEVENT
DTSTART;TZID=UTC:20200319T173000
DTEND;TZID=UTC:20200319T183000
DTSTAMP:20260420T090612
CREATED:20191119T030932Z
LAST-MODIFIED:20200312T202534Z
UID:3163-1584639000-1584642600@patriciaparentereiki.com
SUMMARY:REMOTE Healing Circle
DESCRIPTION:Remote Healing Circle!  Gift yourself some time to relax and center yourself while sharing the experience with other participants! \nIt is not necessary to be a Practitioner or to have previously received energy work to attend this Circle. You will enjoy a Guided Meditation and experience soothing Energy. \nExchange:  $20.00\nTo Register: Reply to this email and Pat will send you the link to the Zoom online meeting setup for this Circle.  If questions\, contact Pat at 908-331-1847 or reachus@patriciaparentereiki.com \n 
URL:https://patriciaparentereiki.com/event/healing-circle-31/
CATEGORIES:Reiki Circles
END:VEVENT
BEGIN:VEVENT
DTSTART;TZID=UTC:20200316T100000
DTEND;TZID=UTC:20200316T110000
DTSTAMP:20260420T090612
CREATED:20191119T030811Z
LAST-MODIFIED:20200312T202346Z
UID:3161-1584352800-1584356400@patriciaparentereiki.com
SUMMARY:REMOTE Healing Circle
DESCRIPTION:Remote Healing Circle!  Gift yourself some time to relax and center yourself while sharing the experience with other participants! \nIt is not necessary to be a Practitioner or to have previously received energy work to attend this Circle. You will enjoy a Guided Meditation and experience soothing Energy. \nExchange:  $20.00\n \nTo Register: Reply to this email and Pat will send you the link to the Zoom online meeting setup for this Circle.  If questions\, contact Pat at 908-331-1847 or reachus@patriciaparentereiki.com \n 
URL:https://patriciaparentereiki.com/event/healing-circle-30/
CATEGORIES:Reiki Circles
END:VEVENT
BEGIN:VEVENT
DTSTART;TZID=UTC:20200213T173000
DTEND;TZID=UTC:20200213T183000
DTSTAMP:20260420T090612
CREATED:20191119T024622Z
LAST-MODIFIED:20191119T031005Z
UID:3151-1581615000-1581618600@patriciaparentereiki.com
SUMMARY:Healing Circle
DESCRIPTION:Gift yourself some time to relax and center yourself while sharing the experience with other participants! \nIt is not necessary to be a Practitioner or to have previously received energy work to attend this Circle. You will enjoy a Guided Meditation and experience soothing Energy. \nExchange:  $20.00*\nTo Register: No need to register\, just arrive a few minutes before start time.  If questions\, contact Pat at 908-331-1847 or reachus@patriciaparentereiki.com \n 
URL:https://patriciaparentereiki.com/event/healing-circle-29/
CATEGORIES:Reiki Circles
END:VEVENT
BEGIN:VEVENT
DTSTART;TZID=UTC:20200210T100000
DTEND;TZID=UTC:20200210T110000
DTSTAMP:20260420T090612
CREATED:20191119T024503Z
LAST-MODIFIED:20191119T024503Z
UID:3149-1581328800-1581332400@patriciaparentereiki.com
SUMMARY:Healing Circle
DESCRIPTION:Gift yourself some time to relax and center yourself while sharing the experience with other participants! \nIt is not necessary to be a Practitioner or to have previously received energy work to attend this Circle. You will enjoy a Guided Meditation and experience soothing Energy. \nExchange:  $20.00*\nTo Register: No need to register\, just arrive a few minutes before start time.  If questions\, contact Pat at 908-331-1847 or reachus@patriciaparentereiki.com \n 
URL:https://patriciaparentereiki.com/event/healing-circle-28/
CATEGORIES:Reiki Circles
END:VEVENT
BEGIN:VEVENT
DTSTART;TZID=UTC:20200116T173000
DTEND;TZID=UTC:20200116T183000
DTSTAMP:20260420T090612
CREATED:20191110T011627Z
LAST-MODIFIED:20191118T010639Z
UID:3134-1579195800-1579199400@patriciaparentereiki.com
SUMMARY:Healing Circle
DESCRIPTION:Healing Circle\nStart the New Year by gifting yourself some time to relax and center yourself\, while sharing the experience with other participants! \nIt is not necessary to be a Practitioner or to have previously received energy work to attend this Circle. You will enjoy a Guided Meditation and experience soothing Energy. \nExchange:  $20.00\nTo Register: No need to register\, just arrive a few minutes before start time.  If questions\, contact Pat at 908-331-1847 or reachus@patriciaparentereiki.com
URL:https://patriciaparentereiki.com/event/healing-circle-27/
CATEGORIES:Reiki Circles
END:VEVENT
BEGIN:VEVENT
DTSTART;TZID=UTC:20200113T100000
DTEND;TZID=UTC:20200113T110000
DTSTAMP:20260420T090612
CREATED:20191110T011242Z
LAST-MODIFIED:20191119T024153Z
UID:3130-1578909600-1578913200@patriciaparentereiki.com
SUMMARY:Healing Circle
DESCRIPTION:Healing Circle\nStart the New Year by gifting yourself some time to relax and center yourself\, while sharing the experience with other participants! \nIt is not necessary to be a Practitioner or to have previously received energy work to attend this Circle. You will enjoy a Guided Meditation and experience soothing Energy. \nExchange:  $20.00\nTo Register: No need to register\, just arrive a few minutes before start time.  If questions\, contact Pat at 908-331-1847 or reachus@patriciaparentereiki.com \nThis Circle is repeated on Thursday\, Jan 23 @ 5:30 PM.
URL:https://patriciaparentereiki.com/event/healing-circle-26/
CATEGORIES:Reiki Circles
END:VEVENT
BEGIN:VEVENT
DTSTART;TZID=UTC:20190923T150000
DTEND;TZID=UTC:20190923T160000
DTSTAMP:20260420T090612
CREATED:20190921T184025Z
LAST-MODIFIED:20190921T184104Z
UID:3095-1569250800-1569254400@patriciaparentereiki.com
SUMMARY:Healing Circle - Repeat of Electromagnetic Body
DESCRIPTION:Healing Circle – For those who missed the August Circle (or would love to experience it again!) \nJoin us for the introduction of the path  to the Five Higher Bodies.  This Circle\, the Electromagnetic Body\, which houses the Physical Body and the Aura.  Experience a Guided Meditation and receive healing energies!\nYou may also attend remotely:\nTime: Sep 23\, 2019 03:00 PM Eastern Time (US and Canada)\nJoin Zoom Meeting https://zoom.us/j/8461925005\nSign in a few minutes prior to start of Circle.
URL:https://patriciaparentereiki.com/event/healing-circle-25/
CATEGORIES:Reiki Circles
END:VEVENT
BEGIN:VEVENT
DTSTART;TZID=UTC:20181214T170000
DTEND;TZID=UTC:20181214T180000
DTSTAMP:20260420T090612
CREATED:20180909T002229Z
LAST-MODIFIED:20181127T005610Z
UID:2411-1544806800-1544810400@patriciaparentereiki.com
SUMMARY:Healing Circle
DESCRIPTION:Healing Circle \nGift yourself some time to relax and center yourself while sharing the experience with other participants! \nIt is not necessary to be a Practitioner or to have previously received Reiki or other Energy Work to attend this Circle. You will enjoy a Guided Meditation and experience soothing energy. \nExchange:  $20.00*\n*$20.00 exchange to Patricia Parente Reiki.  $5.00: find a way to ‘pay it forward’ over the next month! \nTo Register: No need to register\, just arrive a few minutes before start time.  If questions\, contact Pat at 908-331-1847 or reachus@patriciaparentereiki.com
URL:https://patriciaparentereiki.com/event/reiki-circle-25/
CATEGORIES:Reiki Circles
END:VEVENT
BEGIN:VEVENT
DTSTART;TZID=UTC:20181112T100000
DTEND;TZID=UTC:20181112T110000
DTSTAMP:20260420T090612
CREATED:20180909T000816Z
LAST-MODIFIED:20180909T000816Z
UID:2404-1542016800-1542020400@patriciaparentereiki.com
SUMMARY:Reiki Circle
DESCRIPTION:Reiki Circle \nGift yourself some time to relax and center yourself while sharing the experience with other participants! \nIt is not necessary to be a Reiki Practitioner or to have previously received Reiki to attend this Circle. You will enjoy a Guided Meditation and experience soothing Reiki energy. \nExchange:  $20.00*\n*$20.00 exchange to Patricia Parente Reiki.  $5.00: find a way to ‘pay it forward’ over the next month! \nTo Register: No need to register\, just arrive a few minutes before start time.  If questions\, contact Pat at 908-331-1847 or reachus@patriciaparentereiki.com
URL:https://patriciaparentereiki.com/event/reiki-circle-24/
CATEGORIES:Reiki Circles
END:VEVENT
BEGIN:VEVENT
DTSTART;TZID=UTC:20181109T170000
DTEND;TZID=UTC:20181109T180000
DTSTAMP:20260420T090612
CREATED:20180909T000544Z
LAST-MODIFIED:20180909T000544Z
UID:2400-1541782800-1541786400@patriciaparentereiki.com
SUMMARY:Reiki Circle
DESCRIPTION:Reiki Circle \nGift yourself some time to relax and center yourself while sharing the experience with other participants! \nIt is not necessary to be a Reiki Practitioner or to have previously received Reiki to attend this Circle. You will enjoy a Guided Meditation and experience soothing Reiki energy. \nExchange:  $20.00*\n*$20.00 exchange to Patricia Parente Reiki.  $5.00: find a way to ‘pay it forward’ over the next month! \nTo Register: No need to register\, just arrive a few minutes before start time.  If questions\, contact Pat at 908-331-1847 or reachus@patriciaparentereiki.com
URL:https://patriciaparentereiki.com/event/reiki-circle-23/
CATEGORIES:Reiki Circles
END:VEVENT
BEGIN:VEVENT
DTSTART;TZID=UTC:20181019T170000
DTEND;TZID=UTC:20181019T180000
DTSTAMP:20260420T090612
CREATED:20180909T000048Z
LAST-MODIFIED:20180909T000048Z
UID:2396-1539968400-1539972000@patriciaparentereiki.com
SUMMARY:Reiki Circle
DESCRIPTION:Reiki Circle \nGift yourself some time to relax and center yourself while sharing the experience with other participants! \nIt is not necessary to be a Reiki Practitioner or to have previously received Reiki to attend this Circle. You will enjoy a Guided Meditation and experience soothing Reiki energy. \nExchange:  $20.00*\n*$20.00 exchange to Patricia Parente Reiki.  $5.00: find a way to ‘pay it forward’ over the next month! \nTo Register: No need to register\, just arrive a few minutes before start time.  If questions\, contact Pat at 908-331-1847 or reachus@patriciaparentereiki.com
URL:https://patriciaparentereiki.com/event/reiki-circle-22/
CATEGORIES:Reiki Circles
END:VEVENT
BEGIN:VEVENT
DTSTART;TZID=UTC:20181015T100000
DTEND;TZID=UTC:20181015T110000
DTSTAMP:20260420T090612
CREATED:20180908T235955Z
LAST-MODIFIED:20180908T235955Z
UID:2394-1539597600-1539601200@patriciaparentereiki.com
SUMMARY:Reiki Circle
DESCRIPTION:Reiki Circle \nGift yourself some time to relax and center yourself while sharing the experience with other participants! \nIt is not necessary to be a Reiki Practitioner or to have previously received Reiki to attend this Circle. You will enjoy a Guided Meditation and experience soothing Reiki energy. \nExchange:  $20.00*\n*$20.00 exchange to Patricia Parente Reiki.  $5.00: find a way to ‘pay it forward’ over the next month! \nTo Register: No need to register\, just arrive a few minutes before start time.  If questions\, contact Pat at 908-331-1847 or reachus@patriciaparentereiki.com
URL:https://patriciaparentereiki.com/event/reiki-circle-21/
CATEGORIES:Reiki Circles
END:VEVENT
BEGIN:VEVENT
DTSTART;TZID=UTC:20180917T100000
DTEND;TZID=UTC:20180917T110000
DTSTAMP:20260420T090612
CREATED:20180618T171719Z
LAST-MODIFIED:20180913T000625Z
UID:2369-1537178400-1537182000@patriciaparentereiki.com
SUMMARY:Reiki Circle
DESCRIPTION:This will be our only Reiki Circle in September.  Don’t miss it\, as we are supporting the body’s Immune System! \nGift yourself some time to relax and center yourself while sharing the experience with other participants! \nIt is not necessary to be a Reiki Practitioner or to have previously received Reiki to attend this Circle. You will enjoy a Guided Meditation and experience soothing Reiki energy. \nExchange:  $20.00*\n*$20.00 exchange to Patricia Parente Reiki.  $5.00: find a way to ‘pay it forward’ over the next month! \nTo Register: No need to register\, just arrive a few minutes before start time.  If questions\, contact Pat at 908-331-1847 or reachus@patriciaparentereiki.com
URL:https://patriciaparentereiki.com/event/reiki-circle-19/
CATEGORIES:Reiki Circles
END:VEVENT
BEGIN:VEVENT
DTSTART;TZID=UTC:20180914T170000
DTEND;TZID=UTC:20180914T180000
DTSTAMP:20260420T090612
CREATED:20180618T172202Z
LAST-MODIFIED:20180913T000246Z
UID:2371-1536944400-1536948000@patriciaparentereiki.com
SUMMARY:Reiki Circle Rescheduled!
DESCRIPTION:It was necessary to combine the September Reiki Circles.  The Circle for September will be held on Monday\, September 17th at 10:00 AM.  Sorry for any inconvenience! \nGift yourself some time to relax and center yourself while sharing the experience with other participants! \nIt is not necessary to be a Reiki Practitioner or to have previously received Reiki to attend this Circle. You will enjoy a Guided Meditation and experience soothing Reiki energy. \nExchange:  $20.00*\n*$20.00 exchange to Patricia Parente Reiki.  $5.00: find a way to ‘pay it forward’ over the next month! \nTo Register: No need to register\, just arrive a few minutes before start time.  If questions\, contact Pat at 908-331-1847 or reachus@patriciaparentereiki.com
URL:https://patriciaparentereiki.com/event/reiki-circle-20/
CATEGORIES:Reiki Circles
END:VEVENT
BEGIN:VEVENT
DTSTART;TZID=UTC:20180817T170000
DTEND;TZID=UTC:20180817T180000
DTSTAMP:20260420T090612
CREATED:20180618T170306Z
LAST-MODIFIED:20180618T171806Z
UID:2367-1534525200-1534528800@patriciaparentereiki.com
SUMMARY:Reiki Circle
DESCRIPTION:Gift yourself some time to relax and center yourself\, while sharing the experience with other participants! \nIt is not necessary to be a Reiki Practitioner or to have previously received Reiki to attend this Circle. You will enjoy a Guided Meditation and experience soothing Reiki energy. \nExchange:  $20.00*\n*$20.00 exchange to Patricia Parente Reiki.  $5.00: find a way to ‘pay it forward’ over the next month! \nTo Register: No need to register\, just arrive a few minutes before start time.  If questions\, contact Pat at 908-331-1847 or reachus@patriciaparentereiki.com
URL:https://patriciaparentereiki.com/event/reiki-circle-18/
CATEGORIES:Reiki Circles
END:VEVENT
BEGIN:VEVENT
DTSTART;TZID=UTC:20180813T100000
DTEND;TZID=UTC:20180813T110000
DTSTAMP:20260420T090612
CREATED:20180618T170037Z
LAST-MODIFIED:20180618T171850Z
UID:2365-1534154400-1534158000@patriciaparentereiki.com
SUMMARY:Reiki Circle
DESCRIPTION:Gift yourself some time to relax and center yourself while sharing the experience with other participants! \nIt is not necessary to be a Reiki Practitioner or to have previously received Reiki to attend this Circle. You will enjoy a Guided Meditation and experience soothing Reiki energy. \nExchange:  $20.00*\n*$20.00 exchange to Patricia Parente Reiki.  $5.00: find a way to ‘pay it forward’ over the next month! \nTo Register: No need to register\, just arrive a few minutes before start time.  If questions\, contact Pat at 908-331-1847 or reachus@patriciaparentereiki.com
URL:https://patriciaparentereiki.com/event/reiki-circle-17/
CATEGORIES:Reiki Circles
END:VEVENT
BEGIN:VEVENT
DTSTART;TZID=UTC:20180720T170000
DTEND;TZID=UTC:20180720T180000
DTSTAMP:20260420T090612
CREATED:20180618T163227Z
LAST-MODIFIED:20180714T010821Z
UID:2359-1532106000-1532109600@patriciaparentereiki.com
SUMMARY:Reiki Circle
DESCRIPTION:Don’t miss the July and August Reiki Circles!  We will focus on the Thymus Gland\, which supports your immune system!  Are you plagued by colds\, infections or other health challenges?  Are you aware that if you make choices that are not in harmony with your body’s needs and design\, the surveillance mechanism of the thymus becomes confused?  The July Circle will begin the work; don’t miss it! \nGift yourself some time to relax and center yourself while sharing the experience with other participants! \nIt is not necessary to be a Reiki Practitioner or to have previously received Reiki to attend this Circle. You will enjoy a Guided Meditation and experience soothing Reiki energy. \nExchange:  $20.00*\n*$20.00 exchange to Patricia Parente Reiki.  $5.00: find a way to ‘pay it forward’ over the next month! \nTo Register: No need to register\, just arrive a few minutes before start time.  If questions\, contact Pat at 908-331-1847 or reachus@patriciaparentereiki.com
URL:https://patriciaparentereiki.com/event/reiki-circle-16/
CATEGORIES:Reiki Circles
END:VEVENT
BEGIN:VEVENT
DTSTART;TZID=UTC:20180709T100000
DTEND;TZID=UTC:20180709T110000
DTSTAMP:20260420T090612
CREATED:20180618T161852Z
LAST-MODIFIED:20180618T163046Z
UID:2353-1531130400-1531134000@patriciaparentereiki.com
SUMMARY:Reiki Circle
DESCRIPTION:Gift yourself some time to relax and center yourself while sharing the experience with other participants! \nIt is not necessary to be a Reiki Practitioner or to have previously received Reiki to attend this Circle. You will enjoy a Guided Meditation and experience soothing Reiki energy. \nExchange:  $20.00* \n*$20.00 exchange to Patricia Parente Reiki.  $5.00 find a way to ‘pay it forward’ over the next month! \nTo Register: No need to register\, just arrive a few minutes before start time.  If questions\, contact Pat at 908-331-1847 or reachus@patriciaparentereiki.com
URL:https://patriciaparentereiki.com/event/reiki-circle-14/
CATEGORIES:Reiki Circles
END:VEVENT
BEGIN:VEVENT
DTSTART;TZID=UTC:20180608T170000
DTEND;TZID=UTC:20180608T180000
DTSTAMP:20260420T090612
CREATED:20180220T012344Z
LAST-MODIFIED:20180220T012344Z
UID:2286-1528477200-1528480800@patriciaparentereiki.com
SUMMARY:Reiki Circle
DESCRIPTION:It is not necessary to be a Reiki Practitioner or to have previously received Reiki to attend this Circle. You will enjoy a Guided Meditation and experience soothing Reiki energy. \n  \nExchange (either type of Reiki Circle):  $25.00*\n*$20.00 exchange to Patricia Parente Reiki.  $5.00 find a way to ‘pay it forward’ over the next month! \n 
URL:https://patriciaparentereiki.com/event/reiki-circle-13/
CATEGORIES:Reiki Circles
END:VEVENT
BEGIN:VEVENT
DTSTART;TZID=UTC:20180604T100000
DTEND;TZID=UTC:20180604T110000
DTSTAMP:20260420T090612
CREATED:20180220T010905Z
LAST-MODIFIED:20180220T010905Z
UID:2276-1528106400-1528110000@patriciaparentereiki.com
SUMMARY:Reiki Circle
DESCRIPTION:It is not necessary to be a Reiki Practitioner or to have previously received Reiki to attend this Circle. You will enjoy a Guided Meditation and experience soothing Reiki energy. \n  \nExchange (either type of Reiki Circle):  $25.00*\n*$20.00 exchange to Patricia Parente Reiki.  $5.00 find a way to ‘pay it forward’ over the next month!
URL:https://patriciaparentereiki.com/event/reiki-circle-11/
CATEGORIES:Reiki Circles
END:VEVENT
BEGIN:VEVENT
DTSTART;TZID=UTC:20180518T170000
DTEND;TZID=UTC:20180518T180000
DTSTAMP:20260420T090612
CREATED:20180220T005827Z
LAST-MODIFIED:20180517T192437Z
UID:2272-1526662800-1526666400@patriciaparentereiki.com
SUMMARY:To be rescheduled Reiki Circle
DESCRIPTION:It is not necessary to be a Reiki Practitioner or to have previously received Reiki to attend this Circle. You will enjoy a Guided Meditation and experience soothing Reiki energy. \n  \nExchange (either type of Reiki Circle):  $25.00*\n*$20.00 exchange to Patricia Parente Reiki.  $5.00 find a way to ‘pay it forward’ over the next month!
URL:https://patriciaparentereiki.com/event/reiki-circle-10/
CATEGORIES:Reiki Circles
END:VEVENT
BEGIN:VEVENT
DTSTART;TZID=UTC:20180514T100000
DTEND;TZID=UTC:20180514T110000
DTSTAMP:20260420T090612
CREATED:20180220T005620Z
LAST-MODIFIED:20180220T005925Z
UID:2270-1526292000-1526295600@patriciaparentereiki.com
SUMMARY:Reiki Circle
DESCRIPTION:It is not necessary to be a Reiki Practitioner or to have previously received Reiki to attend this Circle. You will enjoy a Guided Meditation and experience soothing Reiki energy. \n  \nExchange (either type of Reiki Circle):  $25.00*\n*$20.00 exchange to Patricia Parente Reiki.  $5.00 find a way to ‘pay it forward’ over the next month!
URL:https://patriciaparentereiki.com/event/reiki-circle-9/
CATEGORIES:Reiki Circles
END:VEVENT
BEGIN:VEVENT
DTSTART;TZID=UTC:20180413T170000
DTEND;TZID=UTC:20180413T180000
DTSTAMP:20260420T090612
CREATED:20180115T014736Z
LAST-MODIFIED:20180218T014117Z
UID:2165-1523638800-1523642400@patriciaparentereiki.com
SUMMARY:Reiki Circle
DESCRIPTION:It is not necessary to be a Reiki Practitioner or to have previously received Reiki to attend this Circle. You will enjoy a Guided Meditation and experience soothing Reiki energy.
URL:https://patriciaparentereiki.com/event/reiki-circle-8/
CATEGORIES:Reiki Circles
END:VEVENT
BEGIN:VEVENT
DTSTART;TZID=UTC:20180409T100000
DTEND;TZID=UTC:20180409T110000
DTSTAMP:20260420T090612
CREATED:20180115T014627Z
LAST-MODIFIED:20180218T014235Z
UID:2163-1523268000-1523271600@patriciaparentereiki.com
SUMMARY:Reiki Circle
DESCRIPTION:It is not necessary to be a Reiki Practitioner or to have previously received Reiki to attend this Circle. You will enjoy a Guided Meditation and experience soothing Reiki energy.
URL:https://patriciaparentereiki.com/event/reiki-circle-7/
CATEGORIES:Reiki Circles
END:VEVENT
BEGIN:VEVENT
DTSTART;TZID=UTC:20180316T170000
DTEND;TZID=UTC:20180316T180000
DTSTAMP:20260420T090612
CREATED:20180114T200801Z
LAST-MODIFIED:20180218T012118Z
UID:2126-1521219600-1521223200@patriciaparentereiki.com
SUMMARY:Reiki Circle
DESCRIPTION:It is not necessary to be a Reiki Practitioner or to have previously received Reiki to attend this Circle. You will enjoy a Guided Meditation and experience soothing Reiki energy.
URL:https://patriciaparentereiki.com/event/reiki-circle-6/
CATEGORIES:Reiki Circles
END:VEVENT
BEGIN:VEVENT
DTSTART;TZID=UTC:20180312T100000
DTEND;TZID=UTC:20180312T110000
DTSTAMP:20260420T090612
CREATED:20180114T200655Z
LAST-MODIFIED:20180217T213616Z
UID:2124-1520848800-1520852400@patriciaparentereiki.com
SUMMARY:Reiki Circle
DESCRIPTION:It is not necessary to be a Reiki Practitioner or to have previously received Reiki to attend this Circle. You will enjoy a Guided Meditation and experience soothing Reiki energy.
URL:https://patriciaparentereiki.com/event/reiki-circle-5/
CATEGORIES:Reiki Circles
END:VEVENT
BEGIN:VEVENT
DTSTART;TZID=UTC:20180220T080000
DTEND;TZID=UTC:20180220T170000
DTSTAMP:20260420T090612
CREATED:20180220T011030Z
LAST-MODIFIED:20180220T011030Z
UID:2278-1519113600-1519146000@patriciaparentereiki.com
SUMMARY:Reiki Circle
DESCRIPTION:It is not necessary to be a Reiki Practitioner or to have previously received Reiki to attend this Circle. You will enjoy a Guided Meditation and experience soothing Reiki energy. \n  \nExchange (either type of Reiki Circle):  $25.00*\n*$20.00 exchange to Patricia Parente Reiki.  $5.00 find a way to ‘pay it forward’ over the next month!
URL:https://patriciaparentereiki.com/event/reiki-circle-12/
CATEGORIES:Reiki Circles
END:VEVENT
BEGIN:VEVENT
DTSTART;TZID=UTC:20180115T100000
DTEND;TZID=UTC:20180115T110000
DTSTAMP:20260420T090612
CREATED:20180106T153732Z
LAST-MODIFIED:20180115T015028Z
UID:1869-1516010400-1516014000@patriciaparentereiki.com
SUMMARY:Reiki Circle
DESCRIPTION:It is not necessary to be a Reiki Practitioner or to have previously received Reiki to attend this Circle. You will enjoy a Guided Meditation and experience soothing Reiki energy.
URL:https://patriciaparentereiki.com/event/reiki-circle/
CATEGORIES:Reiki Circles
ATTACH;FMTTYPE=image/jpeg:https://patriciaparentereiki.com/wp-content/uploads/2015/06/K5T_8461.jpg
END:VEVENT
END:VCALENDAR