BEGIN:VCALENDAR
VERSION:2.0
PRODID:-//Patricia Parente Reiki - ECPv6.15.20//NONSGML v1.0//EN
CALSCALE:GREGORIAN
METHOD:PUBLISH
X-WR-CALNAME:Patricia Parente Reiki
X-ORIGINAL-URL:https://patriciaparentereiki.com
X-WR-CALDESC:Events for Patricia Parente Reiki
REFRESH-INTERVAL;VALUE=DURATION:PT1H
X-Robots-Tag:noindex
X-PUBLISHED-TTL:PT1H
BEGIN:VTIMEZONE
TZID:UTC
BEGIN:STANDARD
TZOFFSETFROM:+0000
TZOFFSETTO:+0000
TZNAME:UTC
DTSTART:20240101T000000
END:STANDARD
END:VTIMEZONE
BEGIN:VEVENT
DTSTART;TZID=UTC:20250818T093000
DTEND;TZID=UTC:20250818T163000
DTSTAMP:20260420T005925
CREATED:20250802T182447Z
LAST-MODIFIED:20250802T182505Z
UID:5771-1755509400-1755534600@patriciaparentereiki.com
SUMMARY:Reiki Level I
DESCRIPTION:Reiki I is the foundation step in Usui / Tibetan style of Reiki Healing Mastery – a true journey in self-discovery. \nThrough lecture\, demonstration\, discussion\, and hands-on practice in self-treatment\, you will learn the history of Reiki\, the Reiki Principles\, the major chakras\, the Pillars of Reiki Treatments\, conducting a self-treatment\, and an introduction to the treatment of others.  Upon successful completion of the class you will receive a Reiki I Attunement. \nPrerequisite: None\, other than age minimum of 14 for Teens.\nClass Length: Approximately 10 hours of class time; can be conducted over two days\, plus independent study.\nMaterials:  Included in the exchange for the class are the Reiki: The Healing Touch\, First and Second Degree Manual along with supplemental charts and materials from Patricia Parente Reiki.\nMassage Therapists CE credit:  10 credit hours (NCBTMB AP#1285)\nExchange:  $195* (*plus postage if mailing materials)
URL:https://patriciaparentereiki.com/event/reiki-level-i-3/
CATEGORIES:Reiki Classes
END:VEVENT
END:VCALENDAR