BEGIN:VCALENDAR
VERSION:2.0
PRODID:-//Patricia Parente Reiki - ECPv6.15.20//NONSGML v1.0//EN
CALSCALE:GREGORIAN
METHOD:PUBLISH
X-WR-CALNAME:Patricia Parente Reiki
X-ORIGINAL-URL:https://patriciaparentereiki.com
X-WR-CALDESC:Events for Patricia Parente Reiki
REFRESH-INTERVAL;VALUE=DURATION:PT1H
X-Robots-Tag:noindex
X-PUBLISHED-TTL:PT1H
BEGIN:VTIMEZONE
TZID:UTC
BEGIN:STANDARD
TZOFFSETFROM:+0000
TZOFFSETTO:+0000
TZNAME:UTC
DTSTART:20240101T000000
END:STANDARD
END:VTIMEZONE
BEGIN:VEVENT
DTSTART;TZID=UTC:20250301T120000
DTEND;TZID=UTC:20250301T140000
DTSTAMP:20260423T205659
CREATED:20250212T212104Z
LAST-MODIFIED:20250212T212104Z
UID:5688-1740830400-1740837600@patriciaparentereiki.com
SUMMARY:VFEOTH Reading Development Meeting
DESCRIPTION:VFEOTH® practitioner meeting to finalize  protocol.
URL:https://patriciaparentereiki.com/event/vfeoth-reading-development-meeting/
CATEGORIES:Violet Flame Energy of the Heart
END:VEVENT
BEGIN:VEVENT
DTSTART;TZID=UTC:20250330T100000
DTEND;TZID=UTC:20250330T170000
DTSTAMP:20260423T205659
CREATED:20250215T194208Z
LAST-MODIFIED:20250215T194208Z
UID:5691-1743328800-1743354000@patriciaparentereiki.com
SUMMARY:VFEOTH® Foundation Level Class
DESCRIPTION:VFEOTH® Training  \nIntegrated Treatment Structure\nSession 1: Foundation Session\nSession 2: Healing the Past Session\nSession 3: Empowerment Session\nSession 4: Inner Wisdom Session\nSession 5: Creativity Session\nSession 6: Vision Session \nThis modality is taught in two phases.  You may choose to be a Master Practitioner within the first phase (Foundation Level) or continue study to be a Master Practitioner of the full Integrated Treatment Structure. \nFoundation Class includes: Origin; History; Guides/Guidance; Foundation Step Session Protocol for others (in-person and distance)\, Session Protocol for self-healing; Symbols and Crystals; Energy Alignment Ceremony; Session Documentation and other Business Administration Practices.  Upon completion of this class\, you will be certified as a Master Practitioner of the Violet Flame Energy Of The Heart® Foundation Level. \nIntegrated Treatment Structure Class includes: Origin; For each session of the full Structure: Session Protocol for others (in-person and distance)\, Session Protocol for self-healing; Healing Prayer; Affirmation; Symbol and Crystal.  Energy Alignment Ceremony to the five new symbols.  Upon completion of this class\, you will be certified as a Master Practitioner of the Violet Flame Energy Of The Heart® Integrated Treatment Structure. \nTo Register or For More Information: Contact Pat 908-331-1847 or email reachus@patriciaparentereiki.com\nExchange for the Foundation Class: $212.00\, including manual\, printed symbols and access to video of Daily Practice for Practitioners.\nExchange for the Integrated Treatment Structure Class: $350.00 including manual\, printed symbols and access to videos of Daily Practice for Practitioners.\nScheduling: Foundation Classes are currently running as a 2-day events; however\, this can/may be adjusted over 3 or more days based on student requests.  ITS Classes are 4 days. \nContact Pat with any questions 908-331-1847 or reachus@patriciaparentereiki.com.
URL:https://patriciaparentereiki.com/event/vfeoth-foundation-level-class/
CATEGORIES:Violet Flame Energy of the Heart
END:VEVENT
END:VCALENDAR