BEGIN:VCALENDAR
VERSION:2.0
PRODID:-//Patricia Parente Reiki - ECPv6.15.20//NONSGML v1.0//EN
CALSCALE:GREGORIAN
METHOD:PUBLISH
X-ORIGINAL-URL:https://patriciaparentereiki.com
X-WR-CALDESC:Events for Patricia Parente Reiki
REFRESH-INTERVAL;VALUE=DURATION:PT1H
X-Robots-Tag:noindex
X-PUBLISHED-TTL:PT1H
BEGIN:VTIMEZONE
TZID:UTC
BEGIN:STANDARD
TZOFFSETFROM:+0000
TZOFFSETTO:+0000
TZNAME:UTC
DTSTART:20240101T000000
END:STANDARD
END:VTIMEZONE
BEGIN:VEVENT
DTSTART;TZID=UTC:20250628T090000
DTEND;TZID=UTC:20250628T140000
DTSTAMP:20260423T161120
CREATED:20250525T163538Z
LAST-MODIFIED:20250525T164039Z
UID:5732-1751101200-1751119200@patriciaparentereiki.com
SUMMARY:Flame of Love ReadingSM Event
DESCRIPTION:You are invited to try this unique\, heart-focused healing opportunity that includes a card reading experience. Receive the healing energies used in Violet Flame Energy of the Heart® sessions and messages from the Guides of this healing modality.\nBusy schedule?  This interactive reading is 20 minutes in length!\nWhy schedule during the event?  Discounted price for the reading\, an opportunity to purchase crystal jewelry that supports the specific healing energies\, and space for you to establish a strong connection to the power of your Heart.\nWho will conduct the readings?  You can schedule with Pat\, Dawn\, Karin\, Lori\, Mark\, Maryam\, or Susan.\nAnd!  Natassha of Sacred Earrth will be here with her beautiful crystal creations! \nHours: \nSat June 28 – 9:00 AM to 2:00 PM Readings scheduled every 30 minutes.\nSun June 29 – 12:00 to 5:00 PM Readings scheduled every 30 minutes\nNOTE: Let us know if you have a special scheduling request!  We will do our best to accommodate you! \nExchange:\nReading: $35.00 (a $10.00 discount for this event only)\nJewelry: As priced
URL:https://patriciaparentereiki.com/event/flame-of-love-readingsm-event/
CATEGORIES:Events - Special,Violet Flame Energy of the Heart
END:VEVENT
BEGIN:VEVENT
DTSTART;TZID=UTC:20250629T120000
DTEND;TZID=UTC:20250629T170000
DTSTAMP:20260423T161120
CREATED:20250525T163819Z
LAST-MODIFIED:20250525T164100Z
UID:5734-1751198400-1751216400@patriciaparentereiki.com
SUMMARY:Flame of Love ReadingSM Event
DESCRIPTION:You are invited to try this unique\, heart-focused healing opportunity that includes a card reading experience. Receive the healing energies used in Violet Flame Energy of the Heart® sessions and messages from the Guides of this healing modality.\nBusy schedule?  This interactive reading is 20 minutes in length!\nWhy schedule during the event?  Discounted price for the reading\, an opportunity to purchase crystal jewelry that supports the specific healing energies\, and space for you to establish a strong connection to the power of your Heart.\nWho will conduct the readings?  You can schedule with Pat\, Dawn\, Karin\, Lori\, Mark\, Maryam\, or Susan.\nAnd!  Natassha of Sacred Earrth will be here with her beautiful crystal creations! \nHours: \nSat June 28 – 9:00 AM to 2:00 PM Readings scheduled every 30 minutes.\nSun June 29 – 12:00 to 5:00 PM Readings scheduled every 30 minutes\nNOTE: Let us know if you have a special scheduling request!  We will do our best to accommodate you! \nExchange:\nReading: $35.00 (a $10.00 discount for this event only)\nJewelry: As priced
URL:https://patriciaparentereiki.com/event/flame-of-love-readingsm-event-2/
CATEGORIES:Events - Special,Violet Flame Energy of the Heart
END:VEVENT
END:VCALENDAR