BEGIN:VCALENDAR
VERSION:2.0
PRODID:-//Patricia Parente Reiki - ECPv6.15.20//NONSGML v1.0//EN
CALSCALE:GREGORIAN
METHOD:PUBLISH
X-ORIGINAL-URL:https://patriciaparentereiki.com
X-WR-CALDESC:Events for Patricia Parente Reiki
REFRESH-INTERVAL;VALUE=DURATION:PT1H
X-Robots-Tag:noindex
X-PUBLISHED-TTL:PT1H
BEGIN:VTIMEZONE
TZID:UTC
BEGIN:STANDARD
TZOFFSETFROM:+0000
TZOFFSETTO:+0000
TZNAME:UTC
DTSTART:20240101T000000
END:STANDARD
END:VTIMEZONE
BEGIN:VEVENT
DTSTART;TZID=UTC:20251018T093000
DTEND;TZID=UTC:20251018T163000
DTSTAMP:20260421T140636
CREATED:20250802T182933Z
LAST-MODIFIED:20250825T120611Z
UID:5773-1760779800-1760805000@patriciaparentereiki.com
SUMMARY:VFEOTH® Foundation Level Class
DESCRIPTION:VFEOTH® Training  \nIntegrated Treatment Structure\nSession 1: Foundation Session\nSession 2: Healing the Past Session\nSession 3: Empowerment Session\nSession 4: Inner Wisdom Session\nSession 5: Creativity Session\nSession 6: Vision Session \nThis modality is taught in two phases.  You may choose to be a Master Practitioner within the first phase (Foundation Level) or continue studying to be a Master Practitioner of the full Integrated Treatment Structure. \nFoundation Class includes: Origin; History; Guides/Guidance; Foundation Step Session Protocol for others (in-person and distance)\, Session Protocol for self-healing; Symbols and Crystals; Energy Alignment Ceremony; Session Documentation and other Business Administration Practices.  Upon completion of this class\, you will be certified as a Master Practitioner of the Violet Flame Energy Of The Heart® Foundation Level. \nIntegrated Treatment Structure Class includes: Origin; For each session of the full Structure: Session Protocol for others (in-person and distance)\, Session Protocol for self-healing; Healing Prayer; Affirmation; Symbol and Crystal.  Energy Alignment Ceremony to the five new symbols.  Upon completion of this class\, you will be certified as a Master Practitioner of the Violet Flame Energy Of The Heart® Integrated Treatment Structure. \nTo Register or For More Information: Contact Pat 908-331-1847 or email reachus@patriciaparentereiki.com\nExchange for the Foundation Class: $212.00\, including manual\, printed symbols and access to video of Daily Practice for Practitioners.\nExchange for the Integrated Treatment Structure Class: $350.00 including manual\, printed symbols and access to videos of Daily Practice for Practitioners.\nScheduling: Foundation Classes are currently running as a 1-2-day event; however\, this can/may be adjusted over 3 or more days based on student requests.  ITS Classes are 4 days. \nContact Pat with any questions 908-331-1847 or reachus@patriciaparentereiki.com.
URL:https://patriciaparentereiki.com/event/vfeoth-foundation-level-class-2/
CATEGORIES:Violet Flame Energy of the Heart
END:VEVENT
BEGIN:VEVENT
DTSTART;TZID=UTC:20251019T120000
DTEND;TZID=UTC:20251019T150000
DTSTAMP:20260421T140636
CREATED:20250802T184036Z
LAST-MODIFIED:20250825T120632Z
UID:5775-1760875200-1760886000@patriciaparentereiki.com
SUMMARY:Flame of Love ReadingSM Mini-Class
DESCRIPTION:It’s new… a condensed healing session / card reading focused solely on the Dan Tien Field of the Heart!  In-Person class with Zoom participation available. \nLearn the protocol provided by the VFEOTH® Guides to conduct a combination condensed healing session and card reading for your clients.  This Heart-focused experience is interactive for the entire 15-20 minute reading. \nExchange for this Mini-Class: $110.00\, which includes printed Manual\, Flame of Love card deck\, table setup photos\, charts and notes. Available at an additional cost: tapestry and crystals.\nPre-Requisite: Completion of Foundation Level Class\nMini-Class Length: 3+ hours depending on size of class\nTo Register: Contact Pat 908-331-1847 or reachus@patriciaparentereiki.com
URL:https://patriciaparentereiki.com/event/flame-of-love-readingsm-mini-class-2/
CATEGORIES:Violet Flame Energy of the Heart
END:VEVENT
END:VCALENDAR