BEGIN:VCALENDAR
VERSION:2.0
PRODID:-//Patricia Parente Reiki - ECPv6.15.20//NONSGML v1.0//EN
CALSCALE:GREGORIAN
METHOD:PUBLISH
X-WR-CALNAME:Patricia Parente Reiki
X-ORIGINAL-URL:https://patriciaparentereiki.com
X-WR-CALDESC:Events for Patricia Parente Reiki
REFRESH-INTERVAL;VALUE=DURATION:PT1H
X-Robots-Tag:noindex
X-PUBLISHED-TTL:PT1H
BEGIN:VTIMEZONE
TZID:UTC
BEGIN:STANDARD
TZOFFSETFROM:+0000
TZOFFSETTO:+0000
TZNAME:UTC
DTSTART:20170101T000000
END:STANDARD
END:VTIMEZONE
BEGIN:VEVENT
DTSTART;TZID=UTC:20180729T100000
DTEND;TZID=UTC:20180729T170000
DTSTAMP:20260423T074859
CREATED:20180209T014654Z
LAST-MODIFIED:20180713T002528Z
UID:2219-1532858400-1532883600@patriciaparentereiki.com
SUMMARY:Magnified Healing Certification Class with Mika Nelson
DESCRIPTION:Come learn a fantastic Fifth Dimensional tool for self healing\, healing others\, and healing our world. \nAre you on your path of Ascension? Are you willing to prepare yourself\, others and the Earth in ushering in the higher vibrations of pure Love\, Light and Freedom? If so then Magnified Healing is you. \nThe Magnified Healing teachings are a great opportunity to learn a healing modality that was introduced to the Earth in 1983. Previously\, this healing method was used only in the higher dimensions by the Ascended Masters to assist themselves\, the Masters on Earth\, and Mankind under a special Divine Dispensation. In 1992\, under the direct intervention and inspiration of Lady Master Kwan Yin\, Magnified Healing was brought forth into its expanded form for the advancement of Humanity and the Earth. \nMagnifed Healing establishes a constant flow of energy from the Heart to the Source\, the All That Is\, the Infinite Mind\, down to the Diamond at the Center of the Earth. The link spirals and brings a deep state of grace pulsing forth from the Hierarchy\, layingt the very foundation for the Ascension Process. \nKwan Yin is an Ascended Lady Master and member of the Great White Brotherhood of this planet\, known to many as the Goddess of Mercy\, Compassion and Forgiveness. She is also known as Cannon (in Korea and Vietnam). Quan Yin\, and Tara (in Tibet and India). She is a member of the Karmic Board\, which functions much like the “Supreme Court” for the inner Government of this planet. In 1986\, she was asked to anchor the Divine Feminine Aspect of the Buddha. Her flower and electronic pattern are the five-petal Lotus\, the divine pattern of the I AM PRESENCE \nMERCY MEANS THERE IS MORE ASSISTANCE GIVEN THROUGH LOVE THAN MERIT EARNED. \n\nMEDITATION FOR EMPOWERMENT: Acknowledgement of the Three-Fold Flame and Higher Self\nPREPARATION: Alignment of Spiritual Centers\, Clearing of the Light Channel\, Unification of Chakras into One\, Increase the Energy in the Hands\nHEAL OTHERS AND YOURSELF: Sensitize\, Awaken\, Rewire and Connect the Nervous System\, Scan/Heal the Body and Stimulate Calcium on the Spine Absent Healing\, Healing of the Earth\, Healing of Karma Preparation for Ascension\nHealing through Divine Right Use of Will with an Instantaneous Healing\n\n\n\nMagnified Healing Notes: \nInvestment: $295 (cash\, check accepted). \nIncludes Manuel\, practice CD\, Flower Essences\, Certification as Master Teacher of Magnified Healing of the God Most High of the Universe
URL:https://patriciaparentereiki.com/event/magnified-healing-certification-class-with-mika-nelson-2/
CATEGORIES:Events - Visiting Presenter
END:VEVENT
BEGIN:VEVENT
DTSTART;TZID=UTC:20180728T100000
DTEND;TZID=UTC:20180728T170000
DTSTAMP:20260423T074859
CREATED:20180209T014538Z
LAST-MODIFIED:20180713T002445Z
UID:2217-1532772000-1532797200@patriciaparentereiki.com
SUMMARY:Magnified Healing Certification Class with Mika Nelson
DESCRIPTION:Come learn a fantastic Fifth Dimensional tool for self healing\, healing others\, and healing our world. \nAre you on your path of Ascension? Are you willing to prepare yourself\, others and the Earth in ushering in the higher vibrations of pure Love\, Light and Freedom? If so then Magnified Healing is you. \nThe Magnified Healing teachings are a great opportunity to learn a healing modality that was introduced to the Earth in 1983. Previously\, this healing method was used only in the higher dimensions by the Ascended Masters to assist themselves\, the Masters on Earth\, and Mankind under a special Divine Dispensation. In 1992\, under the direct intervention and inspiration of Lady Master Kwan Yin\, Magnified Healing was brought forth into its expanded form for the advancement of Humanity and the Earth. \nMagnifed Healing establishes a constant flow of energy from the Heart to the Source\, the All That Is\, the Infinite Mind\, down to the Diamond at the Center of the Earth. The link spirals and brings a deep state of grace pulsing forth from the Hierarchy\, layingt the very foundation for the Ascension Process. \nKwan Yin is an Ascended Lady Master and member of the Great White Brotherhood of this planet\, known to many as the Goddess of Mercy\, Compassion and Forgiveness. She is also known as Cannon (in Korea and Vietnam). Quan Yin\, and Tara (in Tibet and India). She is a member of the Karmic Board\, which functions much like the “Supreme Court” for the inner Government of this planet. In 1986\, she was asked to anchor the Divine Feminine Aspect of the Buddha. Her flower and electronic pattern are the five-petal Lotus\, the divine pattern of the I AM PRESENCE \nMERCY MEANS THERE IS MORE ASSISTANCE GIVEN THROUGH LOVE THAN MERIT EARNED. \n\nMEDITATION FOR EMPOWERMENT: Acknowledgement of the Three-Fold Flame and Higher Self\nPREPARATION: Alignment of Spiritual Centers\, Clearing of the Light Channel\, Unification of Chakras into One\, Increase the Energy in the Hands\nHEAL OTHERS AND YOURSELF: Sensitize\, Awaken\, Rewire and Connect the Nervous System\, Scan/Heal the Body and Stimulate Calcium on the Spine Absent Healing\, Healing of the Earth\, Healing of Karma Preparation for Ascension\nHealing through Divine Right Use of Will with an Instantaneous Healing\n\n\n\nMagnified Healing Notes: \nInvestment: $295 (cash\, check accepted). \nIncludes Manuel\, practice CD\, Flower Essences\, Certification as Master Teacher of Magnified Healing of the God Most High of the Universe
URL:https://patriciaparentereiki.com/event/magnified-healing-certification-class-with-mika-nelson/
CATEGORIES:Events - Visiting Presenter
END:VEVENT
BEGIN:VEVENT
DTSTART;TZID=UTC:20180720T170000
DTEND;TZID=UTC:20180720T180000
DTSTAMP:20260423T074859
CREATED:20180618T163227Z
LAST-MODIFIED:20180714T010821Z
UID:2359-1532106000-1532109600@patriciaparentereiki.com
SUMMARY:Reiki Circle
DESCRIPTION:Don’t miss the July and August Reiki Circles!  We will focus on the Thymus Gland\, which supports your immune system!  Are you plagued by colds\, infections or other health challenges?  Are you aware that if you make choices that are not in harmony with your body’s needs and design\, the surveillance mechanism of the thymus becomes confused?  The July Circle will begin the work; don’t miss it! \nGift yourself some time to relax and center yourself while sharing the experience with other participants! \nIt is not necessary to be a Reiki Practitioner or to have previously received Reiki to attend this Circle. You will enjoy a Guided Meditation and experience soothing Reiki energy. \nExchange:  $20.00*\n*$20.00 exchange to Patricia Parente Reiki.  $5.00: find a way to ‘pay it forward’ over the next month! \nTo Register: No need to register\, just arrive a few minutes before start time.  If questions\, contact Pat at 908-331-1847 or reachus@patriciaparentereiki.com
URL:https://patriciaparentereiki.com/event/reiki-circle-16/
CATEGORIES:Reiki Circles
END:VEVENT
BEGIN:VEVENT
DTSTART;TZID=UTC:20180715T100000
DTEND;TZID=UTC:20180715T160000
DTSTAMP:20260423T074859
CREATED:20180618T163522Z
LAST-MODIFIED:20180618T163602Z
UID:2361-1531648800-1531670400@patriciaparentereiki.com
SUMMARY:Reiki I
DESCRIPTION:This class is the foundation step in Usui / Tibetan style of Reiki Healing Mastery – a true journey in self-discovery. Through lecture\, demonstration\, discussion\, and hands-on practice in self-treatment\, you will learn the history of Reiki\, the Reiki Principles\, the major chakras\, the Pillars of Reiki Treatments\, conducting a self-treatment\, and an introduction to the treatment of others. \nUpon successful completion of the class you will receive a Reiki I Attunement. \n\nLength:  Approximately 10-12 hours of class time; typically conducted over two days\, plus independent study before Days 1 and 2.\nClass Size:  Minimum of 3 / maximum of 5 students\nMassage Therapists CE credit:  10 credit hours (NCBTMB AP#1285)\nPrerequisite:  None\nMaterials:  Included in the exchange for the class are the Reiki: The Healing Touch\, First and Second Degree Manual along with supplemental charts and materials from Patricia Parente Reiki.\nExchange:  $195\nUpcoming Class Dates: All class dates are tentative and reflect Day 1 of the 2-day format or the date for a 1-day format class.  Dates are changed and/or become finalized based on student requests and instructor availability.\n\nTo Register: Contact Pat at 908-331-1847 or reachus@patriciaparentereiki.com
URL:https://patriciaparentereiki.com/event/reiki-i/
CATEGORIES:Reiki Classes
END:VEVENT
BEGIN:VEVENT
DTSTART;TZID=UTC:20180709T100000
DTEND;TZID=UTC:20180709T110000
DTSTAMP:20260423T074859
CREATED:20180618T161852Z
LAST-MODIFIED:20180618T163046Z
UID:2353-1531130400-1531134000@patriciaparentereiki.com
SUMMARY:Reiki Circle
DESCRIPTION:Gift yourself some time to relax and center yourself while sharing the experience with other participants! \nIt is not necessary to be a Reiki Practitioner or to have previously received Reiki to attend this Circle. You will enjoy a Guided Meditation and experience soothing Reiki energy. \nExchange:  $20.00* \n*$20.00 exchange to Patricia Parente Reiki.  $5.00 find a way to ‘pay it forward’ over the next month! \nTo Register: No need to register\, just arrive a few minutes before start time.  If questions\, contact Pat at 908-331-1847 or reachus@patriciaparentereiki.com
URL:https://patriciaparentereiki.com/event/reiki-circle-14/
CATEGORIES:Reiki Circles
END:VEVENT
BEGIN:VEVENT
DTSTART;TZID=UTC:20180624T130000
DTEND;TZID=UTC:20180624T160000
DTSTAMP:20260423T074859
CREATED:20180220T023558Z
LAST-MODIFIED:20180601T001825Z
UID:2288-1529845200-1529856000@patriciaparentereiki.com
SUMMARY:Energy Healing Techniques Workshop
DESCRIPTION:We will go beyond maintaining an overall Chakra balance in the energetic body and explore specific techniques to address issues that occasionally develop or that you consider ‘chronic’. \nRegister soon to secure your spot! \nCall or email Pat to register: reachus@patriciaparentereiki.com or 908-331-1847\nExchange: $65.00 \n  \n 
URL:https://patriciaparentereiki.com/event/energy-healing-techniques-workshop/
CATEGORIES:Workshops
END:VEVENT
BEGIN:VEVENT
DTSTART;TZID=UTC:20180622T190000
DTEND;TZID=UTC:20180622T200000
DTSTAMP:20260423T074859
CREATED:20180601T001341Z
LAST-MODIFIED:20180601T001442Z
UID:2343-1529694000-1529697600@patriciaparentereiki.com
SUMMARY:Sound Bath with Stacy Newfeld
DESCRIPTION:A Sound Bath is a meditative improvisational journey that allows the mind and body to easily experience deep states of rest and release. The harmonic vibrations affect every part of the participants’ being. Harmony and healing reaches all levels: physical\, emotional\, and spiritual. \n“It was the most mindful experience I have ever experienced. I was much more aware of the beautiful sounds around me and gave me a chance to be fully present.”  D.C.\n“The sound bath was a calming experience\, focusing on breathing and listening.” L.F. \nRegister soon to secure your spot! \nTo Register: email or call Pat; reachus@patriciaparentereiki.com or 908-331-1847 \nExchange: $22.00\nAttendees are asked to arrive between 6:30 – 6:45 PM.  Please bring a comfortable pillow and blanket or yoga mat.  Seating is also available.
URL:https://patriciaparentereiki.com/event/sound-bath-with-stacy-newfeld-2/
CATEGORIES:Events - Visiting Presenter
END:VEVENT
BEGIN:VEVENT
DTSTART;VALUE=DATE:20180621
DTEND;VALUE=DATE:20180622
DTSTAMP:20260423T074859
CREATED:20180527T162729Z
LAST-MODIFIED:20180527T162729Z
UID:2340-1529539200-1529625599@patriciaparentereiki.com
SUMMARY:Summer Solstice
DESCRIPTION:The Summer Solstice is the longest day (having the most hours of daylight) of the year for people living in the northern hemisphere.  It is a time of celebration\, of honoring the light\, and our connection to the Sun and the Earth.
URL:https://patriciaparentereiki.com/event/summer-solstice/
CATEGORIES:Events - Seasonal
END:VEVENT
BEGIN:VEVENT
DTSTART;TZID=UTC:20180618T080000
DTEND;TZID=UTC:20180618T170000
DTSTAMP:20260423T074859
CREATED:20180618T162850Z
LAST-MODIFIED:20180618T162850Z
UID:2355-1529308800-1529341200@patriciaparentereiki.com
SUMMARY:Reiki Circle
DESCRIPTION:Gift yourself some time to relax and center yourself while sharing the experience with other participants! \nIt is not necessary to be a Reiki Practitioner or to have previously received Reiki to attend this Circle. You will enjoy a Guided Meditation and experience soothing Reiki energy. \nExchange:  $20.00*\n*$20.00 exchange to Patricia Parente Reiki.  $5.00: find a way to ‘pay it forward’ over the next month! \nTo Register: No need to register\, just arrive a few minutes before start time.  If questions\, contact Pat at 908-331-1847 or reachus@patriciaparentereiki.com \n 
URL:https://patriciaparentereiki.com/event/reiki-circle-15/
END:VEVENT
BEGIN:VEVENT
DTSTART;VALUE=DATE:20180617
DTEND;VALUE=DATE:20180618
DTSTAMP:20260423T074859
CREATED:20180220T011901Z
LAST-MODIFIED:20180220T011901Z
UID:2284-1529193600-1529279999@patriciaparentereiki.com
SUMMARY:Father's Day
DESCRIPTION:  \nHappy Father’s Day!
URL:https://patriciaparentereiki.com/event/fathers-day/
CATEGORIES:Events - Seasonal
END:VEVENT
BEGIN:VEVENT
DTSTART;TZID=UTC:20180610T100000
DTEND;TZID=UTC:20180610T160000
DTSTAMP:20260423T074859
CREATED:20180220T011354Z
LAST-MODIFIED:20180220T011354Z
UID:2280-1528624800-1528646400@patriciaparentereiki.com
SUMMARY:Reiki Class - Level II
DESCRIPTION:This class is the second step in Usui / Tibetan style of Reiki Healing Mastery\, as you continue the journey in self-discovery and learn to provide treatment to others. Through lecture\, demonstration\, discussion\, and hands-on practice\, you will learn the origin\, meaning and uses of the three Second Degree Symbols\, the protocol for treating clients\, and how to establish a Reiki Practice. \nUpon completion\, you will be a Reiki II Practitioner. \n\nLength:  Approximately 12-14 hours of class time over two days\, plus independent study prior to Days 1 and 2.\nClass Size:  Minimum of 3 / maximum of 5 students\nMassage Therapists CE credit:  12 credit hours (NCBTMB AP#1285)\nPrerequisite:  Successful completion of Reiki I\nMaterials:  Included in the exchange for the class are Reiki: The Healing Touch\, First and Second Degree Manual\, along with supplemental charts and materials from Patricia Parente Reiki.\nExchange:  $275\nUpcoming Class Dates: All class dates listed below are tentative and reflect Day 1 of the 2-day format necessary for Reiki II.  Dates are changed and/or become finalized based on student requests and instructor availability.\n\n 
URL:https://patriciaparentereiki.com/event/reiki-class-level-ii/
CATEGORIES:Reiki Classes
END:VEVENT
BEGIN:VEVENT
DTSTART;TZID=UTC:20180608T170000
DTEND;TZID=UTC:20180608T180000
DTSTAMP:20260423T074859
CREATED:20180220T012344Z
LAST-MODIFIED:20180220T012344Z
UID:2286-1528477200-1528480800@patriciaparentereiki.com
SUMMARY:Reiki Circle
DESCRIPTION:It is not necessary to be a Reiki Practitioner or to have previously received Reiki to attend this Circle. You will enjoy a Guided Meditation and experience soothing Reiki energy. \n  \nExchange (either type of Reiki Circle):  $25.00*\n*$20.00 exchange to Patricia Parente Reiki.  $5.00 find a way to ‘pay it forward’ over the next month! \n 
URL:https://patriciaparentereiki.com/event/reiki-circle-13/
CATEGORIES:Reiki Circles
END:VEVENT
BEGIN:VEVENT
DTSTART;TZID=UTC:20180604T100000
DTEND;TZID=UTC:20180604T110000
DTSTAMP:20260423T074859
CREATED:20180220T010905Z
LAST-MODIFIED:20180220T010905Z
UID:2276-1528106400-1528110000@patriciaparentereiki.com
SUMMARY:Reiki Circle
DESCRIPTION:It is not necessary to be a Reiki Practitioner or to have previously received Reiki to attend this Circle. You will enjoy a Guided Meditation and experience soothing Reiki energy. \n  \nExchange (either type of Reiki Circle):  $25.00*\n*$20.00 exchange to Patricia Parente Reiki.  $5.00 find a way to ‘pay it forward’ over the next month!
URL:https://patriciaparentereiki.com/event/reiki-circle-11/
CATEGORIES:Reiki Circles
END:VEVENT
BEGIN:VEVENT
DTSTART;TZID=UTC:20180520T100000
DTEND;TZID=UTC:20180520T160000
DTSTAMP:20260423T074859
CREATED:20180106T154232Z
LAST-MODIFIED:20180427T170504Z
UID:1878-1526810400-1526832000@patriciaparentereiki.com
SUMMARY:Advanced Reiki Training
DESCRIPTION:This class introduces additional healing techniques\, and prepares you for becoming a Reiki Master should you commit to doing so in the future. You will learn how to perform aura cleansing\, use crystals\, essential oils and pendulums\, create a Reiki Grid for distance or continuous healing and continue the development of your intuition and the ability to communicate with your Reiki Guides. \nUpon completion\, you will be an Advanced Reiki Practitioner. \n\nLength:  One day of approximately 7-9 hours of class time\nClass Size:  Minimum of 2 / maximum of 5 students\nMassage Therapists CE credit:  7 credit hours (NCBTMB AP#1285)\nPrerequisite:  Successful completion of Reiki I and Reiki II\nMaterials:  Included in the exchange for the class is the Advanced Reiki Training section of the Reiki Master Manual and supplemental materials.\nExchange:  $350\nUpcoming Class Dates: All class dates listed below are tentative and reflect a single day format.  Dates are changed and/or become finalized based on student requests and instructor availability.\nAdvanced Reiki Training – May 20\, 2018; June 24\, 2018
URL:https://patriciaparentereiki.com/event/advanced-reiki-training/
CATEGORIES:Reiki Classes
END:VEVENT
BEGIN:VEVENT
DTSTART;TZID=UTC:20180518T170000
DTEND;TZID=UTC:20180518T180000
DTSTAMP:20260423T074859
CREATED:20180220T005827Z
LAST-MODIFIED:20180517T192437Z
UID:2272-1526662800-1526666400@patriciaparentereiki.com
SUMMARY:To be rescheduled Reiki Circle
DESCRIPTION:It is not necessary to be a Reiki Practitioner or to have previously received Reiki to attend this Circle. You will enjoy a Guided Meditation and experience soothing Reiki energy. \n  \nExchange (either type of Reiki Circle):  $25.00*\n*$20.00 exchange to Patricia Parente Reiki.  $5.00 find a way to ‘pay it forward’ over the next month!
URL:https://patriciaparentereiki.com/event/reiki-circle-10/
CATEGORIES:Reiki Circles
END:VEVENT
BEGIN:VEVENT
DTSTART;TZID=UTC:20180514T100000
DTEND;TZID=UTC:20180514T110000
DTSTAMP:20260423T074859
CREATED:20180220T005620Z
LAST-MODIFIED:20180220T005925Z
UID:2270-1526292000-1526295600@patriciaparentereiki.com
SUMMARY:Reiki Circle
DESCRIPTION:It is not necessary to be a Reiki Practitioner or to have previously received Reiki to attend this Circle. You will enjoy a Guided Meditation and experience soothing Reiki energy. \n  \nExchange (either type of Reiki Circle):  $25.00*\n*$20.00 exchange to Patricia Parente Reiki.  $5.00 find a way to ‘pay it forward’ over the next month!
URL:https://patriciaparentereiki.com/event/reiki-circle-9/
CATEGORIES:Reiki Circles
END:VEVENT
BEGIN:VEVENT
DTSTART;VALUE=DATE:20180513
DTEND;VALUE=DATE:20180514
DTSTAMP:20260423T074859
CREATED:20180220T010436Z
LAST-MODIFIED:20180220T010436Z
UID:2274-1526169600-1526255999@patriciaparentereiki.com
SUMMARY:Mother's Day
DESCRIPTION:  \n  \nHappy Mother’s Day!
URL:https://patriciaparentereiki.com/event/mothers-day/
CATEGORIES:Events - Seasonal
END:VEVENT
BEGIN:VEVENT
DTSTART;TZID=UTC:20180511T090000
DTEND;TZID=UTC:20180511T120000
DTSTAMP:20260423T074859
CREATED:20180427T173059Z
LAST-MODIFIED:20180427T173059Z
UID:2335-1526029200-1526040000@patriciaparentereiki.com
SUMMARY:The Chakras Workshop - Part 2
DESCRIPTION:This very popular workshop is being offered once again\, but this time in two 3-hour segments.  In Part 2 we cross the bridge of the Heart and venture into the Upper Chakras! \nParticipants will:\n* experience meditations\, which include the corresponding mantra (chant);\n* receive 2-3 crystals for each Chakra (pictured above!);\n* learn a simple yoga posture to open each Chakra;\n* learn the nutritional aspect of support for each Chakra; and\n* receive handouts containing key points of information discussed. \nChakras are energy centers in the body.  There are seven main Chakras starting from the base of the spine through to the crown of the head.  Clearing and strengthening the Chakras can bring about a significant improvement in how we feel both physically and emotionally\, as well as restore a feeling of balance in our lives.  We will explore the significance of each Chakra\, the potential physical and emotional impact if it is out of balance\, and what you can do to bring it back into balance.
URL:https://patriciaparentereiki.com/event/the-chakras-workshop-part-2/
CATEGORIES:Chakra Workshops,Workshops
END:VEVENT
BEGIN:VEVENT
DTSTART;TZID=UTC:20180506T100000
DTEND;TZID=UTC:20180506T160000
DTSTAMP:20260423T074859
CREATED:20180220T005241Z
LAST-MODIFIED:20180220T005241Z
UID:2267-1525600800-1525622400@patriciaparentereiki.com
SUMMARY:Reiki I Class
DESCRIPTION:This class is the foundation step in Usui / Tibetan style of Reiki Healing Mastery – a true journey in self-discovery. Through lecture\, demonstration\, discussion\, and hands-on practice in self-treatment\, you will learn the history of Reiki\, the Reiki Principles\, the major chakras\, the Pillars of Reiki Treatments\, conducting a self-treatment\, and an introduction to the treatment of others. \nUpon successful completion of the class you will receive a Reiki I Attunement. \n\nLength:  Approximately 10-12 hours of class time; typically conducted over two days\, plus independent study before Days 1 and 2.\nClass Size:  Minimum of 3 / maximum of 5 students\nMassage Therapists CE credit:  10 credit hours (NCBTMB AP#1285)\nPrerequisite:  None\nMaterials:  Included in the exchange for the class are the Reiki: The Healing Touch\, First and Second Degree Manual along with supplemental charts and materials from Patricia Parente Reiki.\nExchange:  $195\nUpcoming Class Dates: All class dates listed below are tentative and reflect Day 1 of the 2-day format or the date for a 1-day format class.  Dates are changed and/or become finalized based on student requests and instructor availability.
URL:https://patriciaparentereiki.com/event/reiki-i-class/
CATEGORIES:Reiki Classes
END:VEVENT
BEGIN:VEVENT
DTSTART;TZID=UTC:20180430T064500
DTEND;TZID=UTC:20180430T070000
DTSTAMP:20260423T074859
CREATED:20180402T012256Z
LAST-MODIFIED:20180402T012256Z
UID:2326-1525070700-1525071600@patriciaparentereiki.com
SUMMARY:Morning Meditation
DESCRIPTION:  \n  \nBring your meditation practice to life and enjoy the convenience of guided meditation from home!  Once registered\, you will receive connection information through Zoom Meetings.
URL:https://patriciaparentereiki.com/event/morning-meditation-25/
CATEGORIES:Meditations,Morning Meditations
END:VEVENT
BEGIN:VEVENT
DTSTART;TZID=UTC:20180429T073000
DTEND;TZID=UTC:20180429T080000
DTSTAMP:20260423T074859
CREATED:20180115T010519Z
LAST-MODIFIED:20180218T013642Z
UID:2137-1524987000-1524988800@patriciaparentereiki.com
SUMMARY:Morning Meditation
DESCRIPTION:  \n  \nBring your meditation practice to life and enjoy the convenience of guided meditation from home!  Once registered\, you will receive connection information through Zoom Meetings.
URL:https://patriciaparentereiki.com/event/morning-meditation-16/
CATEGORIES:Meditations,Morning Meditations
END:VEVENT
BEGIN:VEVENT
DTSTART;TZID=UTC:20180426T064500
DTEND;TZID=UTC:20180426T070000
DTSTAMP:20260423T074859
CREATED:20180402T012137Z
LAST-MODIFIED:20180402T012137Z
UID:2324-1524725100-1524726000@patriciaparentereiki.com
SUMMARY:Morning Meditation
DESCRIPTION:  \n  \nBring your meditation practice to life and enjoy the convenience of guided meditation from home!  Once registered\, you will receive connection information through Zoom Meetings.
URL:https://patriciaparentereiki.com/event/morning-meditation-24/
CATEGORIES:Meditations,Morning Meditations
END:VEVENT
BEGIN:VEVENT
DTSTART;TZID=UTC:20180425T190000
DTEND;TZID=UTC:20180425T193000
DTSTAMP:20260423T074859
CREATED:20180115T014247Z
LAST-MODIFIED:20180218T013716Z
UID:2161-1524682800-1524684600@patriciaparentereiki.com
SUMMARY:Evening Meditation
DESCRIPTION:  \n  \nBring your meditation practice to life and enjoy the convenience of guided meditation from home!  Once registered\, you will receive connection information through Zoom Meetings.
URL:https://patriciaparentereiki.com/event/2161/
CATEGORIES:Evening Meditations,Meditations
END:VEVENT
BEGIN:VEVENT
DTSTART;TZID=UTC:20180424T190000
DTEND;TZID=UTC:20180424T193000
DTSTAMP:20260423T074859
CREATED:20180115T014158Z
LAST-MODIFIED:20180218T013804Z
UID:2159-1524596400-1524598200@patriciaparentereiki.com
SUMMARY:Evening Meditation
DESCRIPTION:  \n  \nBring your meditation practice to life and enjoy the convenience of guided meditation from home!  Once registered\, you will receive connection information through Zoom Meetings.
URL:https://patriciaparentereiki.com/event/evening-meditation-31/
CATEGORIES:Evening Meditations,Meditations
END:VEVENT
BEGIN:VEVENT
DTSTART;TZID=UTC:20180423T064500
DTEND;TZID=UTC:20180423T070000
DTSTAMP:20260423T074859
CREATED:20180402T012036Z
LAST-MODIFIED:20180402T012036Z
UID:2322-1524465900-1524466800@patriciaparentereiki.com
SUMMARY:Morning Meditation
DESCRIPTION:  \n  \nBring your meditation practice to life and enjoy the convenience of guided meditation from home!  Once registered\, you will receive connection information through Zoom Meetings.
URL:https://patriciaparentereiki.com/event/morning-meditation-23/
CATEGORIES:Meditations,Morning Meditations
END:VEVENT
BEGIN:VEVENT
DTSTART;TZID=UTC:20180422T073000
DTEND;TZID=UTC:20180422T080000
DTSTAMP:20260423T074859
CREATED:20180115T010309Z
LAST-MODIFIED:20180218T013829Z
UID:2135-1524382200-1524384000@patriciaparentereiki.com
SUMMARY:Morning Meditation
DESCRIPTION:  \n  \nBring your meditation practice to life and enjoy the convenience of guided meditation from home!  Once registered\, you will receive connection information through Zoom Meetings.
URL:https://patriciaparentereiki.com/event/morning-meditation-15/
CATEGORIES:Meditations,Morning Meditations
END:VEVENT
BEGIN:VEVENT
DTSTART;VALUE=DATE:20180422
DTEND;VALUE=DATE:20180423
DTSTAMP:20260423T074859
CREATED:20180115T021611Z
LAST-MODIFIED:20180115T022058Z
UID:2171-1524355200-1524441599@patriciaparentereiki.com
SUMMARY:Earth Day
DESCRIPTION:  \n  \nEarth Day is an annual event celebrated worldwide to demonstrate support for environmental protection.
URL:https://patriciaparentereiki.com/event/earth-day/
END:VEVENT
BEGIN:VEVENT
DTSTART;TZID=UTC:20180419T064500
DTEND;TZID=UTC:20180419T070000
DTSTAMP:20260423T074859
CREATED:20180402T011725Z
LAST-MODIFIED:20180402T011725Z
UID:2320-1524120300-1524121200@patriciaparentereiki.com
SUMMARY:Morning Meditation
DESCRIPTION:  \n  \nBring your meditation practice to life and enjoy the convenience of guided meditation from home!  Once registered\, you will receive connection information through Zoom Meetings.
URL:https://patriciaparentereiki.com/event/morning-meditation-22/
CATEGORIES:Meditations,Morning Meditations
END:VEVENT
BEGIN:VEVENT
DTSTART;TZID=UTC:20180418T190000
DTEND;TZID=UTC:20180418T193000
DTSTAMP:20260423T074859
CREATED:20180115T014055Z
LAST-MODIFIED:20180218T013857Z
UID:2157-1524078000-1524079800@patriciaparentereiki.com
SUMMARY:Evening Meditation
DESCRIPTION:  \n  \nBring your meditation practice to life and enjoy the convenience of guided meditation from home!  Once registered\, you will receive connection information through Zoom Meetings.
URL:https://patriciaparentereiki.com/event/evening-meditation-30/
CATEGORIES:Evening Meditations,Meditations
END:VEVENT
BEGIN:VEVENT
DTSTART;TZID=UTC:20180417T190000
DTEND;TZID=UTC:20180417T193000
DTSTAMP:20260423T074859
CREATED:20180115T014001Z
LAST-MODIFIED:20180218T013930Z
UID:2155-1523991600-1523993400@patriciaparentereiki.com
SUMMARY:Evening Meditation
DESCRIPTION:  \n  \nBring your meditation practice to life and enjoy the convenience of guided meditation from home!  Once registered\, you will receive connection information through Zoom Meetings.
URL:https://patriciaparentereiki.com/event/evening-meditation-29/
CATEGORIES:Evening Meditations,Meditations
END:VEVENT
END:VCALENDAR