BEGIN:VCALENDAR
VERSION:2.0
PRODID:-//Patricia Parente Reiki - ECPv6.15.20//NONSGML v1.0//EN
CALSCALE:GREGORIAN
METHOD:PUBLISH
X-WR-CALNAME:Patricia Parente Reiki
X-ORIGINAL-URL:https://patriciaparentereiki.com
X-WR-CALDESC:Events for Patricia Parente Reiki
REFRESH-INTERVAL;VALUE=DURATION:PT1H
X-Robots-Tag:noindex
X-PUBLISHED-TTL:PT1H
BEGIN:VTIMEZONE
TZID:UTC
BEGIN:STANDARD
TZOFFSETFROM:+0000
TZOFFSETTO:+0000
TZNAME:UTC
DTSTART:20170101T000000
END:STANDARD
END:VTIMEZONE
BEGIN:VEVENT
DTSTART;TZID=UTC:20180416T064500
DTEND;TZID=UTC:20180416T070000
DTSTAMP:20260423T110457
CREATED:20180402T011618Z
LAST-MODIFIED:20180402T011618Z
UID:2318-1523861100-1523862000@patriciaparentereiki.com
SUMMARY:Morning Meditation
DESCRIPTION:  \n  \nBring your meditation practice to life and enjoy the convenience of guided meditation from home!  Once registered\, you will receive connection information through Zoom Meetings.
URL:https://patriciaparentereiki.com/event/morning-meditation-21/
CATEGORIES:Meditations,Morning Meditations
END:VEVENT
BEGIN:VEVENT
DTSTART;TZID=UTC:20180415T073000
DTEND;TZID=UTC:20180415T080000
DTSTAMP:20260423T110457
CREATED:20180115T005756Z
LAST-MODIFIED:20180218T014007Z
UID:2133-1523777400-1523779200@patriciaparentereiki.com
SUMMARY:Morning Meditation
DESCRIPTION:  \n  \nBring your meditation practice to life and enjoy the convenience of guided meditation from home!  Once registered\, you will receive connection information through Zoom Meetings.
URL:https://patriciaparentereiki.com/event/morning-meditation-14/
CATEGORIES:Meditations,Morning Meditations
END:VEVENT
BEGIN:VEVENT
DTSTART;TZID=UTC:20180414T100000
DTEND;TZID=UTC:20180414T113000
DTSTAMP:20260423T110457
CREATED:20180115T020408Z
LAST-MODIFIED:20180218T014047Z
UID:2169-1523700000-1523705400@patriciaparentereiki.com
SUMMARY:Intro to Reiki Workshop
DESCRIPTION:  \n  \nThis introductory workshop is designed to provide a basic understanding of Reiki energy\, its origin\, founders\, levels of healing\, and attunement.  You will also experience a Guided Meditation on the Five Reiki Principles. \n\nLength:  One 90-minute session\nClass Size:  Unlimited\nPrerequisite:  None\nMaterials:  Included in the exchange for the workshop are charts and materials from Patricia Parente Reiki.\nExchange:  $30*\n*Take the workshop and receive a $10.00 discount on the exchange for a Reiki I class!
URL:https://patriciaparentereiki.com/event/intro-to-reiki-workshop/
CATEGORIES:Workshops
END:VEVENT
BEGIN:VEVENT
DTSTART;TZID=UTC:20180413T170000
DTEND;TZID=UTC:20180413T180000
DTSTAMP:20260423T110457
CREATED:20180115T014736Z
LAST-MODIFIED:20180218T014117Z
UID:2165-1523638800-1523642400@patriciaparentereiki.com
SUMMARY:Reiki Circle
DESCRIPTION:It is not necessary to be a Reiki Practitioner or to have previously received Reiki to attend this Circle. You will enjoy a Guided Meditation and experience soothing Reiki energy.
URL:https://patriciaparentereiki.com/event/reiki-circle-8/
CATEGORIES:Reiki Circles
END:VEVENT
BEGIN:VEVENT
DTSTART;TZID=UTC:20180413T093000
DTEND;TZID=UTC:20180413T123000
DTSTAMP:20260423T110457
CREATED:20180226T165312Z
LAST-MODIFIED:20180326T214014Z
UID:2292-1523611800-1523622600@patriciaparentereiki.com
SUMMARY:The Chakras Workshop Part 1 of 2
DESCRIPTION:Chakras are energy centers in the body.  There are seven main Chakras starting from the base of the spine through to the crown of the head.  Clearing and strengthening the Chakras can bring about a significant improvement in how we feel both physically and emotionally\, as well as restore a feeling of balance in our lives.  We will explore the significance of each Chakra\, the potential physical and emotional impact if it is out of balance\, and what you can do to bring it back into balance. \nParticipants will:\n* experience meditations\, which include the corresponding mantra (chant);\n* receive 2-3 crystals for each Chakra (pictured above!);\n* learn a simple yoga posture to open each Chakra;\n* learn the nutritional aspect of support for each Chakra; and\n* receive handouts containing key points of information discussed. \nRegister soon to secure your spot!  Simply contact Pat by March 8th via:\nEmail ReachUs@patriciaparentereiki.com or Call 908-331-1847 \nExchange: $68.00
URL:https://patriciaparentereiki.com/event/the-chakras-workshop-part-1-of-2/
CATEGORIES:Chakra Workshops,Workshops
END:VEVENT
BEGIN:VEVENT
DTSTART;TZID=UTC:20180412T064500
DTEND;TZID=UTC:20180412T070000
DTSTAMP:20260423T110457
CREATED:20180402T011515Z
LAST-MODIFIED:20180402T011515Z
UID:2316-1523515500-1523516400@patriciaparentereiki.com
SUMMARY:Morning Meditation
DESCRIPTION:  \n  \nBring your meditation practice to life and enjoy the convenience of guided meditation from home!  Once registered\, you will receive connection information through Zoom Meetings.
URL:https://patriciaparentereiki.com/event/morning-meditation-20/
CATEGORIES:Meditations,Morning Meditations
END:VEVENT
BEGIN:VEVENT
DTSTART;TZID=UTC:20180411T190000
DTEND;TZID=UTC:20180411T193000
DTSTAMP:20260423T110457
CREATED:20180115T013848Z
LAST-MODIFIED:20180218T014146Z
UID:2153-1523473200-1523475000@patriciaparentereiki.com
SUMMARY:Evening Meditation
DESCRIPTION:  \n  \nBring your meditation practice to life and enjoy the convenience of guided meditation from home!  Once registered\, you will receive connection information through Zoom Meetings.
URL:https://patriciaparentereiki.com/event/evening-meditation-28/
CATEGORIES:Evening Meditations,Meditations
END:VEVENT
BEGIN:VEVENT
DTSTART;TZID=UTC:20180410T190000
DTEND;TZID=UTC:20180410T193000
DTSTAMP:20260423T110457
CREATED:20180115T013753Z
LAST-MODIFIED:20180218T014208Z
UID:2151-1523386800-1523388600@patriciaparentereiki.com
SUMMARY:Evening Meditation
DESCRIPTION:  \n  \nBring your meditation practice to life and enjoy the convenience of guided meditation from home!  Once registered\, you will receive connection information through Zoom Meetings.
URL:https://patriciaparentereiki.com/event/evening-meditation-27/
CATEGORIES:Evening Meditations,Meditations
END:VEVENT
BEGIN:VEVENT
DTSTART;TZID=UTC:20180409T100000
DTEND;TZID=UTC:20180409T110000
DTSTAMP:20260423T110457
CREATED:20180115T014627Z
LAST-MODIFIED:20180218T014235Z
UID:2163-1523268000-1523271600@patriciaparentereiki.com
SUMMARY:Reiki Circle
DESCRIPTION:It is not necessary to be a Reiki Practitioner or to have previously received Reiki to attend this Circle. You will enjoy a Guided Meditation and experience soothing Reiki energy.
URL:https://patriciaparentereiki.com/event/reiki-circle-7/
CATEGORIES:Reiki Circles
END:VEVENT
BEGIN:VEVENT
DTSTART;TZID=UTC:20180409T064500
DTEND;TZID=UTC:20180409T070000
DTSTAMP:20260423T110457
CREATED:20180402T011404Z
LAST-MODIFIED:20180402T011404Z
UID:2314-1523256300-1523257200@patriciaparentereiki.com
SUMMARY:Morning Meditation
DESCRIPTION:  \n  \nBring your meditation practice to life and enjoy the convenience of guided meditation from home!  Once registered\, you will receive connection information through Zoom Meetings.
URL:https://patriciaparentereiki.com/event/morning-meditation-19/
CATEGORIES:Meditations,Morning Meditations
END:VEVENT
BEGIN:VEVENT
DTSTART;TZID=UTC:20180408T073000
DTEND;TZID=UTC:20180408T080000
DTSTAMP:20260423T110457
CREATED:20180115T005558Z
LAST-MODIFIED:20180218T014303Z
UID:2131-1523172600-1523174400@patriciaparentereiki.com
SUMMARY:Morning Meditation
DESCRIPTION:  \n  \nBring your meditation practice to life and enjoy the convenience of guided meditation from home!  Once registered\, you will receive connection information through Zoom Meetings.
URL:https://patriciaparentereiki.com/event/morning-meditation-13/
CATEGORIES:Meditations,Morning Meditations
END:VEVENT
BEGIN:VEVENT
DTSTART;TZID=UTC:20180407T130000
DTEND;TZID=UTC:20180407T170000
DTSTAMP:20260423T110457
CREATED:20180106T164118Z
LAST-MODIFIED:20180208T021745Z
UID:1904-1523106000-1523120400@patriciaparentereiki.com
SUMMARY:Highly Sensitive Person Workshop with Donna Russo
DESCRIPTION:Donna Russo is returning; Saturday\, April 7th \n \n  \n  \n  \n  \nBeing an empath or highly sensitive person is a challenging life path as we tend to encounter people\, environments and situations that try to drain our powers.  This workshop will assist you to understand how to use your level of empathic abilities to your benefit and what limiting beliefs are holding you back. \nWorkshop Highlights: \n\nWhat is your intuitive ability and how to use it\nHow you can stand in your power\, whatever the situation\nWhat are your limiting beliefs and patterns?\nSelf care and self love for empaths\n\nHere are some comments from participants at her last visit (Highly Sensitive Persons): \n\n“Healing\, supportive\, sense of community and connection to others.  Exceeded my expectations.  I didn’t come with questions\, but I got answers I didn’t know I needed.”\n“Wonderful\, fulfilling\, informative.  Exceeded expectations.  Definitely would like to see this type of event again.”\n“The workshop was enlightening\, entertaining and very personal\, which was easily relatable.  (Answers to my) questions were what I was seeking”\n“Wonderful!  Exceeded expectations.”\n“The workshop validated feelings I’ve had my whole life.  Learned I need to be in control of my own happiness.”\n“(Donna is) very intuitive.  All my questions were answered.”\n“Very helpful and practical with useful exercises and suggestions living as an HSP.  Individual channeling was great!  Received answers to questions I didn’t even know I had.”\n\nDonna Russo is an Indigo Adult HSP\, a Reiki Master Teacher\, energy healer\, professional artist and intuitive reader. She has spent several years researching and mastering living her authentic self and teaching others from her experiences. \n  \n  \nNext Date: Saturday\, April 7\, 2018; 1:00 – 5:00 PM\nExchange: $65.00 \nTo register\, RSVP below.
URL:https://patriciaparentereiki.com/event/highly-sensitive-person-workshop-with-donna-russo/
LOCATION:Somerset\, NJ\, 08873
CATEGORIES:Highly Sensitive Person Workshop,Workshops
END:VEVENT
BEGIN:VEVENT
DTSTART;TZID=UTC:20180405T064500
DTEND;TZID=UTC:20180405T070000
DTSTAMP:20260423T110457
CREATED:20180402T011226Z
LAST-MODIFIED:20180402T011226Z
UID:2312-1522910700-1522911600@patriciaparentereiki.com
SUMMARY:Morning Meditation
DESCRIPTION:  \nBring your meditation practice to life and enjoy the convenience of guided meditation from home!  Once registered\, you will receive connection information through Zoom Meetings.
URL:https://patriciaparentereiki.com/event/morning-meditation-18/
CATEGORIES:Meditations,Morning Meditations
END:VEVENT
BEGIN:VEVENT
DTSTART;TZID=UTC:20180404T190000
DTEND;TZID=UTC:20180404T193000
DTSTAMP:20260423T110457
CREATED:20180115T012900Z
LAST-MODIFIED:20180218T014357Z
UID:2149-1522868400-1522870200@patriciaparentereiki.com
SUMMARY:Evening Meditation
DESCRIPTION:  \n  \nBring your meditation practice to life and enjoy the convenience of guided meditation from home!  Once registered\, you will receive connection information through Zoom Meetings.
URL:https://patriciaparentereiki.com/event/evening-meditation-26/
CATEGORIES:Evening Meditations,Meditations
END:VEVENT
BEGIN:VEVENT
DTSTART;TZID=UTC:20180403T190000
DTEND;TZID=UTC:20180403T193000
DTSTAMP:20260423T110457
CREATED:20180115T012803Z
LAST-MODIFIED:20180218T014432Z
UID:2147-1522782000-1522783800@patriciaparentereiki.com
SUMMARY:Evening Meditation
DESCRIPTION:  \n  \nBring your meditation practice to life and enjoy the convenience of guided meditation from home!  Once registered\, you will receive connection information through Zoom Meetings.
URL:https://patriciaparentereiki.com/event/evening-meditation-25/
CATEGORIES:Evening Meditations,Meditations
END:VEVENT
BEGIN:VEVENT
DTSTART;TZID=UTC:20180402T064500
DTEND;TZID=UTC:20180402T070000
DTSTAMP:20260423T110457
CREATED:20180402T011055Z
LAST-MODIFIED:20180402T011055Z
UID:2310-1522651500-1522652400@patriciaparentereiki.com
SUMMARY:Morning Meditation
DESCRIPTION:Bring your meditation practice to life and enjoy the convenience of guided meditation from home!  Once registered\, you will receive connection information through Zoom Meetings.
URL:https://patriciaparentereiki.com/event/morning-meditation-17/
CATEGORIES:Meditations,Morning Meditations
END:VEVENT
BEGIN:VEVENT
DTSTART;TZID=UTC:20180401T073000
DTEND;TZID=UTC:20180401T080000
DTSTAMP:20260423T110457
CREATED:20180115T005441Z
LAST-MODIFIED:20180218T014458Z
UID:2129-1522567800-1522569600@patriciaparentereiki.com
SUMMARY:Morning Meditation
DESCRIPTION:  \n  \nBring your meditation practice to life and enjoy the convenience of guided meditation from home!  Once registered\, you will receive connection information through Zoom Meetings.
URL:https://patriciaparentereiki.com/event/morning-meditation-12/
CATEGORIES:Meditations,Morning Meditations
END:VEVENT
BEGIN:VEVENT
DTSTART;TZID=UTC:20180328T190000
DTEND;TZID=UTC:20180328T193000
DTSTAMP:20260423T110457
CREATED:20180114T194814Z
LAST-MODIFIED:20180218T014538Z
UID:2120-1522263600-1522265400@patriciaparentereiki.com
SUMMARY:Evening Meditation
DESCRIPTION:  \n  \nBring your meditation practice to life and enjoy the convenience of guided meditation from home!  Once registered\, you will receive connection information through Zoom Meetings.
URL:https://patriciaparentereiki.com/event/evening-meditation-24/
CATEGORIES:Evening Meditations,Meditations
END:VEVENT
BEGIN:VEVENT
DTSTART;TZID=UTC:20180327T190000
DTEND;TZID=UTC:20180327T193000
DTSTAMP:20260423T110457
CREATED:20180114T194723Z
LAST-MODIFIED:20180114T194723Z
UID:2118-1522177200-1522179000@patriciaparentereiki.com
SUMMARY:Evening Meditation
DESCRIPTION:  \n  \nBring your meditation practice to life and enjoy the convenience of guided meditation from home!  Once registered\, you will receive connection information through Zoom Meetings.
URL:https://patriciaparentereiki.com/event/evening-meditation-23/
END:VEVENT
BEGIN:VEVENT
DTSTART;TZID=UTC:20180325T073000
DTEND;TZID=UTC:20180325T080000
DTSTAMP:20260423T110457
CREATED:20180114T193956Z
LAST-MODIFIED:20180114T193956Z
UID:2104-1521963000-1521964800@patriciaparentereiki.com
SUMMARY:Morning Meditation
DESCRIPTION:  \n  \nBring your meditation practice to life and enjoy the convenience of guided meditation from home!  Once registered\, you will receive connection information through Zoom Meetings.
URL:https://patriciaparentereiki.com/event/morning-meditation-11/
END:VEVENT
BEGIN:VEVENT
DTSTART;TZID=UTC:20180321T190000
DTEND;TZID=UTC:20180321T193000
DTSTAMP:20260423T110457
CREATED:20180114T194611Z
LAST-MODIFIED:20180218T012305Z
UID:2116-1521658800-1521660600@patriciaparentereiki.com
SUMMARY:Evening Meditation
DESCRIPTION:  \n  \nBring your meditation practice to life and enjoy the convenience of guided meditation from home!  Once registered\, you will receive connection information through Zoom Meetings.
URL:https://patriciaparentereiki.com/event/evening-meditation-22/
CATEGORIES:Evening Meditations,Meditations
END:VEVENT
BEGIN:VEVENT
DTSTART;TZID=UTC:20180320T190000
DTEND;TZID=UTC:20180320T193000
DTSTAMP:20260423T110457
CREATED:20180114T194503Z
LAST-MODIFIED:20180218T012227Z
UID:2114-1521572400-1521574200@patriciaparentereiki.com
SUMMARY:Evening Meditation
DESCRIPTION:  \n  \nBring your meditation practice to life and enjoy the convenience of guided meditation from home!  Once registered\, you will receive connection information through Zoom Meetings.
URL:https://patriciaparentereiki.com/event/evening-meditation-21/
CATEGORIES:Evening Meditations,Meditations
END:VEVENT
BEGIN:VEVENT
DTSTART;TZID=UTC:20180320T120000
DTEND;TZID=UTC:20180320T120000
DTSTAMP:20260423T110457
CREATED:20180114T200342Z
LAST-MODIFIED:20180114T200342Z
UID:2122-1521547200-1521547200@patriciaparentereiki.com
SUMMARY:Spring Equinox
DESCRIPTION:For the Northern Hemisphere\, the Spring Equinox is the moment when winter ends and spring begins.  It occurs when the Sun reaches its most northern point in the sky at local noon.  On this day\, we enjoy the most daylight of the calendar year.  Many cultures around the world celebrate the Equinox.
URL:https://patriciaparentereiki.com/event/spring-equinox/
END:VEVENT
BEGIN:VEVENT
DTSTART;TZID=UTC:20180318T160000
DTEND;TZID=UTC:20180318T173000
DTSTAMP:20260423T110457
CREATED:20180219T221643Z
LAST-MODIFIED:20180220T004650Z
UID:2259-1521388800-1521394200@patriciaparentereiki.com
SUMMARY:Sound Bath with Stacy Newfeld
DESCRIPTION:A Sound Bath is a meditative improvisational journey that allows the mind and body to easily experience deep states of rest and release. The harmonic vibrations affect every part of the participants’ being. Harmony and healing reaches all levels: physical\, emotional\, and spiritual. \n  \n  \n“It was the most mindful experience I have ever experienced. I was much more aware of  the beautiful sounds around me and gave me a chance to be fully present.”  D.C.\n“The sound bath was a calming experience\, focusing on breathing and listening.” L.F.\nRegister soon to secure your spot! \nTo Register: email or call Pat; reachus@patriciaparentereiki.com or 908-331-1847 \nExchange: $22.00\nAttendees are asked to please bring a comfortable pillow and blanket or yoga mat.  Seating is also available.
URL:https://patriciaparentereiki.com/event/sound-bath-with-stacy-newfeld/
CATEGORIES:Events - Visiting Presenter
END:VEVENT
BEGIN:VEVENT
DTSTART;TZID=UTC:20180318T100000
DTEND;TZID=UTC:20180318T160000
DTSTAMP:20260423T110457
CREATED:20180106T154141Z
LAST-MODIFIED:20180111T032403Z
UID:1876-1521367200-1521388800@patriciaparentereiki.com
SUMMARY:Reiki II - Day 1
DESCRIPTION:This class is the second step in Usui / Tibetan style of Reiki Healing Mastery\, as you continue the journey in self-discovery and learn to provide treatment to others. Through lecture\, demonstration\, discussion\, and hands-on practice\, you will learn the origin\, meaning and uses of the three Second Degree Symbols\, the protocol for treating clients\, and how to establish a Reiki Practice. \nUpon completion\, you will be a Reiki II Practitioner. \n\nLength:  Approximately 12-14 hours of class time over two days\, plus independent study prior to Days 1 and 2.\nClass Size:  Minimum of 3 / maximum of 5 students\nMassage Therapists CE credit:  12 credit hours (NCBTMB AP#1285)\nPrerequisite:  Successful completion of Reiki I\nMaterials:  Included in the exchange for the class are Reiki: The Healing Touch\, First and Second Degree Manual\, along with supplemental charts and materials from Patricia Parente Reiki.\nExchange:  $275\nUpcoming Class Dates: All class dates listed below are tentative and reflect Day 1 of the 2-day format necessary for Reiki II.  Dates are changed and/or become finalized based on student requests and instructor availability.\nReiki II – March 18\, 2018; June 10\, 2018; 10:00 AM
URL:https://patriciaparentereiki.com/event/reiki-ii-day-1/
CATEGORIES:Reiki Classes
END:VEVENT
BEGIN:VEVENT
DTSTART;TZID=UTC:20180318T073000
DTEND;TZID=UTC:20180318T080000
DTSTAMP:20260423T110457
CREATED:20180114T193907Z
LAST-MODIFIED:20180218T012152Z
UID:2102-1521358200-1521360000@patriciaparentereiki.com
SUMMARY:Morning Meditation
DESCRIPTION:  \n  \nBring your meditation practice to life and enjoy the convenience of guided meditation from home!  Once registered\, you will receive connection information through Zoom Meetings.
URL:https://patriciaparentereiki.com/event/morning-meditation-10/
CATEGORIES:Meditations,Morning Meditations
END:VEVENT
BEGIN:VEVENT
DTSTART;TZID=UTC:20180316T170000
DTEND;TZID=UTC:20180316T180000
DTSTAMP:20260423T110457
CREATED:20180114T200801Z
LAST-MODIFIED:20180218T012118Z
UID:2126-1521219600-1521223200@patriciaparentereiki.com
SUMMARY:Reiki Circle
DESCRIPTION:It is not necessary to be a Reiki Practitioner or to have previously received Reiki to attend this Circle. You will enjoy a Guided Meditation and experience soothing Reiki energy.
URL:https://patriciaparentereiki.com/event/reiki-circle-6/
CATEGORIES:Reiki Circles
END:VEVENT
BEGIN:VEVENT
DTSTART;TZID=UTC:20180314T190000
DTEND;TZID=UTC:20180314T193000
DTSTAMP:20260423T110457
CREATED:20180114T194412Z
LAST-MODIFIED:20180217T213749Z
UID:2112-1521054000-1521055800@patriciaparentereiki.com
SUMMARY:Evening Meditation
DESCRIPTION:  \n  \nBring your meditation practice to life and enjoy the convenience of guided meditation from home!  Once registered\, you will receive connection information through Zoom Meetings.
URL:https://patriciaparentereiki.com/event/evening-meditation-20/
CATEGORIES:Evening Meditations,Meditations
END:VEVENT
BEGIN:VEVENT
DTSTART;TZID=UTC:20180313T190000
DTEND;TZID=UTC:20180313T193000
DTSTAMP:20260423T110457
CREATED:20180114T194320Z
LAST-MODIFIED:20180217T213715Z
UID:2110-1520967600-1520969400@patriciaparentereiki.com
SUMMARY:Evening Meditation
DESCRIPTION:  \n  \nBring your meditation practice to life and enjoy the convenience of guided meditation from home!  Once registered\, you will receive connection information through Zoom Meetings.
URL:https://patriciaparentereiki.com/event/evening-meditation-19/
CATEGORIES:Evening Meditations,Meditations
END:VEVENT
BEGIN:VEVENT
DTSTART;TZID=UTC:20180312T100000
DTEND;TZID=UTC:20180312T110000
DTSTAMP:20260423T110457
CREATED:20180114T200655Z
LAST-MODIFIED:20180217T213616Z
UID:2124-1520848800-1520852400@patriciaparentereiki.com
SUMMARY:Reiki Circle
DESCRIPTION:It is not necessary to be a Reiki Practitioner or to have previously received Reiki to attend this Circle. You will enjoy a Guided Meditation and experience soothing Reiki energy.
URL:https://patriciaparentereiki.com/event/reiki-circle-5/
CATEGORIES:Reiki Circles
END:VEVENT
END:VCALENDAR