BEGIN:VCALENDAR
VERSION:2.0
PRODID:-//Patricia Parente Reiki - ECPv6.15.20//NONSGML v1.0//EN
CALSCALE:GREGORIAN
METHOD:PUBLISH
X-WR-CALNAME:Patricia Parente Reiki
X-ORIGINAL-URL:https://patriciaparentereiki.com
X-WR-CALDESC:Events for Patricia Parente Reiki
REFRESH-INTERVAL;VALUE=DURATION:PT1H
X-Robots-Tag:noindex
X-PUBLISHED-TTL:PT1H
BEGIN:VTIMEZONE
TZID:UTC
BEGIN:STANDARD
TZOFFSETFROM:+0000
TZOFFSETTO:+0000
TZNAME:UTC
DTSTART:20160101T000000
END:STANDARD
END:VTIMEZONE
BEGIN:VEVENT
DTSTART;TZID=UTC:20180215T064500
DTEND;TZID=UTC:20180215T070000
DTSTAMP:20260423T154306
CREATED:20180106T193043Z
LAST-MODIFIED:20180214T031302Z
UID:1951-1518677100-1518678000@patriciaparentereiki.com
SUMMARY:Morning Meditation
DESCRIPTION:Bring your meditation practice to life and enjoy the convenience of guided meditation from home!  Once registered\, you will receive connection information through Zoom Meetings.
URL:https://patriciaparentereiki.com/event/evening-meditation-11/
CATEGORIES:Evening Meditations,Meditations
END:VEVENT
BEGIN:VEVENT
DTSTART;TZID=UTC:20180213T190000
DTEND;TZID=UTC:20180213T193000
DTSTAMP:20260423T154306
CREATED:20180106T193409Z
LAST-MODIFIED:20180109T030749Z
UID:1955-1518548400-1518550200@patriciaparentereiki.com
SUMMARY:Evening Meditation
DESCRIPTION:Bring your meditation practice to life and enjoy the convenience of guided meditation from home!  Once registered\, you will receive connection information through Zoom Meetings.
URL:https://patriciaparentereiki.com/event/evening-meditation-13/
CATEGORIES:Evening Meditations,Meditations
END:VEVENT
BEGIN:VEVENT
DTSTART;TZID=UTC:20180212T100000
DTEND;TZID=UTC:20180212T110000
DTSTAMP:20260423T154306
CREATED:20180111T031626Z
LAST-MODIFIED:20180111T031626Z
UID:2081-1518429600-1518433200@patriciaparentereiki.com
SUMMARY:Reiki Circle
DESCRIPTION:  \nIt is not necessary to be a Reiki Practitioner or to have previously received Reiki to attend this Circle. You will enjoy a Guided Meditation and experience soothing Reiki energy.
URL:https://patriciaparentereiki.com/event/reiki-circle-2/
END:VEVENT
BEGIN:VEVENT
DTSTART;TZID=UTC:20180211T073000
DTEND;TZID=UTC:20180211T080000
DTSTAMP:20260423T154306
CREATED:20180106T185940Z
LAST-MODIFIED:20180109T030724Z
UID:1925-1518334200-1518336000@patriciaparentereiki.com
SUMMARY:Morning Meditation
DESCRIPTION:Bring your meditation practice to life and enjoy the convenience of guided meditation from home!  Once registered\, you will receive connection information through Zoom Meetings.
URL:https://patriciaparentereiki.com/event/morning-meditation-5/
CATEGORIES:Meditations,Morning Meditations
END:VEVENT
BEGIN:VEVENT
DTSTART;TZID=UTC:20180207T190000
DTEND;TZID=UTC:20180207T193000
DTSTAMP:20260423T154306
CREATED:20180106T192942Z
LAST-MODIFIED:20180109T022212Z
UID:1947-1518030000-1518031800@patriciaparentereiki.com
SUMMARY:Evening Meditation
DESCRIPTION:  \nBring your meditation practice to life and enjoy the convenience of guided meditation from home!  Once registered\, you will receive connection information through Zoom Meetings.
URL:https://patriciaparentereiki.com/event/evening-meditation-9/
CATEGORIES:Evening Meditations,Meditations
END:VEVENT
BEGIN:VEVENT
DTSTART;TZID=UTC:20180206T190000
DTEND;TZID=UTC:20180206T193000
DTSTAMP:20260423T154306
CREATED:20180106T193014Z
LAST-MODIFIED:20180109T024039Z
UID:1949-1517943600-1517945400@patriciaparentereiki.com
SUMMARY:Evening Meditation
DESCRIPTION:Bring your meditation practice to life and enjoy the convenience of guided meditation from home!  Once registered\, you will receive connection information through Zoom Meetings.
URL:https://patriciaparentereiki.com/event/evening-meditation-10/
CATEGORIES:Evening Meditations,Meditations
END:VEVENT
BEGIN:VEVENT
DTSTART;TZID=UTC:20180204T073000
DTEND;TZID=UTC:20180204T080000
DTSTAMP:20260423T154306
CREATED:20180106T185409Z
LAST-MODIFIED:20180109T024009Z
UID:1923-1517729400-1517731200@patriciaparentereiki.com
SUMMARY:Morning Meditation
DESCRIPTION:Bring your meditation practice to life and enjoy the convenience of guided meditation from home!  Once registered\, you will receive connection information through Zoom Meetings.
URL:https://patriciaparentereiki.com/event/morning-meditation-4/
CATEGORIES:Meditations,Morning Meditations
END:VEVENT
BEGIN:VEVENT
DTSTART;TZID=UTC:20180131T190000
DTEND;TZID=UTC:20180131T193000
DTSTAMP:20260423T154306
CREATED:20180106T192041Z
LAST-MODIFIED:20180109T023931Z
UID:1943-1517425200-1517427000@patriciaparentereiki.com
SUMMARY:Evening Meditation
DESCRIPTION:Bring your meditation practice to life and enjoy the convenience of guided meditation from home!  Once registered\, you will receive connection information through Zoom Meetings.
URL:https://patriciaparentereiki.com/event/evening-meditation-7/
CATEGORIES:Evening Meditations,Meditations
END:VEVENT
BEGIN:VEVENT
DTSTART;TZID=UTC:20180130T190000
DTEND;TZID=UTC:20180130T193000
DTSTAMP:20260423T154306
CREATED:20180106T192113Z
LAST-MODIFIED:20180109T023908Z
UID:1945-1517338800-1517340600@patriciaparentereiki.com
SUMMARY:Evening Meditation
DESCRIPTION:Bring your meditation practice to life and enjoy the convenience of guided meditation from home!  Once registered\, you will receive connection information through Zoom Meetings.
URL:https://patriciaparentereiki.com/event/evening-meditation-8/
CATEGORIES:Evening Meditations,Meditations
END:VEVENT
BEGIN:VEVENT
DTSTART;TZID=UTC:20180128T073000
DTEND;TZID=UTC:20180128T080000
DTSTAMP:20260423T154306
CREATED:20180106T184820Z
LAST-MODIFIED:20180109T023835Z
UID:1921-1517124600-1517126400@patriciaparentereiki.com
SUMMARY:Morning Meditation
DESCRIPTION:Bring your meditation practice to life and enjoy the convenience of guided meditation from home!  Once registered\, you will receive connection information through Zoom Meetings.
URL:https://patriciaparentereiki.com/event/morning-meditation-3/
CATEGORIES:Meditations,Morning Meditations
END:VEVENT
BEGIN:VEVENT
DTSTART;TZID=UTC:20180127T100000
DTEND;TZID=UTC:20180127T113000
DTSTAMP:20260423T154306
CREATED:20180106T173922Z
LAST-MODIFIED:20180109T032350Z
UID:1917-1517047200-1517052600@patriciaparentereiki.com
SUMMARY:Intro to Reiki
DESCRIPTION:This introductory workshop is designed to provide a basic understanding of Reiki energy\, its origin\, founders\, levels of healing\, and attunement.  You will also experience a Guided Meditation on the Five Reiki Principles. \n\nLength:  One 90-minute session\nClass Size:  Unlimited\nPrerequisite:  None\nMaterials:  Included in the exchange for the workshop are charts and materials from Patricia Parente Reiki.\nExchange:  $30*\n*Take the workshop and receive a $10.00 discount on the exchange for a Reiki I class!
URL:https://patriciaparentereiki.com/event/intro-to-reiki/
CATEGORIES:Reiki Classes,Workshops
ATTACH;FMTTYPE=image/jpeg:https://patriciaparentereiki.com/wp-content/uploads/2015/06/200h_K5T_8400.jpg
END:VEVENT
BEGIN:VEVENT
DTSTART;TZID=UTC:20180124T190000
DTEND;TZID=UTC:20180124T193000
DTSTAMP:20260423T154306
CREATED:20180106T191930Z
LAST-MODIFIED:20180109T023809Z
UID:1939-1516820400-1516822200@patriciaparentereiki.com
SUMMARY:Evening Meditation
DESCRIPTION:Bring your meditation practice to life and enjoy the convenience of guided meditation from home!  Once registered\, you will receive connection information through Zoom Meetings.
URL:https://patriciaparentereiki.com/event/evening-meditation-5/
CATEGORIES:Evening Meditations,Meditations
END:VEVENT
BEGIN:VEVENT
DTSTART;TZID=UTC:20180123T190000
DTEND;TZID=UTC:20180123T193000
DTSTAMP:20260423T154306
CREATED:20180106T191958Z
LAST-MODIFIED:20180109T023743Z
UID:1941-1516734000-1516735800@patriciaparentereiki.com
SUMMARY:Evening Meditation
DESCRIPTION:Bring your meditation practice to life and enjoy the convenience of guided meditation from home!  Once registered\, you will receive connection information through Zoom Meetings.
URL:https://patriciaparentereiki.com/event/evening-meditation-6/
CATEGORIES:Evening Meditations,Meditations
END:VEVENT
BEGIN:VEVENT
DTSTART;TZID=UTC:20180121T073000
DTEND;TZID=UTC:20180121T080000
DTSTAMP:20260423T154306
CREATED:20180106T155237Z
LAST-MODIFIED:20180109T023718Z
UID:1886-1516519800-1516521600@patriciaparentereiki.com
SUMMARY:Morning Meditation
DESCRIPTION:Bring your meditation practice to life and enjoy the convenience of guided meditation from home!  Once registered\, you will receive connection information through Zoom Meetings.
URL:https://patriciaparentereiki.com/event/morning-meditation-2/
CATEGORIES:Meditations,Morning Meditations
END:VEVENT
BEGIN:VEVENT
DTSTART;TZID=UTC:20180120T100000
DTEND;TZID=UTC:20180120T140000
DTSTAMP:20260423T154306
CREATED:20180106T154405Z
LAST-MODIFIED:20180128T225251Z
UID:1880-1516442400-1516456800@patriciaparentereiki.com
SUMMARY:Chakra Workshop
DESCRIPTION:Chakras are energy centers in the body.  There are seven main Chakras starting from the base of the spine through to the crown of the head.  Clearing and strengthening the Chakras can bring about a significant improvement in how we feel both physically and emotionally\, as well as restore a feeling of balance in our lives.  We will explore the significance of each Chakra\, the potential physical and emotional impact if it is out of balance\, and what you can do to bring it back into balance. \nParticipants will:\n* experience a meditation\, which includes the corresponding mantra (chant);\n* receive 2 crystals for each Chakra;\n* learn a simple yoga posture to open each Chakra;\n* learn the nutritional aspect of support for each Chakra; and\n* receive handouts containing key points of information discussed. \nDate: Saturday\, January 20\, 2018 @ 10:00 AM\nRegister soon to secure your spot; simply contact Pat.\nExchange: $68.00 \nSee the Testimonials Page to read Participants feedback!
URL:https://patriciaparentereiki.com/event/chakra-workshop/
CATEGORIES:Chakra Workshops,Workshops
END:VEVENT
BEGIN:VEVENT
DTSTART;TZID=UTC:20180117T190000
DTEND;TZID=UTC:20180117T193000
DTSTAMP:20260423T154306
CREATED:20180106T191654Z
LAST-MODIFIED:20180109T023651Z
UID:1935-1516215600-1516217400@patriciaparentereiki.com
SUMMARY:Evening Meditation
DESCRIPTION:Bring your meditation practice to life and enjoy the convenience of guided meditation from home!  Once registered\, you will receive connection information through Zoom Meetings.
URL:https://patriciaparentereiki.com/event/evening-meditation-2/
CATEGORIES:Evening Meditations,Meditations
END:VEVENT
BEGIN:VEVENT
DTSTART;TZID=UTC:20180116T190000
DTEND;TZID=UTC:20180116T193000
DTSTAMP:20260423T154306
CREATED:20180106T191724Z
LAST-MODIFIED:20180109T023626Z
UID:1937-1516129200-1516131000@patriciaparentereiki.com
SUMMARY:Evening Meditation
DESCRIPTION:Bring your meditation practice to life and enjoy the convenience of guided meditation from home!  Once registered\, you will receive connection information through Zoom Meetings.
URL:https://patriciaparentereiki.com/event/evening-meditation-4/
CATEGORIES:Evening Meditations,Meditations
END:VEVENT
BEGIN:VEVENT
DTSTART;TZID=UTC:20180115T100000
DTEND;TZID=UTC:20180115T110000
DTSTAMP:20260423T154306
CREATED:20180106T153732Z
LAST-MODIFIED:20180115T015028Z
UID:1869-1516010400-1516014000@patriciaparentereiki.com
SUMMARY:Reiki Circle
DESCRIPTION:It is not necessary to be a Reiki Practitioner or to have previously received Reiki to attend this Circle. You will enjoy a Guided Meditation and experience soothing Reiki energy.
URL:https://patriciaparentereiki.com/event/reiki-circle/
CATEGORIES:Reiki Circles
ATTACH;FMTTYPE=image/jpeg:https://patriciaparentereiki.com/wp-content/uploads/2015/06/K5T_8461.jpg
END:VEVENT
BEGIN:VEVENT
DTSTART;TZID=UTC:20180114T073000
DTEND;TZID=UTC:20180114T080000
DTSTAMP:20260423T154306
CREATED:20180106T155201Z
LAST-MODIFIED:20180109T023558Z
UID:1884-1515915000-1515916800@patriciaparentereiki.com
SUMMARY:Morning Meditation
DESCRIPTION:Bring your meditation practice to life and enjoy the convenience of guided meditation from home!  Once registered\, you will receive connection information through Zoom Meetings.
URL:https://patriciaparentereiki.com/event/morning-meditation/
CATEGORIES:Meditations,Morning Meditations
END:VEVENT
BEGIN:VEVENT
DTSTART;TZID=UTC:20180112T170000
DTEND;TZID=UTC:20180112T180000
DTSTAMP:20260423T154306
CREATED:20180106T174330Z
LAST-MODIFIED:20180114T200900Z
UID:1919-1515776400-1515780000@patriciaparentereiki.com
SUMMARY:Reiki Circle
DESCRIPTION:It is not necessary to be a Reiki Practitioner or to have previously received Reiki to attend this Circle. You will enjoy a Guided Meditation and experience soothing Reiki energy.
URL:https://patriciaparentereiki.com/event/reiki-circle-3/
CATEGORIES:Reiki Circles
ATTACH;FMTTYPE=image/jpeg:https://patriciaparentereiki.com/wp-content/uploads/2015/06/K5T_8461.jpg
END:VEVENT
BEGIN:VEVENT
DTSTART;TZID=UTC:20180110T190000
DTEND;TZID=UTC:20180110T193000
DTSTAMP:20260423T154306
CREATED:20180106T191452Z
LAST-MODIFIED:20180109T023527Z
UID:1933-1515610800-1515612600@patriciaparentereiki.com
SUMMARY:Evening Meditation
DESCRIPTION:Bring your meditation practice to life and enjoy the convenience of guided meditation from home!  Once registered\, you will receive connection information through Zoom Meetings.
URL:https://patriciaparentereiki.com/event/evening-meditation-3/
CATEGORIES:Evening Meditations,Meditations
END:VEVENT
BEGIN:VEVENT
DTSTART;TZID=UTC:20180109T190000
DTEND;TZID=UTC:20180109T193000
DTSTAMP:20260423T154306
CREATED:20180106T163400Z
LAST-MODIFIED:20180109T023446Z
UID:1900-1515524400-1515526200@patriciaparentereiki.com
SUMMARY:Evening Meditation
DESCRIPTION:Bring your meditation practice to life and enjoy the convenience of guided meditation from home!  Once registered\, you will receive connection information through Zoom Meetings.
URL:https://patriciaparentereiki.com/event/evening-meditation/
CATEGORIES:Evening Meditations,Meditations
END:VEVENT
BEGIN:VEVENT
DTSTART;TZID=UTC:20180107T073000
DTEND;TZID=UTC:20180107T080000
DTSTAMP:20260423T154306
CREATED:20180106T154619Z
LAST-MODIFIED:20180109T023233Z
UID:1882-1515310200-1515312000@patriciaparentereiki.com
SUMMARY:Morning Meditation
DESCRIPTION:Bring your meditation practice to life and enjoy the convenience of guided meditation from home!  Once registered\, you will receive connection information through Zoom Meetings.
URL:https://patriciaparentereiki.com/event/morning-meditations/
CATEGORIES:Meditations,Morning Meditations
END:VEVENT
BEGIN:VEVENT
DTSTART;VALUE=DATE:20171217
DTEND;VALUE=DATE:20171218
DTSTAMP:20260423T154306
CREATED:20180106T162848Z
LAST-MODIFIED:20180106T163709Z
UID:1895-1513468800-1513555199@patriciaparentereiki.com
SUMMARY:Winter Solstice 2017
DESCRIPTION:*Guided Meditation * Reiki * Sound Bath*\nwith Pat Parente and Stacy Newfeld!\nAt the time of the Winter Solstice we look into our hearts and bring forth our desires and intentions for the coming year.  We allow the dream of our best selves to be known to us. \nThis year AA Metatron encourages us to establish / strengthen the connection to our Higher Self through a guided Transpersonal* Chakra meditation.  During the meditation you will receive Reiki energy from Pat and be bathed in Sound by Stacy. \n*Connect to the chakras above and below the body\, access the Divine energies of the Sun and open/strengthen the pathway to your Higher Self.  This allows an experience in which the sense of identity or self extends beyond (‘trans’) the individual or personal to encompass wider aspects of humankind\, life\, psyche or cosmos. \nDate: Sunday\, December 17 @ 3:00 PM\nArrive by 2:30 PM; event is expected to be 90+ minutes in length\nAttendees are asked to bring a yoga mat or blanket and a pillow; seating is also available.  Register soon to secure your spot; simply contact Pat.\nExchange: $44.00
URL:https://patriciaparentereiki.com/event/1895/
CATEGORIES:Events - Seasonal
END:VEVENT
END:VCALENDAR